| Back to Multiple platform build/check report for BioC 3.13 |
|
This page was generated on 2021-10-15 15:05:57 -0400 (Fri, 15 Oct 2021).
|
To the developers/maintainers of the agilp package: - Please allow up to 24 hours (and sometimes 48 hours) for your latest push to git@git.bioconductor.org:packages/agilp.git to reflect on this report. See How and When does the builder pull? When will my changes propagate? here for more information. - Make sure to use the following settings in order to reproduce any error or warning you see on this page. |
| Package 38/2041 | Hostname | OS / Arch | INSTALL | BUILD | CHECK | BUILD BIN | ||||||||
| agilp 3.24.0 (landing page) Benny Chain
| nebbiolo1 | Linux (Ubuntu 20.04.2 LTS) / x86_64 | OK | OK | OK | |||||||||
| tokay2 | Windows Server 2012 R2 Standard / x64 | OK | OK | OK | OK | |||||||||
| machv2 | macOS 10.14.6 Mojave / x86_64 | OK | OK | OK | OK | |||||||||
| Package: agilp |
| Version: 3.24.0 |
| Command: rm -rf agilp.buildbin-libdir && mkdir agilp.buildbin-libdir && C:\Users\biocbuild\bbs-3.13-bioc\R\bin\R.exe CMD INSTALL --merge-multiarch --build --library=agilp.buildbin-libdir agilp_3.24.0.tar.gz |
| StartedAt: 2021-10-15 07:57:02 -0400 (Fri, 15 Oct 2021) |
| EndedAt: 2021-10-15 07:58:15 -0400 (Fri, 15 Oct 2021) |
| EllapsedTime: 73.0 seconds |
| RetCode: 0 |
| Status: OK |
| PackageFile: agilp_3.24.0.zip |
| PackageFileSize: 465.7 KiB |
##############################################################################
##############################################################################
###
### Running command:
###
### rm -rf agilp.buildbin-libdir && mkdir agilp.buildbin-libdir && C:\Users\biocbuild\bbs-3.13-bioc\R\bin\R.exe CMD INSTALL --merge-multiarch --build --library=agilp.buildbin-libdir agilp_3.24.0.tar.gz
###
##############################################################################
##############################################################################
install for i386
* installing *source* package 'agilp' ...
** using staged installation
** R
** inst
** byte-compile and prepare package for lazy loading
** help
*** installing help indices
converting help for package 'agilp'
finding HTML links ... done
AALoess html
AAProcess html
Baseline html
Equaliser html
IDswop html
Loader html
filenamex html
** building package indices
** installing vignettes
** testing if installed package can be loaded from temporary location
** testing if installed package can be loaded from final location
** testing if installed package keeps a record of temporary installation path
install for x64
* installing *source* package 'agilp' ...
** testing if installed package can be loaded
* MD5 sums
packaged installation of 'agilp' as agilp_3.24.0.zip
* DONE (agilp)