| Back to Multiple platform build/check report for BioC 3.13 |
|
This page was generated on 2021-10-15 15:05:57 -0400 (Fri, 15 Oct 2021).
|
To the developers/maintainers of the affyPara package: - Please allow up to 24 hours (and sometimes 48 hours) for your latest push to git@git.bioconductor.org:packages/affyPara.git to reflect on this report. See How and When does the builder pull? When will my changes propagate? here for more information. - Make sure to use the following settings in order to reproduce any error or warning you see on this page. |
| Package 32/2041 | Hostname | OS / Arch | INSTALL | BUILD | CHECK | BUILD BIN | ||||||||
| affyPara 1.52.0 (landing page) Markus Schmidberger
| nebbiolo1 | Linux (Ubuntu 20.04.2 LTS) / x86_64 | ERROR | ERROR | skipped | |||||||||
| tokay2 | Windows Server 2012 R2 Standard / x64 | ERROR | ERROR | skipped | skipped | |||||||||
| machv2 | macOS 10.14.6 Mojave / x86_64 | ERROR | ERROR | skipped | skipped | |||||||||
| Package: affyPara |
| Version: 1.52.0 |
| Command: C:\cygwin\bin\curl.exe -O http://155.52.207.165/BBS/3.13/bioc/src/contrib/affyPara_1.52.0.tar.gz && rm -rf affyPara.buildbin-libdir && mkdir affyPara.buildbin-libdir && C:\Users\biocbuild\bbs-3.13-bioc\R\bin\R.exe CMD INSTALL --merge-multiarch --build --library=affyPara.buildbin-libdir affyPara_1.52.0.tar.gz && C:\Users\biocbuild\bbs-3.13-bioc\R\bin\R.exe CMD INSTALL affyPara_1.52.0.zip && rm affyPara_1.52.0.tar.gz affyPara_1.52.0.zip |
| StartedAt: 2021-10-14 08:29:07 -0400 (Thu, 14 Oct 2021) |
| EndedAt: 2021-10-14 08:29:58 -0400 (Thu, 14 Oct 2021) |
| EllapsedTime: 51.2 seconds |
| RetCode: 1 |
| Status: ERROR |
##############################################################################
##############################################################################
###
### Running command:
###
### C:\cygwin\bin\curl.exe -O http://155.52.207.165/BBS/3.13/bioc/src/contrib/affyPara_1.52.0.tar.gz && rm -rf affyPara.buildbin-libdir && mkdir affyPara.buildbin-libdir && C:\Users\biocbuild\bbs-3.13-bioc\R\bin\R.exe CMD INSTALL --merge-multiarch --build --library=affyPara.buildbin-libdir affyPara_1.52.0.tar.gz && C:\Users\biocbuild\bbs-3.13-bioc\R\bin\R.exe CMD INSTALL affyPara_1.52.0.zip && rm affyPara_1.52.0.tar.gz affyPara_1.52.0.zip
###
##############################################################################
##############################################################################
% Total % Received % Xferd Average Speed Time Time Time Current
Dload Upload Total Spent Left Speed
0 0 0 0 0 0 0 0 --:--:-- --:--:-- --:--:-- 0
100 260k 100 260k 0 0 840k 0 --:--:-- --:--:-- --:--:-- 842k
install for i386
* installing *source* package 'affyPara' ...
** using staged installation
** R
** byte-compile and prepare package for lazy loading
** help
*** installing help indices
converting help for package 'affyPara'
finding HTML links ... done
MAplotPara html
bgcPara html
boxplotPara html
class.vsnInputPara html
computeExprSetPara html
distributeFiles html
mergeSplitObjects html
normalizeAffyBatchConstantPara html
normalizeAffyBatchInvariantsetPara html
normalizeAffyBatchLoessPara html
normalizeAffyBatchLoessParaIter html
normalizeAffyBatchQuantilesPara html
preproPara html
qa html
readAffybatchPara html
removeDistributedFiles html
rmaPara html
snowReplace html
split html
vsnPara html
finding level-2 HTML links ... done
** building package indices
** installing vignettes
** testing if installed package can be loaded from temporary location
Error: package or namespace load failed for 'affyPara':
.onLoad failed in loadNamespace() for 'affyPara', details:
call: assign(".affyParaInternalEnv", .affyParaInternalEnv, envir = topenv(parent.frame()))
error: cannot add binding of '.affyParaInternalEnv' to the base environment
Error: loading failed
Execution halted
ERROR: loading failed
* removing 'C:/Users/biocbuild/bbs-3.13-bioc/meat/affyPara.buildbin-libdir/affyPara'