| Back to Multiple platform build/check report for BioC 3.13 | 
 | 
This page was generated on 2021-10-15 15:05:57 -0400 (Fri, 15 Oct 2021).
| To the developers/maintainers of the affyContam package: - Please allow up to 24 hours (and sometimes 48 hours) for your latest push to git@git.bioconductor.org:packages/affyContam.git to reflect on this report. See How and When does the builder pull? When will my changes propagate? here for more information. - Make sure to use the following settings in order to reproduce any error or warning you see on this page. | 
| Package 26/2041 | Hostname | OS / Arch | INSTALL | BUILD | CHECK | BUILD BIN | ||||||||
| affyContam 1.50.0  (landing page) V. Carey 
 | nebbiolo1 | Linux (Ubuntu 20.04.2 LTS) / x86_64 | OK | OK | OK |  | ||||||||
| tokay2 | Windows Server 2012 R2 Standard / x64 | OK | OK | OK | OK |  | ||||||||
| machv2 | macOS 10.14.6 Mojave / x86_64 | OK | OK | OK | OK |  | ||||||||
| Package: affyContam | 
| Version: 1.50.0 | 
| Command: C:\cygwin\bin\curl.exe -O http://155.52.207.165/BBS/3.13/bioc/src/contrib/affyContam_1.50.0.tar.gz && rm -rf affyContam.buildbin-libdir && mkdir affyContam.buildbin-libdir && C:\Users\biocbuild\bbs-3.13-bioc\R\bin\R.exe CMD INSTALL --merge-multiarch --build --library=affyContam.buildbin-libdir affyContam_1.50.0.tar.gz && C:\Users\biocbuild\bbs-3.13-bioc\R\bin\R.exe CMD INSTALL affyContam_1.50.0.zip && rm affyContam_1.50.0.tar.gz affyContam_1.50.0.zip | 
| StartedAt: 2021-10-14 07:54:53 -0400 (Thu, 14 Oct 2021) | 
| EndedAt: 2021-10-14 07:55:28 -0400 (Thu, 14 Oct 2021) | 
| EllapsedTime: 35.3 seconds | 
| RetCode: 0 | 
| Status: OK | 
##############################################################################
##############################################################################
###
### Running command:
###
###   C:\cygwin\bin\curl.exe -O http://155.52.207.165/BBS/3.13/bioc/src/contrib/affyContam_1.50.0.tar.gz && rm -rf affyContam.buildbin-libdir && mkdir affyContam.buildbin-libdir && C:\Users\biocbuild\bbs-3.13-bioc\R\bin\R.exe CMD INSTALL --merge-multiarch --build --library=affyContam.buildbin-libdir affyContam_1.50.0.tar.gz && C:\Users\biocbuild\bbs-3.13-bioc\R\bin\R.exe CMD INSTALL affyContam_1.50.0.zip && rm affyContam_1.50.0.tar.gz affyContam_1.50.0.zip
###
##############################################################################
##############################################################################
  % Total    % Received % Xferd  Average Speed   Time    Time     Time  Current
                                 Dload  Upload   Total   Spent    Left  Speed
  0     0    0     0    0     0      0      0 --:--:-- --:--:-- --:--:--     0
100  219k  100  219k    0     0   835k      0 --:--:-- --:--:-- --:--:--  839k
install for i386
* installing *source* package 'affyContam' ...
** using staged installation
** R
** byte-compile and prepare package for lazy loading
     Package    LibPath                                      Item      
[1,] "affydata" "C:/Users/biocbuild/bbs-3.13-bioc/R/library" "Dilution"
     Title                        
[1,] "AffyBatch instance Dilution"
** help
*** installing help indices
  converting help for package 'affyContam'
    finding HTML links ... done
    setRectRegion                           html  
** building package indices
** installing vignettes
** testing if installed package can be loaded from temporary location
     Package    LibPath                                      Item      
[1,] "affydata" "C:/Users/biocbuild/bbs-3.13-bioc/R/library" "Dilution"
     Title                        
[1,] "AffyBatch instance Dilution"
** testing if installed package can be loaded from final location
     Package    LibPath                                      Item      
[1,] "affydata" "C:/Users/biocbuild/bbs-3.13-bioc/R/library" "Dilution"
     Title                        
[1,] "AffyBatch instance Dilution"
** testing if installed package keeps a record of temporary installation path
install for x64
* installing *source* package 'affyContam' ...
** testing if installed package can be loaded
     Package    LibPath                                      Item      
[1,] "affydata" "C:/Users/biocbuild/bbs-3.13-bioc/R/library" "Dilution"
     Title                        
[1,] "AffyBatch instance Dilution"
* MD5 sums
packaged installation of 'affyContam' as affyContam_1.50.0.zip
* DONE (affyContam)
* installing to library 'C:/Users/biocbuild/bbs-3.13-bioc/R/library'
package 'affyContam' successfully unpacked and MD5 sums checked