| Back to Multiple platform build/check report for BioC 3.13 |
|
This page was generated on 2021-10-15 15:05:56 -0400 (Fri, 15 Oct 2021).
|
To the developers/maintainers of the affy package: - Please allow up to 24 hours (and sometimes 48 hours) for your latest push to git@git.bioconductor.org:packages/affy.git to reflect on this report. See How and When does the builder pull? When will my changes propagate? here for more information. - Make sure to use the following settings in order to reproduce any error or warning you see on this page. |
| Package 23/2041 | Hostname | OS / Arch | INSTALL | BUILD | CHECK | BUILD BIN | ||||||||
| affy 1.70.0 (landing page) Rafael A. Irizarry
| nebbiolo1 | Linux (Ubuntu 20.04.2 LTS) / x86_64 | OK | OK | WARNINGS | |||||||||
| tokay2 | Windows Server 2012 R2 Standard / x64 | OK | OK | WARNINGS | OK | |||||||||
| machv2 | macOS 10.14.6 Mojave / x86_64 | OK | OK | WARNINGS | OK | |||||||||
| Package: affy |
| Version: 1.70.0 |
| Command: C:\cygwin\bin\curl.exe -O http://155.52.207.165/BBS/3.13/bioc/src/contrib/affy_1.70.0.tar.gz && rm -rf affy.buildbin-libdir && mkdir affy.buildbin-libdir && C:\Users\biocbuild\bbs-3.13-bioc\R\bin\R.exe CMD INSTALL --merge-multiarch --build --library=affy.buildbin-libdir affy_1.70.0.tar.gz && C:\Users\biocbuild\bbs-3.13-bioc\R\bin\R.exe CMD INSTALL affy_1.70.0.zip && rm affy_1.70.0.tar.gz affy_1.70.0.zip |
| StartedAt: 2021-10-14 07:49:51 -0400 (Thu, 14 Oct 2021) |
| EndedAt: 2021-10-14 07:50:37 -0400 (Thu, 14 Oct 2021) |
| EllapsedTime: 45.8 seconds |
| RetCode: 0 |
| Status: OK |
##############################################################################
##############################################################################
###
### Running command:
###
### C:\cygwin\bin\curl.exe -O http://155.52.207.165/BBS/3.13/bioc/src/contrib/affy_1.70.0.tar.gz && rm -rf affy.buildbin-libdir && mkdir affy.buildbin-libdir && C:\Users\biocbuild\bbs-3.13-bioc\R\bin\R.exe CMD INSTALL --merge-multiarch --build --library=affy.buildbin-libdir affy_1.70.0.tar.gz && C:\Users\biocbuild\bbs-3.13-bioc\R\bin\R.exe CMD INSTALL affy_1.70.0.zip && rm affy_1.70.0.tar.gz affy_1.70.0.zip
###
##############################################################################
##############################################################################
% Total % Received % Xferd Average Speed Time Time Time Current
Dload Upload Total Spent Left Speed
0 0 0 0 0 0 0 0 --:--:-- --:--:-- --:--:-- 0
79 286k 79 228k 0 0 773k 0 --:--:-- --:--:-- --:--:-- 773k
100 286k 100 286k 0 0 966k 0 --:--:-- --:--:-- --:--:-- 966k
install for i386
* installing *source* package 'affy' ...
** using staged installation
**********************************************
WARNING: this package has a configure script
It probably needs manual configuration
**********************************************
** libs
"C:/rtools40/mingw32/bin/"gcc -I"C:/Users/biocbuild/bbs-3.13-bioc/R/library/zlibbioc/include" -I"C:/Users/BIOCBU~1/BBS-3~1.13-/R/include" -DNDEBUG -DHAVE_ZLIB -I'C:/Users/biocbuild/bbs-3.13-bioc/R/library/preprocessCore/include' -I"c:/extsoft/include" -O2 -Wall -std=gnu99 -mfpmath=sse -msse2 -mstackrealign -c chipbackground.c -o chipbackground.o
"C:/rtools40/mingw32/bin/"gcc -I"C:/Users/biocbuild/bbs-3.13-bioc/R/library/zlibbioc/include" -I"C:/Users/BIOCBU~1/BBS-3~1.13-/R/include" -DNDEBUG -DHAVE_ZLIB -I'C:/Users/biocbuild/bbs-3.13-bioc/R/library/preprocessCore/include' -I"c:/extsoft/include" -O2 -Wall -std=gnu99 -mfpmath=sse -msse2 -mstackrealign -c getall_locations.c -o getall_locations.o
"C:/rtools40/mingw32/bin/"gcc -I"C:/Users/biocbuild/bbs-3.13-bioc/R/library/zlibbioc/include" -I"C:/Users/BIOCBU~1/BBS-3~1.13-/R/include" -DNDEBUG -DHAVE_ZLIB -I'C:/Users/biocbuild/bbs-3.13-bioc/R/library/preprocessCore/include' -I"c:/extsoft/include" -O2 -Wall -std=gnu99 -mfpmath=sse -msse2 -mstackrealign -c mas5calls.c -o mas5calls.o
"C:/rtools40/mingw32/bin/"gcc -I"C:/Users/biocbuild/bbs-3.13-bioc/R/library/zlibbioc/include" -I"C:/Users/BIOCBU~1/BBS-3~1.13-/R/include" -DNDEBUG -DHAVE_ZLIB -I'C:/Users/biocbuild/bbs-3.13-bioc/R/library/preprocessCore/include' -I"c:/extsoft/include" -O2 -Wall -std=gnu99 -mfpmath=sse -msse2 -mstackrealign -c rma2.c -o rma2.o
"C:/rtools40/mingw32/bin/"gcc -I"C:/Users/biocbuild/bbs-3.13-bioc/R/library/zlibbioc/include" -I"C:/Users/BIOCBU~1/BBS-3~1.13-/R/include" -DNDEBUG -DHAVE_ZLIB -I'C:/Users/biocbuild/bbs-3.13-bioc/R/library/preprocessCore/include' -I"c:/extsoft/include" -O2 -Wall -std=gnu99 -mfpmath=sse -msse2 -mstackrealign -c rma_common.c -o rma_common.o
C:/rtools40/mingw32/bin/gcc -shared -s -static-libgcc -o affy.dll tmp.def chipbackground.o getall_locations.o mas5calls.o rma2.o rma_common.o -LC:/Users/biocbuild/bbs-3.13-bioc/R/library/zlibbioc/libs/i386 -lzlib1bioc -Lc:/extsoft/lib/i386 -Lc:/extsoft/lib -LC:/Users/BIOCBU~1/BBS-3~1.13-/R/bin/i386 -lR
installing to C:/Users/biocbuild/bbs-3.13-bioc/meat/affy.buildbin-libdir/00LOCK-affy/00new/affy/libs/i386
** R
** data
** demo
** inst
** byte-compile and prepare package for lazy loading
** help
*** installing help indices
converting help for package 'affy'
finding HTML links ... done
AffyBatch-class html
finding level-2 HTML links ... done
AffyRNAdeg html
MAplot html
ProbeSet-class html
ProgressBarText-class html
SpikeIn html
affy-deprecated html
affy-options html
affy.scalevalue.exprSet html
barplot.ProbeSet html
bg.adjust html
bgc html
cdfFromBioC html
cdfenv.example html
cleancdfname html
debug.affy123 html
expresso html
expressoWidget html
fit.li.wong html
generateExprSet-methods html
generateExprVal-methods html
generateExprVal.method.avgdiff html
generateExprVal.method.playerout html
hlog html
justrma html
list.celfiles html
maffy.subset html
mas5 html
mas5calls html
merge.AffyBatch html
mva.pairs html
normalize-methods html
normalize.constant html
normalize.contrast html
normalize.invariantset html
normalize.loess html
normalize.qspline html
normalize.quantiles html
normalize.quantiles.robust html
pairs.AffyBatch html
plot.ProbeSet html
plot.density html
plotLocation html
pmcorrect html
ppsetApply html
probeMatch-methods html
probeNames-methods html
read.affybatch html
read.probematrix html
rma html
setAffyOptions html
summary html
tukey.biweight html
whatcdf html
xy2indices html
** building package indices
** installing vignettes
** testing if installed package can be loaded from temporary location
** testing if installed package can be loaded from final location
** testing if installed package keeps a record of temporary installation path
install for x64
* installing *source* package 'affy' ...
**********************************************
WARNING: this package has a configure script
It probably needs manual configuration
**********************************************
** libs
"C:/rtools40/mingw64/bin/"gcc -I"C:/Users/biocbuild/bbs-3.13-bioc/R/library/zlibbioc/include" -I"C:/Users/BIOCBU~1/BBS-3~1.13-/R/include" -DNDEBUG -DHAVE_ZLIB -I'C:/Users/biocbuild/bbs-3.13-bioc/R/library/preprocessCore/include' -I"C:/extsoft/include" -O2 -Wall -std=gnu99 -mfpmath=sse -msse2 -mstackrealign -c chipbackground.c -o chipbackground.o
"C:/rtools40/mingw64/bin/"gcc -I"C:/Users/biocbuild/bbs-3.13-bioc/R/library/zlibbioc/include" -I"C:/Users/BIOCBU~1/BBS-3~1.13-/R/include" -DNDEBUG -DHAVE_ZLIB -I'C:/Users/biocbuild/bbs-3.13-bioc/R/library/preprocessCore/include' -I"C:/extsoft/include" -O2 -Wall -std=gnu99 -mfpmath=sse -msse2 -mstackrealign -c getall_locations.c -o getall_locations.o
"C:/rtools40/mingw64/bin/"gcc -I"C:/Users/biocbuild/bbs-3.13-bioc/R/library/zlibbioc/include" -I"C:/Users/BIOCBU~1/BBS-3~1.13-/R/include" -DNDEBUG -DHAVE_ZLIB -I'C:/Users/biocbuild/bbs-3.13-bioc/R/library/preprocessCore/include' -I"C:/extsoft/include" -O2 -Wall -std=gnu99 -mfpmath=sse -msse2 -mstackrealign -c mas5calls.c -o mas5calls.o
"C:/rtools40/mingw64/bin/"gcc -I"C:/Users/biocbuild/bbs-3.13-bioc/R/library/zlibbioc/include" -I"C:/Users/BIOCBU~1/BBS-3~1.13-/R/include" -DNDEBUG -DHAVE_ZLIB -I'C:/Users/biocbuild/bbs-3.13-bioc/R/library/preprocessCore/include' -I"C:/extsoft/include" -O2 -Wall -std=gnu99 -mfpmath=sse -msse2 -mstackrealign -c rma2.c -o rma2.o
"C:/rtools40/mingw64/bin/"gcc -I"C:/Users/biocbuild/bbs-3.13-bioc/R/library/zlibbioc/include" -I"C:/Users/BIOCBU~1/BBS-3~1.13-/R/include" -DNDEBUG -DHAVE_ZLIB -I'C:/Users/biocbuild/bbs-3.13-bioc/R/library/preprocessCore/include' -I"C:/extsoft/include" -O2 -Wall -std=gnu99 -mfpmath=sse -msse2 -mstackrealign -c rma_common.c -o rma_common.o
C:/rtools40/mingw64/bin/gcc -shared -s -static-libgcc -o affy.dll tmp.def chipbackground.o getall_locations.o mas5calls.o rma2.o rma_common.o -LC:/Users/biocbuild/bbs-3.13-bioc/R/library/zlibbioc/libs/x64 -lzlib1bioc -LC:/extsoft/lib/x64 -LC:/extsoft/lib -LC:/Users/BIOCBU~1/BBS-3~1.13-/R/bin/x64 -lR
installing to C:/Users/biocbuild/bbs-3.13-bioc/meat/affy.buildbin-libdir/affy/libs/x64
** testing if installed package can be loaded
* MD5 sums
packaged installation of 'affy' as affy_1.70.0.zip
* DONE (affy)
* installing to library 'C:/Users/biocbuild/bbs-3.13-bioc/R/library'
package 'affy' successfully unpacked and MD5 sums checked