| Back to Multiple platform build/check report for BioC 3.13 | 
 | 
This page was generated on 2021-10-15 15:05:56 -0400 (Fri, 15 Oct 2021).
| To the developers/maintainers of the a4Core package: - Please allow up to 24 hours (and sometimes 48 hours) for your latest push to git@git.bioconductor.org:packages/a4Core.git to reflect on this report. See How and When does the builder pull? When will my changes propagate? here for more information. - Make sure to use the following settings in order to reproduce any error or warning you see on this page. | 
| Package 4/2041 | Hostname | OS / Arch | INSTALL | BUILD | CHECK | BUILD BIN | ||||||||
| a4Core 1.40.0  (landing page) Laure Cougnaud 
 | nebbiolo1 | Linux (Ubuntu 20.04.2 LTS) / x86_64 | OK | OK | OK |  | ||||||||
| tokay2 | Windows Server 2012 R2 Standard / x64 | OK | OK | OK | OK |  | ||||||||
| machv2 | macOS 10.14.6 Mojave / x86_64 | OK | OK | OK | OK |  | ||||||||
| Package: a4Core | 
| Version: 1.40.0 | 
| Command: C:\cygwin\bin\curl.exe -O http://155.52.207.165/BBS/3.13/bioc/src/contrib/a4Core_1.40.0.tar.gz && rm -rf a4Core.buildbin-libdir && mkdir a4Core.buildbin-libdir && C:\Users\biocbuild\bbs-3.13-bioc\R\bin\R.exe CMD INSTALL --merge-multiarch --build --library=a4Core.buildbin-libdir a4Core_1.40.0.tar.gz && C:\Users\biocbuild\bbs-3.13-bioc\R\bin\R.exe CMD INSTALL a4Core_1.40.0.zip && rm a4Core_1.40.0.tar.gz a4Core_1.40.0.zip | 
| StartedAt: 2021-10-14 07:55:45 -0400 (Thu, 14 Oct 2021) | 
| EndedAt: 2021-10-14 07:56:37 -0400 (Thu, 14 Oct 2021) | 
| EllapsedTime: 52.4 seconds | 
| RetCode: 0 | 
| Status: OK | 
##############################################################################
##############################################################################
###
### Running command:
###
###   C:\cygwin\bin\curl.exe -O http://155.52.207.165/BBS/3.13/bioc/src/contrib/a4Core_1.40.0.tar.gz && rm -rf a4Core.buildbin-libdir && mkdir a4Core.buildbin-libdir && C:\Users\biocbuild\bbs-3.13-bioc\R\bin\R.exe CMD INSTALL --merge-multiarch --build --library=a4Core.buildbin-libdir a4Core_1.40.0.tar.gz && C:\Users\biocbuild\bbs-3.13-bioc\R\bin\R.exe CMD INSTALL a4Core_1.40.0.zip && rm a4Core_1.40.0.tar.gz a4Core_1.40.0.zip
###
##############################################################################
##############################################################################
  % Total    % Received % Xferd  Average Speed   Time    Time     Time  Current
                                 Dload  Upload   Total   Spent    Left  Speed
  0     0    0     0    0     0      0      0 --:--:-- --:--:-- --:--:--     0
100  4928  100  4928    0     0  38425      0 --:--:-- --:--:-- --:--:-- 38803
install for i386
* installing *source* package 'a4Core' ...
** using staged installation
** R
** inst
** byte-compile and prepare package for lazy loading
** help
*** installing help indices
  converting help for package 'a4Core'
    finding HTML links ... done
    confusionMatrix                         html  
    simulateData                            html  
    topTable-methods                        html  
    topTable                                html  
** building package indices
** installing vignettes
** testing if installed package can be loaded from temporary location
** testing if installed package can be loaded from final location
** testing if installed package keeps a record of temporary installation path
install for x64
* installing *source* package 'a4Core' ...
** testing if installed package can be loaded
* MD5 sums
packaged installation of 'a4Core' as a4Core_1.40.0.zip
* DONE (a4Core)
* installing to library 'C:/Users/biocbuild/bbs-3.13-bioc/R/library'
package 'a4Core' successfully unpacked and MD5 sums checked