| Back to Multiple platform build/check report for BioC 3.13 |
|
This page was generated on 2021-10-15 15:06:27 -0400 (Fri, 15 Oct 2021).
|
To the developers/maintainers of the a4Base package: - Please allow up to 24 hours (and sometimes 48 hours) for your latest push to git@git.bioconductor.org:packages/a4Base.git to reflect on this report. See How and When does the builder pull? When will my changes propagate? here for more information. - Make sure to use the following settings in order to reproduce any error or warning you see on this page. |
| Package 2/2041 | Hostname | OS / Arch | INSTALL | BUILD | CHECK | BUILD BIN | ||||||||
| a4Base 1.40.0 (landing page) Laure Cougnaud
| nebbiolo1 | Linux (Ubuntu 20.04.2 LTS) / x86_64 | OK | OK | OK | |||||||||
| tokay2 | Windows Server 2012 R2 Standard / x64 | OK | OK | OK | OK | |||||||||
| machv2 | macOS 10.14.6 Mojave / x86_64 | OK | OK | OK | OK | |||||||||
| Package: a4Base |
| Version: 1.40.0 |
| Command: /Library/Frameworks/R.framework/Versions/Current/Resources/bin/R CMD check --install=check:a4Base.install-out.txt --library=/Library/Frameworks/R.framework/Versions/Current/Resources/library --no-vignettes --timings a4Base_1.40.0.tar.gz |
| StartedAt: 2021-10-14 16:05:29 -0400 (Thu, 14 Oct 2021) |
| EndedAt: 2021-10-14 16:09:32 -0400 (Thu, 14 Oct 2021) |
| EllapsedTime: 243.8 seconds |
| RetCode: 0 |
| Status: OK |
| CheckDir: a4Base.Rcheck |
| Warnings: 0 |
##############################################################################
##############################################################################
###
### Running command:
###
### /Library/Frameworks/R.framework/Versions/Current/Resources/bin/R CMD check --install=check:a4Base.install-out.txt --library=/Library/Frameworks/R.framework/Versions/Current/Resources/library --no-vignettes --timings a4Base_1.40.0.tar.gz
###
##############################################################################
##############################################################################
* using log directory ‘/Users/biocbuild/bbs-3.13-bioc/meat/a4Base.Rcheck’
* using R version 4.1.1 (2021-08-10)
* using platform: x86_64-apple-darwin17.0 (64-bit)
* using session charset: UTF-8
* using option ‘--no-vignettes’
* checking for file ‘a4Base/DESCRIPTION’ ... OK
* checking extension type ... Package
* this is package ‘a4Base’ version ‘1.40.0’
* checking package namespace information ... OK
* checking package dependencies ... NOTE
Package which this enhances but not available for checking: ‘JavaGD’
* checking if this is a source package ... OK
* checking if there is a namespace ... OK
* checking for hidden files and directories ... OK
* checking for portable file names ... OK
* checking for sufficient/correct file permissions ... OK
* checking whether package ‘a4Base’ can be installed ... OK
* checking installed package size ... OK
* checking package directory ... OK
* checking DESCRIPTION meta-information ... OK
* checking top-level files ... OK
* checking for left-over files ... OK
* checking index information ... OK
* checking package subdirectories ... OK
* checking R files for non-ASCII characters ... OK
* checking R files for syntax errors ... OK
* checking whether the package can be loaded ... OK
* checking whether the package can be loaded with stated dependencies ... OK
* checking whether the package can be unloaded cleanly ... OK
* checking whether the namespace can be loaded with stated dependencies ... OK
* checking whether the namespace can be unloaded cleanly ... OK
* checking dependencies in R code ... OK
* checking S3 generic/method consistency ... OK
* checking replacement functions ... OK
* checking foreign function calls ... OK
* checking R code for possible problems ... OK
* checking Rd files ... OK
* checking Rd metadata ... OK
* checking Rd cross-references ... OK
* checking for missing documentation entries ... OK
* checking for code/documentation mismatches ... OK
* checking Rd \usage sections ... OK
* checking Rd contents ... OK
* checking for unstated dependencies in examples ... OK
* checking contents of ‘data’ directory ... OK
* checking data for non-ASCII characters ... OK
* checking data for ASCII and uncompressed saves ... OK
* checking examples ... OK
Examples with CPU (user + system) or elapsed time > 5s
user system elapsed
spectralMap 11.506 0.448 11.969
computeLogRatio 7.039 0.207 7.259
plotLogRatio 7.123 0.097 7.228
* checking PDF version of manual ... OK
* DONE
Status: 1 NOTE
See
‘/Users/biocbuild/bbs-3.13-bioc/meat/a4Base.Rcheck/00check.log’
for details.
a4Base.Rcheck/00install.out
############################################################################## ############################################################################## ### ### Running command: ### ### /Library/Frameworks/R.framework/Versions/Current/Resources/bin/R CMD INSTALL a4Base ### ############################################################################## ############################################################################## * installing to library ‘/Library/Frameworks/R.framework/Versions/4.1/Resources/library’ * installing *source* package ‘a4Base’ ... ** using staged installation ** R ** data ** inst ** byte-compile and prepare package for lazy loading ** help *** installing help indices ** building package indices ** testing if installed package can be loaded from temporary location ** testing if installed package can be loaded from final location ** testing if installed package keeps a record of temporary installation path * DONE (a4Base)
a4Base.Rcheck/a4Base-Ex.timings
| name | user | system | elapsed | |
| a4palette | 0.039 | 0.001 | 0.040 | |
| addQuantilesColors | 2.609 | 0.240 | 2.850 | |
| boxPlot | 3.108 | 0.072 | 3.183 | |
| combineTwoExpressionSet | 0.000 | 0.000 | 0.001 | |
| computeLogRatio | 7.039 | 0.207 | 7.259 | |
| createExpressionSet | 0.037 | 0.001 | 0.037 | |
| filterVarInt | 2.380 | 0.100 | 2.482 | |
| heatmap.expressionSet | 0.001 | 0.006 | 0.008 | |
| histPvalue | 2.629 | 0.052 | 2.683 | |
| histpvalueplotter | 2.100 | 0.032 | 2.135 | |
| lassoReg | 2.091 | 0.040 | 2.133 | |
| logReg | 0.000 | 0.000 | 0.001 | |
| nlcvTT | 0.001 | 0.000 | 0.001 | |
| plot1gene | 2.039 | 0.042 | 2.083 | |
| plotComb2Samples | 2.493 | 0.083 | 2.581 | |
| plotCombMultSamples | 3.430 | 0.127 | 3.561 | |
| plotCombination2genes | 3.027 | 0.060 | 3.094 | |
| plotLogRatio | 7.123 | 0.097 | 7.228 | |
| probabilitiesPlot | 0.000 | 0.001 | 0.001 | |
| probe2gene | 2.064 | 0.038 | 2.103 | |
| profilesPlot | 2.164 | 0.052 | 2.218 | |
| propdegenescalculation | 2.653 | 0.059 | 2.759 | |
| replicates | 0.003 | 0.001 | 0.003 | |
| spectralMap | 11.506 | 0.448 | 11.969 | |
| tTest | 2.694 | 0.099 | 2.799 | |
| volcanoPlot | 2.680 | 0.075 | 2.766 | |