| Back to Multiple platform build/check report for BioC 3.13 |
|
This page was generated on 2021-10-15 15:06:27 -0400 (Fri, 15 Oct 2021).
|
To the developers/maintainers of the Xeva package: - Please allow up to 24 hours (and sometimes 48 hours) for your latest push to git@git.bioconductor.org:packages/Xeva.git to reflect on this report. See How and When does the builder pull? When will my changes propagate? here for more information. - Make sure to use the following settings in order to reproduce any error or warning you see on this page. |
| Package 2029/2041 | Hostname | OS / Arch | INSTALL | BUILD | CHECK | BUILD BIN | ||||||||
| Xeva 1.8.0 (landing page) Benjamin Haibe-Kains
| nebbiolo1 | Linux (Ubuntu 20.04.2 LTS) / x86_64 | OK | OK | OK | |||||||||
| tokay2 | Windows Server 2012 R2 Standard / x64 | OK | OK | ERROR | OK | |||||||||
| machv2 | macOS 10.14.6 Mojave / x86_64 | OK | OK | OK | OK | |||||||||
| Package: Xeva |
| Version: 1.8.0 |
| Command: rm -rf Xeva.buildbin-libdir && mkdir Xeva.buildbin-libdir && C:\Users\biocbuild\bbs-3.13-bioc\R\bin\R.exe CMD INSTALL --merge-multiarch --build --library=Xeva.buildbin-libdir Xeva_1.8.0.tar.gz |
| StartedAt: 2021-10-15 12:26:10 -0400 (Fri, 15 Oct 2021) |
| EndedAt: 2021-10-15 12:27:31 -0400 (Fri, 15 Oct 2021) |
| EllapsedTime: 80.7 seconds |
| RetCode: 0 |
| Status: OK |
| PackageFile: Xeva_1.8.0.zip |
| PackageFileSize: 1.469 MiB |
##############################################################################
##############################################################################
###
### Running command:
###
### rm -rf Xeva.buildbin-libdir && mkdir Xeva.buildbin-libdir && C:\Users\biocbuild\bbs-3.13-bioc\R\bin\R.exe CMD INSTALL --merge-multiarch --build --library=Xeva.buildbin-libdir Xeva_1.8.0.tar.gz
###
##############################################################################
##############################################################################
install for i386
* installing *source* package 'Xeva' ...
** using staged installation
** R
** data
** inst
** byte-compile and prepare package for lazy loading
** help
*** installing help indices
converting help for package 'Xeva'
finding HTML links ... done
ABC html
AUC html
PDXMI html
TGI html
addExperimentalDesign html
angle html
batchInfo html
brca html
createXevaSet html
dosePlot html
downloadXevaSet html
drugInform html
drugSensitivitySig html
getExperiment html
getMolecularProfiles html
lmm html
mRECIST html
modelInfo html
plotPDX html
plotmRECIST html
print.batchResponse html
print.modelResponse html
print.pdxBatch html
repdx html
response html
selectModelIds html
sensitivity html
setResponse html
slope html
subsetXeva html
summarizeMolecularProfiles html
summarizeResponse html
waterfall html
** building package indices
** installing vignettes
** testing if installed package can be loaded from temporary location
** testing if installed package can be loaded from final location
** testing if installed package keeps a record of temporary installation path
install for x64
* installing *source* package 'Xeva' ...
** testing if installed package can be loaded
* MD5 sums
packaged installation of 'Xeva' as Xeva_1.8.0.zip
* DONE (Xeva)