| Back to Multiple platform build/check report for BioC 3.13 |
|
This page was generated on 2021-10-15 15:06:27 -0400 (Fri, 15 Oct 2021).
|
To the developers/maintainers of the XBSeq package: - Please allow up to 24 hours (and sometimes 48 hours) for your latest push to git@git.bioconductor.org:packages/XBSeq.git to reflect on this report. See How and When does the builder pull? When will my changes propagate? here for more information. - Make sure to use the following settings in order to reproduce any error or warning you see on this page. |
| Package 2025/2041 | Hostname | OS / Arch | INSTALL | BUILD | CHECK | BUILD BIN | ||||||||
Yuanhang Liu
| nebbiolo1 | Linux (Ubuntu 20.04.2 LTS) / x86_64 | OK | ERROR | skipped | |||||||||
| tokay2 | Windows Server 2012 R2 Standard / x64 | OK | ERROR | skipped | skipped | |||||||||
| machv2 | macOS 10.14.6 Mojave / x86_64 | OK | ERROR | skipped | skipped | |||||||||
| Package: XBSeq |
| Version: 1.24.0 |
| Command: C:\cygwin\bin\curl.exe -O http://155.52.207.165/BBS/3.13/bioc/src/contrib/XBSeq_1.24.0.tar.gz && rm -rf XBSeq.buildbin-libdir && mkdir XBSeq.buildbin-libdir && C:\Users\biocbuild\bbs-3.13-bioc\R\bin\R.exe CMD INSTALL --merge-multiarch --build --library=XBSeq.buildbin-libdir XBSeq_1.24.0.tar.gz && C:\Users\biocbuild\bbs-3.13-bioc\R\bin\R.exe CMD INSTALL XBSeq_1.24.0.zip && rm XBSeq_1.24.0.tar.gz XBSeq_1.24.0.zip |
| StartedAt: 2021-10-14 10:14:02 -0400 (Thu, 14 Oct 2021) |
| EndedAt: 2021-10-14 10:15:02 -0400 (Thu, 14 Oct 2021) |
| EllapsedTime: 59.7 seconds |
| RetCode: 0 |
| Status: OK |
##############################################################################
##############################################################################
###
### Running command:
###
### C:\cygwin\bin\curl.exe -O http://155.52.207.165/BBS/3.13/bioc/src/contrib/XBSeq_1.24.0.tar.gz && rm -rf XBSeq.buildbin-libdir && mkdir XBSeq.buildbin-libdir && C:\Users\biocbuild\bbs-3.13-bioc\R\bin\R.exe CMD INSTALL --merge-multiarch --build --library=XBSeq.buildbin-libdir XBSeq_1.24.0.tar.gz && C:\Users\biocbuild\bbs-3.13-bioc\R\bin\R.exe CMD INSTALL XBSeq_1.24.0.zip && rm XBSeq_1.24.0.tar.gz XBSeq_1.24.0.zip
###
##############################################################################
##############################################################################
% Total % Received % Xferd Average Speed Time Time Time Current
Dload Upload Total Spent Left Speed
0 0 0 0 0 0 0 0 --:--:-- --:--:-- --:--:-- 0
100 868k 100 868k 0 0 1640k 0 --:--:-- --:--:-- --:--:-- 1641k
install for i386
* installing *source* package 'XBSeq' ...
** using staged installation
** R
** data
** inst
** byte-compile and prepare package for lazy loading
** help
*** installing help indices
converting help for package 'XBSeq'
finding HTML links ... done
ExampleData html
MAplot html
XBSeq-package html
XBSeq html
XBSeqDataSet-class html
finding level-2 HTML links ... done
XBSeqTest html
XBplot html
apaUsage html
conditions html
counts html
dispEst html
dispTable html
estimateRealCount html
estimateSCV html
fitInfo html
getSignalVars html
plotSCVEsts html
** building package indices
** installing vignettes
'XBSeq.Rmd' using 'UTF-8'
** testing if installed package can be loaded from temporary location
Warning: Package 'XBSeq' is deprecated and will be removed from Bioconductor
version 3.14
** testing if installed package can be loaded from final location
Warning: Package 'XBSeq' is deprecated and will be removed from Bioconductor
version 3.14
** testing if installed package keeps a record of temporary installation path
install for x64
* installing *source* package 'XBSeq' ...
** testing if installed package can be loaded
Warning: Package 'XBSeq' is deprecated and will be removed from Bioconductor
version 3.14
* MD5 sums
packaged installation of 'XBSeq' as XBSeq_1.24.0.zip
* DONE (XBSeq)
* installing to library 'C:/Users/biocbuild/bbs-3.13-bioc/R/library'
package 'XBSeq' successfully unpacked and MD5 sums checked