| Back to Multiple platform build/check report for BioC 3.13 |
|
This page was generated on 2021-10-15 15:06:27 -0400 (Fri, 15 Oct 2021).
|
To the developers/maintainers of the VennDetail package: - Please allow up to 24 hours (and sometimes 48 hours) for your latest push to git@git.bioconductor.org:packages/VennDetail.git to reflect on this report. See How and When does the builder pull? When will my changes propagate? here for more information. - Make sure to use the following settings in order to reproduce any error or warning you see on this page. |
| Package 2004/2041 | Hostname | OS / Arch | INSTALL | BUILD | CHECK | BUILD BIN | ||||||||
| VennDetail 1.8.0 (landing page) Kai Guo
| nebbiolo1 | Linux (Ubuntu 20.04.2 LTS) / x86_64 | OK | OK | OK | |||||||||
| tokay2 | Windows Server 2012 R2 Standard / x64 | OK | OK | OK | OK | |||||||||
| machv2 | macOS 10.14.6 Mojave / x86_64 | OK | OK | OK | OK | |||||||||
| Package: VennDetail |
| Version: 1.8.0 |
| Command: rm -rf VennDetail.buildbin-libdir && mkdir VennDetail.buildbin-libdir && C:\Users\biocbuild\bbs-3.13-bioc\R\bin\R.exe CMD INSTALL --merge-multiarch --build --library=VennDetail.buildbin-libdir VennDetail_1.8.0.tar.gz |
| StartedAt: 2021-10-15 12:22:47 -0400 (Fri, 15 Oct 2021) |
| EndedAt: 2021-10-15 12:23:55 -0400 (Fri, 15 Oct 2021) |
| EllapsedTime: 68.3 seconds |
| RetCode: 0 |
| Status: OK |
| PackageFile: VennDetail_1.8.0.zip |
| PackageFileSize: 337.7 KiB |
##############################################################################
##############################################################################
###
### Running command:
###
### rm -rf VennDetail.buildbin-libdir && mkdir VennDetail.buildbin-libdir && C:\Users\biocbuild\bbs-3.13-bioc\R\bin\R.exe CMD INSTALL --merge-multiarch --build --library=VennDetail.buildbin-libdir VennDetail_1.8.0.tar.gz
###
##############################################################################
##############################################################################
install for i386
* installing *source* package 'VennDetail' ...
** using staged installation
** R
** data
*** moving datasets to lazyload DB
** inst
** byte-compile and prepare package for lazy loading
** help
*** installing help indices
converting help for package 'VennDetail'
finding HTML links ... done
T2DM html
Venn-class html
detail html
dot-add_colnames html
dot-make.table html
dplot html
getFeature html
getSet html
make.subset html
merge html
plot html
result html
rowjoin html
setcolor html
show html
summary html
venndetail html
vennpie html
** building package indices
** installing vignettes
** testing if installed package can be loaded from temporary location
** testing if installed package can be loaded from final location
** testing if installed package keeps a record of temporary installation path
install for x64
* installing *source* package 'VennDetail' ...
** testing if installed package can be loaded
* MD5 sums
packaged installation of 'VennDetail' as VennDetail_1.8.0.zip
* DONE (VennDetail)