| Back to Multiple platform build/check report for BioC 3.13 |
|
This page was generated on 2021-10-15 15:06:26 -0400 (Fri, 15 Oct 2021).
|
To the developers/maintainers of the Uniquorn package: - Please allow up to 24 hours (and sometimes 48 hours) for your latest push to git@git.bioconductor.org:packages/Uniquorn.git to reflect on this report. See How and When does the builder pull? When will my changes propagate? here for more information. - Make sure to use the following settings in order to reproduce any error or warning you see on this page. |
| Package 1989/2041 | Hostname | OS / Arch | INSTALL | BUILD | CHECK | BUILD BIN | ||||||||
| Uniquorn 2.12.0 (landing page) 'Raik Otto'
| nebbiolo1 | Linux (Ubuntu 20.04.2 LTS) / x86_64 | OK | OK | OK | |||||||||
| tokay2 | Windows Server 2012 R2 Standard / x64 | OK | OK | OK | OK | |||||||||
| machv2 | macOS 10.14.6 Mojave / x86_64 | OK | OK | OK | OK | |||||||||
| Package: Uniquorn |
| Version: 2.12.0 |
| Command: C:\cygwin\bin\curl.exe -O http://155.52.207.165/BBS/3.13/bioc/src/contrib/Uniquorn_2.12.0.tar.gz && rm -rf Uniquorn.buildbin-libdir && mkdir Uniquorn.buildbin-libdir && C:\Users\biocbuild\bbs-3.13-bioc\R\bin\R.exe CMD INSTALL --merge-multiarch --build --library=Uniquorn.buildbin-libdir Uniquorn_2.12.0.tar.gz && C:\Users\biocbuild\bbs-3.13-bioc\R\bin\R.exe CMD INSTALL Uniquorn_2.12.0.zip && rm Uniquorn_2.12.0.tar.gz Uniquorn_2.12.0.zip |
| StartedAt: 2021-10-14 10:21:12 -0400 (Thu, 14 Oct 2021) |
| EndedAt: 2021-10-14 10:22:09 -0400 (Thu, 14 Oct 2021) |
| EllapsedTime: 57.7 seconds |
| RetCode: 0 |
| Status: OK |
##############################################################################
##############################################################################
###
### Running command:
###
### C:\cygwin\bin\curl.exe -O http://155.52.207.165/BBS/3.13/bioc/src/contrib/Uniquorn_2.12.0.tar.gz && rm -rf Uniquorn.buildbin-libdir && mkdir Uniquorn.buildbin-libdir && C:\Users\biocbuild\bbs-3.13-bioc\R\bin\R.exe CMD INSTALL --merge-multiarch --build --library=Uniquorn.buildbin-libdir Uniquorn_2.12.0.tar.gz && C:\Users\biocbuild\bbs-3.13-bioc\R\bin\R.exe CMD INSTALL Uniquorn_2.12.0.zip && rm Uniquorn_2.12.0.tar.gz Uniquorn_2.12.0.zip
###
##############################################################################
##############################################################################
% Total % Received % Xferd Average Speed Time Time Time Current
Dload Upload Total Spent Left Speed
0 0 0 0 0 0 0 0 --:--:-- --:--:-- --:--:-- 0
6 2291k 6 152k 0 0 708k 0 0:00:03 --:--:-- 0:00:03 707k
100 2291k 100 2291k 0 0 3214k 0 --:--:-- --:--:-- --:--:-- 3214k
install for i386
* installing *source* package 'Uniquorn' ...
** using staged installation
** R
** inst
** byte-compile and prepare package for lazy loading
** help
*** installing help indices
converting help for package 'Uniquorn'
finding HTML links ... done
add_custom_vcf_to_database html
add_missing_cls html
add_p_q_values_statistics html
add_penalty_statistics html
create_bed_file html
identify_vcf_file html
init_and_load_identification html
initiate_canonical_databases html
match_query_ccl_to_database html
parse_ccle_genotype_data html
parse_cosmic_genotype_data html
parse_vcf_file html
parse_vcf_query_into_db html
read_library_names html
read_mutation_grange_objects html
remove_ccls_from_database html
remove_library_from_database html
show_contained_ccls html
show_contained_variants_for_ccl html
show_contained_variants_in_library html
show_which_ccls_contain_variant html
** building package indices
** installing vignettes
** testing if installed package can be loaded from temporary location
** testing if installed package can be loaded from final location
** testing if installed package keeps a record of temporary installation path
install for x64
* installing *source* package 'Uniquorn' ...
** testing if installed package can be loaded
* MD5 sums
packaged installation of 'Uniquorn' as Uniquorn_2.12.0.zip
* DONE (Uniquorn)
* installing to library 'C:/Users/biocbuild/bbs-3.13-bioc/R/library'
package 'Uniquorn' successfully unpacked and MD5 sums checked