| Back to Multiple platform build/check report for BioC 3.13 |
|
This page was generated on 2021-10-15 15:06:26 -0400 (Fri, 15 Oct 2021).
|
To the developers/maintainers of the UMI4Cats package: - Please allow up to 24 hours (and sometimes 48 hours) for your latest push to git@git.bioconductor.org:packages/UMI4Cats.git to reflect on this report. See How and When does the builder pull? When will my changes propagate? here for more information. - Make sure to use the following settings in order to reproduce any error or warning you see on this page. |
| Package 1984/2041 | Hostname | OS / Arch | INSTALL | BUILD | CHECK | BUILD BIN | ||||||||
| UMI4Cats 1.2.1 (landing page) Mireia Ramos-Rodriguez
| nebbiolo1 | Linux (Ubuntu 20.04.2 LTS) / x86_64 | OK | OK | OK | |||||||||
| tokay2 | Windows Server 2012 R2 Standard / x64 | OK | OK | OK | OK | |||||||||
| machv2 | macOS 10.14.6 Mojave / x86_64 | OK | OK | OK | OK | |||||||||
| Package: UMI4Cats |
| Version: 1.2.1 |
| Command: C:\cygwin\bin\curl.exe -O http://155.52.207.165/BBS/3.13/bioc/src/contrib/UMI4Cats_1.2.1.tar.gz && rm -rf UMI4Cats.buildbin-libdir && mkdir UMI4Cats.buildbin-libdir && C:\Users\biocbuild\bbs-3.13-bioc\R\bin\R.exe CMD INSTALL --merge-multiarch --build --library=UMI4Cats.buildbin-libdir UMI4Cats_1.2.1.tar.gz && C:\Users\biocbuild\bbs-3.13-bioc\R\bin\R.exe CMD INSTALL UMI4Cats_1.2.1.zip && rm UMI4Cats_1.2.1.tar.gz UMI4Cats_1.2.1.zip |
| StartedAt: 2021-10-14 11:11:23 -0400 (Thu, 14 Oct 2021) |
| EndedAt: 2021-10-14 11:14:23 -0400 (Thu, 14 Oct 2021) |
| EllapsedTime: 180.7 seconds |
| RetCode: 0 |
| Status: OK |
##############################################################################
##############################################################################
###
### Running command:
###
### C:\cygwin\bin\curl.exe -O http://155.52.207.165/BBS/3.13/bioc/src/contrib/UMI4Cats_1.2.1.tar.gz && rm -rf UMI4Cats.buildbin-libdir && mkdir UMI4Cats.buildbin-libdir && C:\Users\biocbuild\bbs-3.13-bioc\R\bin\R.exe CMD INSTALL --merge-multiarch --build --library=UMI4Cats.buildbin-libdir UMI4Cats_1.2.1.tar.gz && C:\Users\biocbuild\bbs-3.13-bioc\R\bin\R.exe CMD INSTALL UMI4Cats_1.2.1.zip && rm UMI4Cats_1.2.1.tar.gz UMI4Cats_1.2.1.zip
###
##############################################################################
##############################################################################
% Total % Received % Xferd Average Speed Time Time Time Current
Dload Upload Total Spent Left Speed
0 0 0 0 0 0 0 0 --:--:-- --:--:-- --:--:-- 0
12 2318k 12 287k 0 0 945k 0 0:00:02 --:--:-- 0:00:02 944k
100 2318k 100 2318k 0 0 2780k 0 --:--:-- --:--:-- --:--:-- 2780k
install for i386
* installing *source* package 'UMI4Cats' ...
** using staged installation
** R
** data
** inst
** byte-compile and prepare package for lazy loading
** help
*** installing help indices
converting help for package 'UMI4Cats'
finding HTML links ... done
UMI4C-methods html
finding level-2 HTML links ... done
UMI4C html
UMI4C2dds html
UMI4Cats html
addGrouping html
addStepping html
alignmentUMI4C html
calculateAdaptativeTrend html
calculateDomainogram html
callInteractions html
combineUMI4C html
contactsUMI4C html
counterUMI4C html
createGeneAnnotation html
createStatsTable html
darken html
dds2UMI4C html
demultiplexFastq html
differentialNbinomWaldTestUMI4C html
digestGenome html
dot-getCache html
dot-getSummaryBam html
dot-singleAlignmentUMI4C html
dot-singleCounterUMI4C html
dot-singlePrepUMI4C html
dot-singleSplitUMI4C html
dot-smoothMonotone html
downloadUMI4CexampleData html
ex_ciita_umi4c html
fisherUMI4C html
formatPlotsUMI4C html
geoMeanCoordinates html
getColors html
getFactors html
getNormalizationMatrix html
getSignInteractions html
getViewpointCoordinates html
groupSamplesUMI4C html
makeWindowFragments html
nbinomWaldTestUMI4C html
pipe html
plotDifferential html
plotDomainogram html
plotGenes html
plotInteractions html
plotInteractionsUMI4C html
plotTrend html
plotUMI4C html
prepUMI4C html
smoothMonotoneUMI4C html
splitUMI4C html
statsUMI4C html
theme html
themeXYblank html
themeXblank html
themeYblank html
vstUMI4C html
waldUMI4C html
zscoreUMI4C html
*** copying figures
** building package indices
** installing vignettes
** testing if installed package can be loaded from temporary location
** testing if installed package can be loaded from final location
** testing if installed package keeps a record of temporary installation path
install for x64
* installing *source* package 'UMI4Cats' ...
** testing if installed package can be loaded
* MD5 sums
packaged installation of 'UMI4Cats' as UMI4Cats_1.2.1.zip
* DONE (UMI4Cats)
* installing to library 'C:/Users/biocbuild/bbs-3.13-bioc/R/library'
package 'UMI4Cats' successfully unpacked and MD5 sums checked