| Back to Multiple platform build/check report for BioC 3.13 |
|
This page was generated on 2021-10-15 15:06:56 -0400 (Fri, 15 Oct 2021).
|
To the developers/maintainers of the TrajectoryGeometry package: - Please allow up to 24 hours (and sometimes 48 hours) for your latest push to git@git.bioconductor.org:packages/TrajectoryGeometry.git to reflect on this report. See How and When does the builder pull? When will my changes propagate? here for more information. - Make sure to use the following settings in order to reproduce any error or warning you see on this page. |
| Package 1944/2041 | Hostname | OS / Arch | INSTALL | BUILD | CHECK | BUILD BIN | ||||||||
| TrajectoryGeometry 1.0.0 (landing page) Michael Shapiro
| nebbiolo1 | Linux (Ubuntu 20.04.2 LTS) / x86_64 | OK | OK | OK | |||||||||
| tokay2 | Windows Server 2012 R2 Standard / x64 | OK | OK | OK | OK | |||||||||
| machv2 | macOS 10.14.6 Mojave / x86_64 | OK | OK | OK | OK | |||||||||
| Package: TrajectoryGeometry |
| Version: 1.0.0 |
| Command: /Library/Frameworks/R.framework/Versions/Current/Resources/bin/R CMD check --install=check:TrajectoryGeometry.install-out.txt --library=/Library/Frameworks/R.framework/Versions/Current/Resources/library --no-vignettes --timings TrajectoryGeometry_1.0.0.tar.gz |
| StartedAt: 2021-10-15 00:52:23 -0400 (Fri, 15 Oct 2021) |
| EndedAt: 2021-10-15 00:54:14 -0400 (Fri, 15 Oct 2021) |
| EllapsedTime: 110.8 seconds |
| RetCode: 0 |
| Status: OK |
| CheckDir: TrajectoryGeometry.Rcheck |
| Warnings: 0 |
##############################################################################
##############################################################################
###
### Running command:
###
### /Library/Frameworks/R.framework/Versions/Current/Resources/bin/R CMD check --install=check:TrajectoryGeometry.install-out.txt --library=/Library/Frameworks/R.framework/Versions/Current/Resources/library --no-vignettes --timings TrajectoryGeometry_1.0.0.tar.gz
###
##############################################################################
##############################################################################
* using log directory ‘/Users/biocbuild/bbs-3.13-bioc/meat/TrajectoryGeometry.Rcheck’
* using R version 4.1.1 (2021-08-10)
* using platform: x86_64-apple-darwin17.0 (64-bit)
* using session charset: UTF-8
* using option ‘--no-vignettes’
* checking for file ‘TrajectoryGeometry/DESCRIPTION’ ... OK
* this is package ‘TrajectoryGeometry’ version ‘1.0.0’
* package encoding: UTF-8
* checking package namespace information ... OK
* checking package dependencies ... OK
* checking if this is a source package ... OK
* checking if there is a namespace ... OK
* checking for hidden files and directories ... OK
* checking for portable file names ... OK
* checking for sufficient/correct file permissions ... OK
* checking whether package ‘TrajectoryGeometry’ can be installed ... OK
* checking installed package size ... OK
* checking package directory ... OK
* checking ‘build’ directory ... OK
* checking DESCRIPTION meta-information ... OK
* checking top-level files ... OK
* checking for left-over files ... OK
* checking index information ... OK
* checking package subdirectories ... OK
* checking R files for non-ASCII characters ... OK
* checking R files for syntax errors ... OK
* checking whether the package can be loaded ... OK
* checking whether the package can be loaded with stated dependencies ... OK
* checking whether the package can be unloaded cleanly ... OK
* checking whether the namespace can be loaded with stated dependencies ... OK
* checking whether the namespace can be unloaded cleanly ... OK
* checking dependencies in R code ... OK
* checking S3 generic/method consistency ... OK
* checking replacement functions ... OK
* checking foreign function calls ... OK
* checking R code for possible problems ... NOTE
visualiseBranchPointStats: no visible binding for global variable
‘value’
visualiseBranchPointStats: no visible binding for global variable
‘logPValue’
visualiseTrajectoryStats: no visible binding for global variable ‘type’
visualiseTrajectoryStats: no visible binding for global variable
‘value’
Undefined global functions or variables:
logPValue type value
* checking Rd files ... OK
* checking Rd metadata ... OK
* checking Rd cross-references ... OK
* checking for missing documentation entries ... OK
* checking for code/documentation mismatches ... OK
* checking Rd \usage sections ... OK
* checking Rd contents ... OK
* checking for unstated dependencies in examples ... OK
* checking contents of ‘data’ directory ... OK
* checking data for non-ASCII characters ... OK
* checking LazyData ... OK
* checking data for ASCII and uncompressed saves ... OK
* checking files in ‘vignettes’ ... OK
* checking examples ... OK
Examples with CPU (user + system) or elapsed time > 5s
user system elapsed
testPathForDirectionality 23.967 0.035 24.017
analyseBranchPoint 22.243 0.064 22.326
* checking for unstated dependencies in vignettes ... OK
* checking package vignettes in ‘inst/doc’ ... OK
* checking running R code from vignettes ... SKIPPED
* checking re-building of vignette outputs ... SKIPPED
* checking PDF version of manual ... OK
* DONE
Status: 1 NOTE
See
‘/Users/biocbuild/bbs-3.13-bioc/meat/TrajectoryGeometry.Rcheck/00check.log’
for details.
TrajectoryGeometry.Rcheck/00install.out
############################################################################## ############################################################################## ### ### Running command: ### ### /Library/Frameworks/R.framework/Versions/Current/Resources/bin/R CMD INSTALL TrajectoryGeometry ### ############################################################################## ############################################################################## * installing to library ‘/Library/Frameworks/R.framework/Versions/4.1/Resources/library’ * installing *source* package ‘TrajectoryGeometry’ ... ** using staged installation ** R ** data *** moving datasets to lazyload DB ** inst ** byte-compile and prepare package for lazy loading ** help *** installing help indices ** building package indices ** installing vignettes ** testing if installed package can be loaded from temporary location ** testing if installed package can be loaded from final location ** testing if installed package keeps a record of temporary installation path * DONE (TrajectoryGeometry)
TrajectoryGeometry.Rcheck/TrajectoryGeometry-Ex.timings
| name | user | system | elapsed | |
| analyseBranchPoint | 22.243 | 0.064 | 22.326 | |
| analyseSingleCellTrajectory | 4.078 | 0.004 | 4.086 | |
| circleOnTheUnitSphere | 0.002 | 0.000 | 0.003 | |
| distanceBetweenTrajectories | 2.215 | 0.023 | 2.239 | |
| findSphereClusterCenter | 0.130 | 0.001 | 0.130 | |
| findSphericalDistance | 0.001 | 0.001 | 0.001 | |
| generateRandomPaths | 0.001 | 0.000 | 0.001 | |
| generateRandomUnitVector | 0 | 0 | 0 | |
| getDistanceDataForPaths | 0.728 | 0.001 | 0.729 | |
| getSphericalData | 0.126 | 0.000 | 0.126 | |
| getStepLengths | 0.001 | 0.001 | 0.001 | |
| orthonormalBasis | 0.001 | 0.000 | 0.001 | |
| pathProgression | 0.003 | 0.000 | 0.003 | |
| pathToSphericalData | 0.084 | 0.000 | 0.084 | |
| plotPathProjectionCenterAndCircle | 0.022 | 0.000 | 0.024 | |
| projectPathToSphere | 0.001 | 0.000 | 0.000 | |
| samplePath | 0.002 | 0.002 | 0.004 | |
| testPathForDirectionality | 23.967 | 0.035 | 24.017 | |
| visualiseBranchPointStats | 1.672 | 0.005 | 1.678 | |
| visualiseTrajectoryStats | 4.118 | 0.047 | 4.168 | |