| Back to Multiple platform build/check report for BioC 3.13 |
|
This page was generated on 2021-10-15 15:06:25 -0400 (Fri, 15 Oct 2021).
|
To the developers/maintainers of the TargetScore package: - Please allow up to 24 hours (and sometimes 48 hours) for your latest push to git@git.bioconductor.org:packages/TargetScore.git to reflect on this report. See How and When does the builder pull? When will my changes propagate? here for more information. - Make sure to use the following settings in order to reproduce any error or warning you see on this page. |
| Package 1894/2041 | Hostname | OS / Arch | INSTALL | BUILD | CHECK | BUILD BIN | ||||||||
| TargetScore 1.30.0 (landing page) Yue Li
| nebbiolo1 | Linux (Ubuntu 20.04.2 LTS) / x86_64 | OK | OK | OK | |||||||||
| tokay2 | Windows Server 2012 R2 Standard / x64 | OK | OK | OK | OK | |||||||||
| machv2 | macOS 10.14.6 Mojave / x86_64 | OK | OK | OK | OK | |||||||||
| Package: TargetScore |
| Version: 1.30.0 |
| Command: rm -rf TargetScore.buildbin-libdir && mkdir TargetScore.buildbin-libdir && C:\Users\biocbuild\bbs-3.13-bioc\R\bin\R.exe CMD INSTALL --merge-multiarch --build --library=TargetScore.buildbin-libdir TargetScore_1.30.0.tar.gz |
| StartedAt: 2021-10-15 12:08:01 -0400 (Fri, 15 Oct 2021) |
| EndedAt: 2021-10-15 12:09:34 -0400 (Fri, 15 Oct 2021) |
| EllapsedTime: 93.0 seconds |
| RetCode: 0 |
| Status: OK |
| PackageFile: TargetScore_1.30.0.zip |
| PackageFileSize: 1.275 MiB |
##############################################################################
##############################################################################
###
### Running command:
###
### rm -rf TargetScore.buildbin-libdir && mkdir TargetScore.buildbin-libdir && C:\Users\biocbuild\bbs-3.13-bioc\R\bin\R.exe CMD INSTALL --merge-multiarch --build --library=TargetScore.buildbin-libdir TargetScore_1.30.0.tar.gz
###
##############################################################################
##############################################################################
install for i386
* installing *source* package 'TargetScore' ...
** using staged installation
** R
** inst
** byte-compile and prepare package for lazy loading
** help
*** installing help indices
converting help for package 'TargetScore'
finding HTML links ... done
TargetScore-package html
bsxfun.se html
dot.ext html
getTargetScores html
initialization html
logmvgamma html
logsumexp html
sort_components html
targetScore html
REDIRECT:topic Previous alias or file overwritten by alias: C:/Users/biocbuild/bbs-3.13-bioc/meat/TargetScore.buildbin-libdir/00LOCK-TargetScore/00new/TargetScore/help/targetScore.html
vbgmm html
vbound html
vexp html
vmax html
** building package indices
** installing vignettes
** testing if installed package can be loaded from temporary location
** testing if installed package can be loaded from final location
** testing if installed package keeps a record of temporary installation path
install for x64
* installing *source* package 'TargetScore' ...
** testing if installed package can be loaded
* MD5 sums
packaged installation of 'TargetScore' as TargetScore_1.30.0.zip
* DONE (TargetScore)