| Back to Multiple platform build/check report for BioC 3.13 |
|
This page was generated on 2021-10-15 15:06:25 -0400 (Fri, 15 Oct 2021).
|
To the developers/maintainers of the TarSeqQC package: - Please allow up to 24 hours (and sometimes 48 hours) for your latest push to git@git.bioconductor.org:packages/TarSeqQC.git to reflect on this report. See How and When does the builder pull? When will my changes propagate? here for more information. - Make sure to use the following settings in order to reproduce any error or warning you see on this page. |
| Package 1896/2041 | Hostname | OS / Arch | INSTALL | BUILD | CHECK | BUILD BIN | ||||||||
| TarSeqQC 1.22.0 (landing page) Gabriela Merino
| nebbiolo1 | Linux (Ubuntu 20.04.2 LTS) / x86_64 | OK | OK | OK | |||||||||
| tokay2 | Windows Server 2012 R2 Standard / x64 | OK | OK | TIMEOUT | OK | |||||||||
| machv2 | macOS 10.14.6 Mojave / x86_64 | OK | OK | OK | OK | |||||||||
| Package: TarSeqQC |
| Version: 1.22.0 |
| Command: C:\cygwin\bin\curl.exe -O http://155.52.207.165/BBS/3.13/bioc/src/contrib/TarSeqQC_1.22.0.tar.gz && rm -rf TarSeqQC.buildbin-libdir && mkdir TarSeqQC.buildbin-libdir && C:\Users\biocbuild\bbs-3.13-bioc\R\bin\R.exe CMD INSTALL --merge-multiarch --build --library=TarSeqQC.buildbin-libdir TarSeqQC_1.22.0.tar.gz && C:\Users\biocbuild\bbs-3.13-bioc\R\bin\R.exe CMD INSTALL TarSeqQC_1.22.0.zip && rm TarSeqQC_1.22.0.tar.gz TarSeqQC_1.22.0.zip |
| StartedAt: 2021-10-14 08:46:25 -0400 (Thu, 14 Oct 2021) |
| EndedAt: 2021-10-14 08:47:32 -0400 (Thu, 14 Oct 2021) |
| EllapsedTime: 66.9 seconds |
| RetCode: 0 |
| Status: OK |
##############################################################################
##############################################################################
###
### Running command:
###
### C:\cygwin\bin\curl.exe -O http://155.52.207.165/BBS/3.13/bioc/src/contrib/TarSeqQC_1.22.0.tar.gz && rm -rf TarSeqQC.buildbin-libdir && mkdir TarSeqQC.buildbin-libdir && C:\Users\biocbuild\bbs-3.13-bioc\R\bin\R.exe CMD INSTALL --merge-multiarch --build --library=TarSeqQC.buildbin-libdir TarSeqQC_1.22.0.tar.gz && C:\Users\biocbuild\bbs-3.13-bioc\R\bin\R.exe CMD INSTALL TarSeqQC_1.22.0.zip && rm TarSeqQC_1.22.0.tar.gz TarSeqQC_1.22.0.zip
###
##############################################################################
##############################################################################
% Total % Received % Xferd Average Speed Time Time Time Current
Dload Upload Total Spent Left Speed
0 0 0 0 0 0 0 0 --:--:-- --:--:-- --:--:-- 0
81 1784k 81 1448k 0 0 1763k 0 0:00:01 --:--:-- 0:00:01 1762k
100 1784k 100 1784k 0 0 1904k 0 --:--:-- --:--:-- --:--:-- 1904k
install for i386
* installing *source* package 'TarSeqQC' ...
** using staged installation
** R
** data
** inst
** byte-compile and prepare package for lazy loading
** help
*** installing help indices
converting help for package 'TarSeqQC'
finding HTML links ... done
TEList html
TarSeqQC-package html
TargetExperiment-biasExploration html
TargetExperiment-buildFeaturePanel html
TargetExperiment-buildReport html
TargetExperiment-class html
TargetExperiment-constructor html
TargetExperiment-getters html
TargetExperiment-initialize html
TargetExperiment-plot html
TargetExperiment-plotAttrExpl html
TargetExperiment-plotAttrPerform html
TargetExperiment-plotFeatPerform html
TargetExperiment-plotFeature html
TargetExperiment-plotGeneAttrPerFeat html
TargetExperiment-plotMetaDataExpl html
TargetExperiment-plotNtdPercentage html
TargetExperiment-plotRegion html
TargetExperiment-print html
TargetExperiment-readFrequencies html
TargetExperiment-setters html
TargetExperiment-show html
TargetExperiment-statistics html
TargetExperiment-summarizePanel html
TargetExperimentList-class html
TargetExperimentList-constructor html
TargetExperimentList-initialize html
TargetExperimentList-plotGlobalAttrExpl
html
TargetExperimentList-plotPoolPerformance
html
ampliPanel html
ampliPanel2 html
checkBedFasta html
myCounts html
object html
REDIRECT:topic Previous alias or file overwritten by alias: C:/Users/biocbuild/bbs-3.13-bioc/meat/TarSeqQC.buildbin-libdir/00LOCK-TarSeqQC/00new/TarSeqQC/help/object.html
pileupCounts html
plotInOutFeatures html
** building package indices
** installing vignettes
** testing if installed package can be loaded from temporary location
** testing if installed package can be loaded from final location
** testing if installed package keeps a record of temporary installation path
install for x64
* installing *source* package 'TarSeqQC' ...
** testing if installed package can be loaded
* MD5 sums
packaged installation of 'TarSeqQC' as TarSeqQC_1.22.0.zip
* DONE (TarSeqQC)
* installing to library 'C:/Users/biocbuild/bbs-3.13-bioc/R/library'
package 'TarSeqQC' successfully unpacked and MD5 sums checked