| Back to Multiple platform build/check report for BioC 3.13 |
|
This page was generated on 2021-10-15 15:06:25 -0400 (Fri, 15 Oct 2021).
|
To the developers/maintainers of the TMixClust package: - Please allow up to 24 hours (and sometimes 48 hours) for your latest push to git@git.bioconductor.org:packages/TMixClust.git to reflect on this report. See How and When does the builder pull? When will my changes propagate? here for more information. - Make sure to use the following settings in order to reproduce any error or warning you see on this page. |
| Package 1928/2041 | Hostname | OS / Arch | INSTALL | BUILD | CHECK | BUILD BIN | ||||||||
| TMixClust 1.14.0 (landing page) Monica Golumbeanu
| nebbiolo1 | Linux (Ubuntu 20.04.2 LTS) / x86_64 | OK | OK | OK | |||||||||
| tokay2 | Windows Server 2012 R2 Standard / x64 | OK | OK | OK | OK | |||||||||
| machv2 | macOS 10.14.6 Mojave / x86_64 | OK | OK | OK | OK | |||||||||
| Package: TMixClust |
| Version: 1.14.0 |
| Command: C:\cygwin\bin\curl.exe -O http://155.52.207.165/BBS/3.13/bioc/src/contrib/TMixClust_1.14.0.tar.gz && rm -rf TMixClust.buildbin-libdir && mkdir TMixClust.buildbin-libdir && C:\Users\biocbuild\bbs-3.13-bioc\R\bin\R.exe CMD INSTALL --merge-multiarch --build --library=TMixClust.buildbin-libdir TMixClust_1.14.0.tar.gz && C:\Users\biocbuild\bbs-3.13-bioc\R\bin\R.exe CMD INSTALL TMixClust_1.14.0.zip && rm TMixClust_1.14.0.tar.gz TMixClust_1.14.0.zip |
| StartedAt: 2021-10-14 07:35:18 -0400 (Thu, 14 Oct 2021) |
| EndedAt: 2021-10-14 07:38:46 -0400 (Thu, 14 Oct 2021) |
| EllapsedTime: 207.4 seconds |
| RetCode: 0 |
| Status: OK |
##############################################################################
##############################################################################
###
### Running command:
###
### C:\cygwin\bin\curl.exe -O http://155.52.207.165/BBS/3.13/bioc/src/contrib/TMixClust_1.14.0.tar.gz && rm -rf TMixClust.buildbin-libdir && mkdir TMixClust.buildbin-libdir && C:\Users\biocbuild\bbs-3.13-bioc\R\bin\R.exe CMD INSTALL --merge-multiarch --build --library=TMixClust.buildbin-libdir TMixClust_1.14.0.tar.gz && C:\Users\biocbuild\bbs-3.13-bioc\R\bin\R.exe CMD INSTALL TMixClust_1.14.0.zip && rm TMixClust_1.14.0.tar.gz TMixClust_1.14.0.zip
###
##############################################################################
##############################################################################
% Total % Received % Xferd Average Speed Time Time Time Current
Dload Upload Total Spent Left Speed
0 0 0 0 0 0 0 0 --:--:-- --:--:-- --:--:-- 0
83 190k 83 159k 0 0 638k 0 --:--:-- --:--:-- --:--:-- 637k
100 190k 100 190k 0 0 760k 0 --:--:-- --:--:-- --:--:-- 760k
install for i386
* installing *source* package 'TMixClust' ...
** using staged installation
** R
** data
*** moving datasets to lazyload DB
** inst
** byte-compile and prepare package for lazy loading
** help
*** installing help indices
converting help for package 'TMixClust'
finding HTML links ... done
TMixClust-package html
TMixClust html
analyse_stability html
best_clust_toy_obj html
best_clust_yeast_obj html
generate_TMixClust_report html
get_time_series_df html
get_time_series_df_bio html
plot_silhouette html
plot_time_series_df html
toy_data_df html
** building package indices
** installing vignettes
** testing if installed package can be loaded from temporary location
** testing if installed package can be loaded from final location
** testing if installed package keeps a record of temporary installation path
install for x64
* installing *source* package 'TMixClust' ...
** testing if installed package can be loaded
* MD5 sums
packaged installation of 'TMixClust' as TMixClust_1.14.0.zip
* DONE (TMixClust)
* installing to library 'C:/Users/biocbuild/bbs-3.13-bioc/R/library'
package 'TMixClust' successfully unpacked and MD5 sums checked