| Back to Multiple platform build/check report for BioC 3.13 |
|
This page was generated on 2021-10-15 15:06:25 -0400 (Fri, 15 Oct 2021).
|
To the developers/maintainers of the TIN package: - Please allow up to 24 hours (and sometimes 48 hours) for your latest push to git@git.bioconductor.org:packages/TIN.git to reflect on this report. See How and When does the builder pull? When will my changes propagate? here for more information. - Make sure to use the following settings in order to reproduce any error or warning you see on this page. |
| Package 1923/2041 | Hostname | OS / Arch | INSTALL | BUILD | CHECK | BUILD BIN | ||||||||
| TIN 1.24.0 (landing page) Bjarne Johannessen
| nebbiolo1 | Linux (Ubuntu 20.04.2 LTS) / x86_64 | OK | OK | OK | |||||||||
| tokay2 | Windows Server 2012 R2 Standard / x64 | OK | OK | OK | OK | |||||||||
| machv2 | macOS 10.14.6 Mojave / x86_64 | OK | OK | OK | OK | |||||||||
| Package: TIN |
| Version: 1.24.0 |
| Command: rm -rf TIN.buildbin-libdir && mkdir TIN.buildbin-libdir && C:\Users\biocbuild\bbs-3.13-bioc\R\bin\R.exe CMD INSTALL --merge-multiarch --build --library=TIN.buildbin-libdir TIN_1.24.0.tar.gz |
| StartedAt: 2021-10-15 12:12:09 -0400 (Fri, 15 Oct 2021) |
| EndedAt: 2021-10-15 12:13:40 -0400 (Fri, 15 Oct 2021) |
| EllapsedTime: 91.2 seconds |
| RetCode: 0 |
| Status: OK |
| PackageFile: TIN_1.24.0.zip |
| PackageFileSize: 4.594 MiB |
##############################################################################
##############################################################################
###
### Running command:
###
### rm -rf TIN.buildbin-libdir && mkdir TIN.buildbin-libdir && C:\Users\biocbuild\bbs-3.13-bioc\R\bin\R.exe CMD INSTALL --merge-multiarch --build --library=TIN.buildbin-libdir TIN_1.24.0.tar.gz
###
##############################################################################
##############################################################################
install for i386
* installing *source* package 'TIN' ...
** using staged installation
** R
** data
** inst
** byte-compile and prepare package for lazy loading
The following object is masked _by_ package:aroma.affymetrix:
writeCdf
The following object is masked from package:R.utils:
findFiles
** help
*** installing help indices
converting help for package 'TIN'
finding HTML links ... done
aberrantExonUsage html
clusterPlot html
correlation html
correlationPlot html
firmaAnalysis html
geneAnnotation html
geneSetCorrelation html
geneSets html
posNegCorrPlot html
probesetPermutations html
readGeneSummaries html
sampleSetFirmaScores html
sampleSetGeneSummaries html
scatterPlot html
splicingFactors html
** building package indices
** installing vignettes
** testing if installed package can be loaded from temporary location
The following object is masked _by_ package:aroma.affymetrix:
writeCdf
The following object is masked from package:R.utils:
findFiles
** testing if installed package can be loaded from final location
The following object is masked _by_ package:aroma.affymetrix:
writeCdf
The following object is masked from package:R.utils:
findFiles
** testing if installed package keeps a record of temporary installation path
install for x64
* installing *source* package 'TIN' ...
** testing if installed package can be loaded
The following object is masked _by_ package:aroma.affymetrix:
writeCdf
The following object is masked from package:R.utils:
findFiles
* MD5 sums
packaged installation of 'TIN' as TIN_1.24.0.zip
* DONE (TIN)