| Back to Multiple platform build/check report for BioC 3.13 |
|
This page was generated on 2021-10-15 15:06:25 -0400 (Fri, 15 Oct 2021).
|
To the developers/maintainers of the TFEA.ChIP package: - Please allow up to 24 hours (and sometimes 48 hours) for your latest push to git@git.bioconductor.org:packages/TFEA.ChIP.git to reflect on this report. See How and When does the builder pull? When will my changes propagate? here for more information. - Make sure to use the following settings in order to reproduce any error or warning you see on this page. |
| Package 1909/2041 | Hostname | OS / Arch | INSTALL | BUILD | CHECK | BUILD BIN | ||||||||
| TFEA.ChIP 1.12.0 (landing page) Laura Puente SantamarĂa
| nebbiolo1 | Linux (Ubuntu 20.04.2 LTS) / x86_64 | OK | OK | OK | |||||||||
| tokay2 | Windows Server 2012 R2 Standard / x64 | OK | OK | OK | OK | |||||||||
| machv2 | macOS 10.14.6 Mojave / x86_64 | OK | OK | OK | OK | |||||||||
| Package: TFEA.ChIP |
| Version: 1.12.0 |
| Command: C:\cygwin\bin\curl.exe -O http://155.52.207.165/BBS/3.13/bioc/src/contrib/TFEA.ChIP_1.12.0.tar.gz && rm -rf TFEA.ChIP.buildbin-libdir && mkdir TFEA.ChIP.buildbin-libdir && C:\Users\biocbuild\bbs-3.13-bioc\R\bin\R.exe CMD INSTALL --merge-multiarch --build --library=TFEA.ChIP.buildbin-libdir TFEA.ChIP_1.12.0.tar.gz && C:\Users\biocbuild\bbs-3.13-bioc\R\bin\R.exe CMD INSTALL TFEA.ChIP_1.12.0.zip && rm TFEA.ChIP_1.12.0.tar.gz TFEA.ChIP_1.12.0.zip |
| StartedAt: 2021-10-14 10:14:50 -0400 (Thu, 14 Oct 2021) |
| EndedAt: 2021-10-14 10:16:10 -0400 (Thu, 14 Oct 2021) |
| EllapsedTime: 80.4 seconds |
| RetCode: 0 |
| Status: OK |
##############################################################################
##############################################################################
###
### Running command:
###
### C:\cygwin\bin\curl.exe -O http://155.52.207.165/BBS/3.13/bioc/src/contrib/TFEA.ChIP_1.12.0.tar.gz && rm -rf TFEA.ChIP.buildbin-libdir && mkdir TFEA.ChIP.buildbin-libdir && C:\Users\biocbuild\bbs-3.13-bioc\R\bin\R.exe CMD INSTALL --merge-multiarch --build --library=TFEA.ChIP.buildbin-libdir TFEA.ChIP_1.12.0.tar.gz && C:\Users\biocbuild\bbs-3.13-bioc\R\bin\R.exe CMD INSTALL TFEA.ChIP_1.12.0.zip && rm TFEA.ChIP_1.12.0.tar.gz TFEA.ChIP_1.12.0.zip
###
##############################################################################
##############################################################################
% Total % Received % Xferd Average Speed Time Time Time Current
Dload Upload Total Spent Left Speed
0 0 0 0 0 0 0 0 --:--:-- --:--:-- --:--:-- 0
26 3844k 26 1000k 0 0 1127k 0 0:00:03 --:--:-- 0:00:03 1126k
81 3844k 81 3137k 0 0 1664k 0 0:00:02 0:00:01 0:00:01 1664k
100 3844k 100 3844k 0 0 1793k 0 0:00:02 0:00:02 --:--:-- 1794k
install for i386
* installing *source* package 'TFEA.ChIP' ...
** using staged installation
** R
** data
** inst
** byte-compile and prepare package for lazy loading
** help
*** installing help indices
converting help for package 'TFEA.ChIP'
finding HTML links ... done
ARNT.metadata html
ARNT.peaks.bed html
DnaseHS_db html
Entrez.gene.IDs html
GR2tfbs_db html
GSEA.result html
GSEA_ESpermutations html
GSEA_EnrichmentScore html
GSEA_run html
GeneID2entrez html
Genes.Upreg html
Mat01 html
MetaData html
Select_genes html
contingency_matrix html
getCMstats html
get_LFC_bar html
get_chip_index html
gr.list html
highlight_TF html
hypoxia html
hypoxia_DESeq html
log2.FC html
makeTFBSmatrix html
plot_CM html
plot_ES html
plot_RES html
preprocessInputData html
rankTFs html
set_user_data html
tfbs.database html
txt2GR html
** building package indices
** installing vignettes
** testing if installed package can be loaded from temporary location
** testing if installed package can be loaded from final location
** testing if installed package keeps a record of temporary installation path
install for x64
* installing *source* package 'TFEA.ChIP' ...
** testing if installed package can be loaded
* MD5 sums
packaged installation of 'TFEA.ChIP' as TFEA.ChIP_1.12.0.zip
* DONE (TFEA.ChIP)
* installing to library 'C:/Users/biocbuild/bbs-3.13-bioc/R/library'
package 'TFEA.ChIP' successfully unpacked and MD5 sums checked