| Back to Multiple platform build/check report for BioC 3.13 | 
  | 
This page was generated on 2021-10-15 15:06:25 -0400 (Fri, 15 Oct 2021).
| 
To the developers/maintainers of the TDARACNE package: - Please allow up to 24 hours (and sometimes 48 hours) for your latest push to git@git.bioconductor.org:packages/TDARACNE.git to reflect on this report. See How and When does the builder pull? When will my changes propagate? here for more information. - Make sure to use the following settings in order to reproduce any error or warning you see on this page.  | 
| Package 1903/2041 | Hostname | OS / Arch | INSTALL | BUILD | CHECK | BUILD BIN | ||||||||
| TDARACNE 1.42.0  (landing page) Zoppoli Pietro 
  | nebbiolo1 | Linux (Ubuntu 20.04.2 LTS) / x86_64 | OK | OK | OK | |||||||||
| tokay2 | Windows Server 2012 R2 Standard / x64 | OK | OK | OK | OK | |||||||||
| machv2 | macOS 10.14.6 Mojave / x86_64 | OK | OK | OK | OK | |||||||||
| Package: TDARACNE | 
| Version: 1.42.0 | 
| Command: rm -rf TDARACNE.buildbin-libdir && mkdir TDARACNE.buildbin-libdir && C:\Users\biocbuild\bbs-3.13-bioc\R\bin\R.exe CMD INSTALL --merge-multiarch --build --library=TDARACNE.buildbin-libdir TDARACNE_1.42.0.tar.gz | 
| StartedAt: 2021-10-15 12:09:17 -0400 (Fri, 15 Oct 2021) | 
| EndedAt: 2021-10-15 12:11:03 -0400 (Fri, 15 Oct 2021) | 
| EllapsedTime: 106.0 seconds | 
| RetCode: 0 | 
| Status: OK | 
| PackageFile: TDARACNE_1.42.0.zip | 
| PackageFileSize: 185.5 KiB | 
##############################################################################
##############################################################################
###
### Running command:
###
###   rm -rf TDARACNE.buildbin-libdir && mkdir TDARACNE.buildbin-libdir && C:\Users\biocbuild\bbs-3.13-bioc\R\bin\R.exe CMD INSTALL --merge-multiarch --build --library=TDARACNE.buildbin-libdir TDARACNE_1.42.0.tar.gz
###
##############################################################################
##############################################################################
install for i386
* installing *source* package 'TDARACNE' ...
** using staged installation
** R
** data
** inst
** byte-compile and prepare package for lazy loading
** help
*** installing help indices
  converting help for package 'TDARACNE'
    finding HTML links ... done
    CalcMI_time2                            html  
    DPI2_TDAracne                           html  
    DPI_TDAracne                            html  
    IcEfx                                   html  
    MItimeIcE2                              html  
    MItimeThreshperm2                       html  
    PercentileC                             html  
    RangeRank2                              html  
    TDARACNE                                html  
    TDARACNEdataPublished                   html  
    ToTheGraph_timeShiftmax2                html  
    bootstrap                               html  
    dataIRMAoff                             html  
    dataIRMAon                              html  
    dataSOSmean                             html  
    dataYeast                               html  
    plotRgraphviz                           html  
    saveTime                                html  
    threshIRMAon                            html  
    threshSOSmean                           html  
    threshYeast                             html  
** building package indices
** installing vignettes
** testing if installed package can be loaded from temporary location
** testing if installed package can be loaded from final location
** testing if installed package keeps a record of temporary installation path
install for x64
* installing *source* package 'TDARACNE' ...
** testing if installed package can be loaded
* MD5 sums
packaged installation of 'TDARACNE' as TDARACNE_1.42.0.zip
* DONE (TDARACNE)