| Back to Multiple platform build/check report for BioC 3.13 |
|
This page was generated on 2021-10-15 15:06:55 -0400 (Fri, 15 Oct 2021).
|
To the developers/maintainers of the TCC package: - Please allow up to 24 hours (and sometimes 48 hours) for your latest push to git@git.bioconductor.org:packages/TCC.git to reflect on this report. See How and When does the builder pull? When will my changes propagate? here for more information. - Make sure to use the following settings in order to reproduce any error or warning you see on this page. |
| Package 1898/2041 | Hostname | OS / Arch | INSTALL | BUILD | CHECK | BUILD BIN | ||||||||
| TCC 1.32.0 (landing page) Jianqiang Sun
| nebbiolo1 | Linux (Ubuntu 20.04.2 LTS) / x86_64 | OK | OK | OK | |||||||||
| tokay2 | Windows Server 2012 R2 Standard / x64 | OK | OK | OK | OK | |||||||||
| machv2 | macOS 10.14.6 Mojave / x86_64 | OK | OK | OK | OK | |||||||||
| Package: TCC |
| Version: 1.32.0 |
| Command: /Library/Frameworks/R.framework/Versions/Current/Resources/bin/R CMD check --install=check:TCC.install-out.txt --library=/Library/Frameworks/R.framework/Versions/Current/Resources/library --no-vignettes --timings TCC_1.32.0.tar.gz |
| StartedAt: 2021-10-15 00:36:58 -0400 (Fri, 15 Oct 2021) |
| EndedAt: 2021-10-15 00:45:38 -0400 (Fri, 15 Oct 2021) |
| EllapsedTime: 519.7 seconds |
| RetCode: 0 |
| Status: OK |
| CheckDir: TCC.Rcheck |
| Warnings: 0 |
##############################################################################
##############################################################################
###
### Running command:
###
### /Library/Frameworks/R.framework/Versions/Current/Resources/bin/R CMD check --install=check:TCC.install-out.txt --library=/Library/Frameworks/R.framework/Versions/Current/Resources/library --no-vignettes --timings TCC_1.32.0.tar.gz
###
##############################################################################
##############################################################################
* using log directory ‘/Users/biocbuild/bbs-3.13-bioc/meat/TCC.Rcheck’
* using R version 4.1.1 (2021-08-10)
* using platform: x86_64-apple-darwin17.0 (64-bit)
* using session charset: UTF-8
* using option ‘--no-vignettes’
* checking for file ‘TCC/DESCRIPTION’ ... OK
* checking extension type ... Package
* this is package ‘TCC’ version ‘1.32.0’
* checking package namespace information ... OK
* checking package dependencies ... OK
* checking if this is a source package ... OK
* checking if there is a namespace ... OK
* checking for hidden files and directories ... NOTE
Found the following hidden files and directories:
.git_fetch_output.txt
.git_merge_output.txt
These were most likely included in error. See section ‘Package
structure’ in the ‘Writing R Extensions’ manual.
* checking for portable file names ... OK
* checking for sufficient/correct file permissions ... OK
* checking whether package ‘TCC’ can be installed ... OK
* checking installed package size ... OK
* checking package directory ... OK
* checking ‘build’ directory ... OK
* checking DESCRIPTION meta-information ... OK
* checking top-level files ... OK
* checking for left-over files ... OK
* checking index information ... OK
* checking package subdirectories ... OK
* checking R files for non-ASCII characters ... OK
* checking R files for syntax errors ... OK
* checking whether the package can be loaded ... OK
* checking whether the package can be loaded with stated dependencies ... OK
* checking whether the package can be unloaded cleanly ... OK
* checking whether the namespace can be loaded with stated dependencies ... OK
* checking whether the namespace can be unloaded cleanly ... OK
* checking dependencies in R code ... OK
* checking S3 generic/method consistency ... OK
* checking replacement functions ... OK
* checking foreign function calls ... OK
* checking R code for possible problems ... OK
* checking Rd files ... OK
* checking Rd metadata ... OK
* checking Rd cross-references ... OK
* checking for missing documentation entries ... OK
* checking for code/documentation mismatches ... OK
* checking Rd \usage sections ... OK
* checking Rd contents ... OK
* checking for unstated dependencies in examples ... OK
* checking contents of ‘data’ directory ... OK
* checking data for non-ASCII characters ... OK
* checking data for ASCII and uncompressed saves ... OK
* checking sizes of PDF files under ‘inst/doc’ ... OK
* checking files in ‘vignettes’ ... OK
* checking examples ... OK
Examples with CPU (user + system) or elapsed time > 5s
user system elapsed
simulateReadCounts 12.309 0.046 12.375
TCC-class 9.394 0.273 9.672
plot.TCC 7.853 0.156 8.022
plotFCPseudocolor 7.481 0.027 7.521
* checking for unstated dependencies in ‘tests’ ... OK
* checking tests ...
Running ‘runTests.R’
OK
* checking for unstated dependencies in vignettes ... OK
* checking package vignettes in ‘inst/doc’ ... OK
* checking running R code from vignettes ... SKIPPED
* checking re-building of vignette outputs ... SKIPPED
* checking PDF version of manual ... OK
* DONE
Status: 1 NOTE
See
‘/Users/biocbuild/bbs-3.13-bioc/meat/TCC.Rcheck/00check.log’
for details.
TCC.Rcheck/00install.out
############################################################################## ############################################################################## ### ### Running command: ### ### /Library/Frameworks/R.framework/Versions/Current/Resources/bin/R CMD INSTALL TCC ### ############################################################################## ############################################################################## * installing to library ‘/Library/Frameworks/R.framework/Versions/4.1/Resources/library’ * installing *source* package ‘TCC’ ... ** using staged installation ** R ** data ** inst ** byte-compile and prepare package for lazy loading Creating a new generic function for ‘calcNormFactors’ in package ‘TCC’ ** help *** installing help indices ** building package indices ** installing vignettes ** testing if installed package can be loaded from temporary location ** testing if installed package can be loaded from final location ** testing if installed package keeps a record of temporary installation path * DONE (TCC)
TCC.Rcheck/tests/runTests.Rout
R version 4.1.1 (2021-08-10) -- "Kick Things"
Copyright (C) 2021 The R Foundation for Statistical Computing
Platform: x86_64-apple-darwin17.0 (64-bit)
R is free software and comes with ABSOLUTELY NO WARRANTY.
You are welcome to redistribute it under certain conditions.
Type 'license()' or 'licence()' for distribution details.
R is a collaborative project with many contributors.
Type 'contributors()' for more information and
'citation()' on how to cite R or R packages in publications.
Type 'demo()' for some demos, 'help()' for on-line help, or
'help.start()' for an HTML browser interface to help.
Type 'q()' to quit R.
> BiocGenerics:::testPackage("TCC")
Attaching package: 'BiocGenerics'
The following objects are masked from 'package:parallel':
clusterApply, clusterApplyLB, clusterCall, clusterEvalQ,
clusterExport, clusterMap, parApply, parCapply, parLapply,
parLapplyLB, parRapply, parSapply, parSapplyLB
The following objects are masked from 'package:stats':
IQR, mad, sd, var, xtabs
The following objects are masked from 'package:base':
Filter, Find, Map, Position, Reduce, anyDuplicated, append,
as.data.frame, basename, cbind, colnames, dirname, do.call,
duplicated, eval, evalq, get, grep, grepl, intersect, is.unsorted,
lapply, mapply, match, mget, order, paste, pmax, pmax.int, pmin,
pmin.int, rank, rbind, rownames, sapply, setdiff, sort, table,
tapply, union, unique, unsplit, which.max, which.min
Attaching package: 'S4Vectors'
The following objects are masked from 'package:base':
I, expand.grid, unname
Attaching package: 'MatrixGenerics'
The following objects are masked from 'package:matrixStats':
colAlls, colAnyNAs, colAnys, colAvgsPerRowSet, colCollapse,
colCounts, colCummaxs, colCummins, colCumprods, colCumsums,
colDiffs, colIQRDiffs, colIQRs, colLogSumExps, colMadDiffs,
colMads, colMaxs, colMeans2, colMedians, colMins, colOrderStats,
colProds, colQuantiles, colRanges, colRanks, colSdDiffs, colSds,
colSums2, colTabulates, colVarDiffs, colVars, colWeightedMads,
colWeightedMeans, colWeightedMedians, colWeightedSds,
colWeightedVars, rowAlls, rowAnyNAs, rowAnys, rowAvgsPerColSet,
rowCollapse, rowCounts, rowCummaxs, rowCummins, rowCumprods,
rowCumsums, rowDiffs, rowIQRDiffs, rowIQRs, rowLogSumExps,
rowMadDiffs, rowMads, rowMaxs, rowMeans2, rowMedians, rowMins,
rowOrderStats, rowProds, rowQuantiles, rowRanges, rowRanks,
rowSdDiffs, rowSds, rowSums2, rowTabulates, rowVarDiffs, rowVars,
rowWeightedMads, rowWeightedMeans, rowWeightedMedians,
rowWeightedSds, rowWeightedVars
Welcome to Bioconductor
Vignettes contain introductory material; view with
'browseVignettes()'. To cite Bioconductor, see
'citation("Biobase")', and for packages 'citation("pkgname")'.
Attaching package: 'Biobase'
The following object is masked from 'package:MatrixGenerics':
rowMedians
The following objects are masked from 'package:matrixStats':
anyMissing, rowMedians
Attaching package: 'limma'
The following object is masked from 'package:DESeq2':
plotMA
The following object is masked from 'package:BiocGenerics':
plotMA
Attaching package: 'TCC'
The following object is masked from 'package:edgeR':
calcNormFactors
TCC::INFO: Identifying DE genes using wad ...
TCC::INFO: Done.
TCC::INFO: Identifying DE genes using wad ...
TCC::INFO: Done.
TCC::INFO: Calculating normalization factors using tmm ...
TCC::INFO: Done.
TCC::INFO: Calculating normalization factors using DEGES
TCC::INFO: (iDEGES pipeline : tmm - [ edger - tmm ] X 1 )
TCC::INFO: Done.
TCC::INFO: Calculating normalization factors using DEGES
TCC::INFO: (iDEGES pipeline : tmm - [ edger - tmm ] X 1 )
TCC::INFO: Done.
TCC::INFO: Calculating normalization factors using DEGES
TCC::INFO: (iDEGES pipeline : tmm - [ edger - tmm ] X 3 )
TCC::INFO: Done.
TCC::INFO: Calculating normalization factors using DEGES
TCC::INFO: (iDEGES pipeline : tmm - [ edger - tmm ] X 1 )
TCC::INFO: Done.
TCC::INFO: Calculating normalization factors using DEGES
TCC::INFO: (iDEGES pipeline : tmm - [ edger - tmm ] X 2 )
TCC::INFO: Done.
TCC::INFO: Calculating normalization factors using DEGES
TCC::INFO: (iDEGES pipeline : tmm - [ edger - tmm ] X 3 )
TCC::INFO: Done.
TCC::INFO: Calculating normalization factors using DEGES
TCC::INFO: (iDEGES pipeline : tmm - [ edger - tmm ] X 1 )
TCC::INFO: Done.
TCC::INFO: Calculating normalization factors using DEGES
TCC::INFO: (iDEGES pipeline : tmm - [ edger - tmm ] X 3 )
TCC::INFO: Done.
TCC::INFO: Generating simulation data under NB distribution ...
TCC::INFO: (genesizes : 1000 )
TCC::INFO: (replicates : 3, 3 )
TCC::INFO: (PDEG : 0.16, 0.04 )
TCC::INFO: Calculating normalization factors using DEGES
TCC::INFO: (iDEGES pipeline : tmm - [ bayseq - tmm ] X 1 )
TCC::INFO: Done.
TCC::INFO: Calculating normalization factors using DEGES
TCC::INFO: (iDEGES pipeline : deseq2 - [ bayseq - deseq2 ] X 1 )
TCC::INFO: Done.
TCC::INFO: Identifying DE genes using bayseq ...
TCC::INFO: Done.
[1] 0.7973438
TCC::INFO: Calculating normalization factors using DEGES
TCC::INFO: (iDEGES pipeline : tmm - [ deseq2 - tmm ] X 1 )
TCC::INFO: Done.
TCC::INFO: Calculating normalization factors using DEGES
TCC::INFO: (iDEGES pipeline : deseq2 - [ deseq2 - deseq2 ] X 1 )
TCC::INFO: Done.
TCC::INFO: Identifying DE genes using deseq2 ...
TCC::INFO: Done.
[1] 0.8962219
TCC::INFO: Calculating normalization factors using DEGES
TCC::INFO: (iDEGES pipeline : tmm - [ edger - tmm ] X 1 )
TCC::INFO: Done.
TCC::INFO: Calculating normalization factors using DEGES
TCC::INFO: (iDEGES pipeline : deseq2 - [ edger - deseq2 ] X 1 )
TCC::INFO: Done.
TCC::INFO: Identifying DE genes using edger ...
TCC::INFO: Done.
[1] 0.8923281
TCC::INFO: Calculating normalization factors using DEGES
TCC::INFO: (iDEGES pipeline : tmm - [ voom - tmm ] X 1 )
TCC::INFO: Done.
TCC::INFO: Calculating normalization factors using DEGES
TCC::INFO: (iDEGES pipeline : deseq2 - [ voom - deseq2 ] X 1 )
TCC::INFO: Done.
TCC::INFO: Identifying DE genes using voom ...
TCC::INFO: Done.
[1] 0.8621406
TCC::INFO: Generating simulation data under NB distribution ...
TCC::INFO: (genesizes : 1000 )
TCC::INFO: (samples : 8 )
TCC::INFO: (factors : 2 )
TCC::INFO: (PDEG : 0.1 )
TCC::INFO: Calculating normalization factors using DEGES
TCC::INFO: (iDEGES pipeline : tmm - [ bayseq - tmm ] X 1 )
TCC::INFO: Done.
TCC::INFO: Calculating normalization factors using DEGES
TCC::INFO: (iDEGES pipeline : deseq2 - [ bayseq - deseq2 ] X 1 )
TCC::INFO: Done.
TCC::INFO: Identifying DE genes using bayseq ...
TCC::INFO: Done.
[1] 0.7946778
TCC::INFO: Calculating normalization factors using DEGES
TCC::INFO: (iDEGES pipeline : tmm - [ deseq2 - tmm ] X 1 )
TCC::INFO: Done.
TCC::INFO: Calculating normalization factors using DEGES
TCC::INFO: (iDEGES pipeline : deseq2 - [ deseq2 - deseq2 ] X 1 )
TCC::INFO: Done.
TCC::INFO: Identifying DE genes using deseq2 ...
TCC::INFO: Done.
[1] 0.8696778
TCC::INFO: Calculating normalization factors using DEGES
TCC::INFO: (iDEGES pipeline : tmm - [ edger - tmm ] X 1 )
TCC::INFO: Done.
TCC::INFO: Calculating normalization factors using DEGES
TCC::INFO: (iDEGES pipeline : deseq2 - [ edger - deseq2 ] X 1 )
TCC::INFO: Done.
TCC::INFO: Identifying DE genes using edger ...
TCC::INFO: Done.
[1] 0.8986444
TCC::INFO: Calculating normalization factors using DEGES
TCC::INFO: (iDEGES pipeline : tmm - [ voom - tmm ] X 1 )
TCC::INFO: Done.
TCC::INFO: Calculating normalization factors using DEGES
TCC::INFO: (iDEGES pipeline : deseq2 - [ voom - deseq2 ] X 1 )
TCC::INFO: Done.
TCC::INFO: Identifying DE genes using voom ...
TCC::INFO: Done.
[1] 0.8815667
TCC::INFO: Generating simulation data under NB distribution ...
TCC::INFO: (genesizes : 1000 )
TCC::INFO: (replicates : 3, 3, 3 )
TCC::INFO: (PDEG : 0.12, 0.04, 0.04 )
TCC::INFO: Calculating normalization factors using DEGES
TCC::INFO: (iDEGES pipeline : tmm - [ bayseq - tmm ] X 1 )
TCC::INFO: Done.
TCC::INFO: Calculating normalization factors using DEGES
TCC::INFO: (iDEGES pipeline : deseq2 - [ bayseq - deseq2 ] X 1 )
TCC::INFO: Done.
TCC::INFO: Identifying DE genes using bayseq ...
TCC::INFO: Done.
[1] 0.6586125
TCC::INFO: Calculating normalization factors using DEGES
TCC::INFO: (iDEGES pipeline : tmm - [ deseq2 - tmm ] X 1 )
TCC::INFO: Done.
TCC::INFO: Calculating normalization factors using DEGES
TCC::INFO: (iDEGES pipeline : deseq2 - [ deseq2 - deseq2 ] X 1 )
TCC::INFO: Done.
TCC::INFO: Identifying DE genes using deseq2 ...
TCC::INFO: Done.
[1] 0.8559625
TCC::INFO: Calculating normalization factors using DEGES
TCC::INFO: (iDEGES pipeline : tmm - [ edger - tmm ] X 1 )
TCC::INFO: Done.
TCC::INFO: Calculating normalization factors using DEGES
TCC::INFO: (iDEGES pipeline : deseq2 - [ edger - deseq2 ] X 1 )
TCC::INFO: Done.
TCC::INFO: Identifying DE genes using edger ...
TCC::INFO: Done.
[1] 0.8673437
TCC::INFO: Calculating normalization factors using DEGES
TCC::INFO: (iDEGES pipeline : tmm - [ voom - tmm ] X 1 )
TCC::INFO: Done.
TCC::INFO: Calculating normalization factors using DEGES
TCC::INFO: (iDEGES pipeline : deseq2 - [ voom - deseq2 ] X 1 )
TCC::INFO: Done.
TCC::INFO: Identifying DE genes using voom ...
TCC::INFO: Done.
[1] 0.8355187
TCC::INFO: Generating simulation data under NB distribution ...
TCC::INFO: (genesizes : 1000 )
TCC::INFO: (samples : 12 )
TCC::INFO: (factors : 2 )
TCC::INFO: (PDEG : 0.1 )
TCC::INFO: Calculating normalization factors using DEGES
TCC::INFO: (iDEGES pipeline : tmm - [ bayseq - tmm ] X 1 )
TCC::INFO: Done.
TCC::INFO: Calculating normalization factors using DEGES
TCC::INFO: (iDEGES pipeline : deseq2 - [ bayseq - deseq2 ] X 1 )
TCC::INFO: Done.
TCC::INFO: Identifying DE genes using bayseq ...
TCC::INFO: Done.
[1] 0.6258469
TCC::INFO: Calculating normalization factors using DEGES
TCC::INFO: (iDEGES pipeline : tmm - [ deseq2 - tmm ] X 1 )
TCC::INFO: Done.
TCC::INFO: Calculating normalization factors using DEGES
TCC::INFO: (iDEGES pipeline : deseq2 - [ deseq2 - deseq2 ] X 1 )
TCC::INFO: Done.
TCC::INFO: Identifying DE genes using deseq2 ...
TCC::INFO: Done.
[1] 0.9129794
TCC::INFO: Calculating normalization factors using DEGES
TCC::INFO: (iDEGES pipeline : tmm - [ edger - tmm ] X 1 )
TCC::INFO: Done.
TCC::INFO: Calculating normalization factors using DEGES
TCC::INFO: (iDEGES pipeline : deseq2 - [ edger - deseq2 ] X 1 )
TCC::INFO: Done.
TCC::INFO: Identifying DE genes using edger ...
TCC::INFO: Done.
[1] 0.7513251
TCC::INFO: Calculating normalization factors using DEGES
TCC::INFO: (iDEGES pipeline : tmm - [ voom - tmm ] X 1 )
TCC::INFO: Done.
TCC::INFO: Calculating normalization factors using DEGES
TCC::INFO: (iDEGES pipeline : deseq2 - [ voom - deseq2 ] X 1 )
TCC::INFO: Done.
TCC::INFO: Identifying DE genes using voom ...
TCC::INFO: Done.
[1] 0.8871105
TCC::INFO: Calculating normalization factors using tmm ...
TCC::INFO: Done.
TCC::INFO: Identifying DE genes using edger ...
TCC::INFO: Done.
TCC::INFO: Calculating normalization factors using tmm ...
TCC::INFO: Done.
TCC::INFO: Identifying DE genes using edger ...
TCC::INFO: Done.
TCC::INFO: Generating simulation data under NB distribution ...
TCC::INFO: (genesizes : 1000 )
TCC::INFO: (replicates : 3, 3 )
TCC::INFO: (PDEG : 0.18, 0.02 )
TCC::INFO: Generating simulation data under NB distribution ...
TCC::INFO: (genesizes : 1000 )
TCC::INFO: (replicates : 3, 3, 3 )
TCC::INFO: (PDEG : 0.18, 0.01, 0.01 )
RUNIT TEST PROTOCOL -- Fri Oct 15 00:45:26 2021
***********************************************
Number of test functions: 10
Number of errors: 0
Number of failures: 0
1 Test Suite :
TCC RUnit Tests - 10 test functions, 0 errors, 0 failures
Number of test functions: 10
Number of errors: 0
Number of failures: 0
>
> proc.time()
user system elapsed
211.319 1.717 213.218
TCC.Rcheck/TCC-Ex.timings
| name | user | system | elapsed | |
| ROKU | 0.019 | 0.004 | 0.023 | |
| TCC-class | 9.394 | 0.273 | 9.672 | |
| TCC | 0.008 | 0.002 | 0.009 | |
| WAD | 0.188 | 0.005 | 0.193 | |
| arab | 0.042 | 0.004 | 0.045 | |
| calcAUCValue | 4.554 | 0.043 | 4.600 | |
| calcNormFactors | 1.625 | 0.035 | 1.660 | |
| clusterSample | 0.294 | 0.012 | 0.308 | |
| estimateDE | 0.762 | 0.013 | 0.775 | |
| filterLowCountGenes | 0.026 | 0.007 | 0.034 | |
| getNormalizedData | 0.527 | 0.012 | 0.540 | |
| getResult | 0.938 | 0.027 | 0.965 | |
| hypoData | 3.637 | 0.015 | 3.655 | |
| hypoData_mg | 3.519 | 0.009 | 3.529 | |
| hypoData_ts | 0.002 | 0.003 | 0.004 | |
| makeFCMatrix | 0.003 | 0.000 | 0.004 | |
| nakai | 0.053 | 0.004 | 0.056 | |
| plot.TCC | 7.853 | 0.156 | 8.022 | |
| plotFCPseudocolor | 7.481 | 0.027 | 7.521 | |
| simulateReadCounts | 12.309 | 0.046 | 12.375 | |