| Back to Multiple platform build/check report for BioC 3.13 |
|
This page was generated on 2021-10-15 15:06:25 -0400 (Fri, 15 Oct 2021).
|
To the developers/maintainers of the TBSignatureProfiler package: - Please allow up to 24 hours (and sometimes 48 hours) for your latest push to git@git.bioconductor.org:packages/TBSignatureProfiler.git to reflect on this report. See How and When does the builder pull? When will my changes propagate? here for more information. - Make sure to use the following settings in order to reproduce any error or warning you see on this page. |
| Package 1897/2041 | Hostname | OS / Arch | INSTALL | BUILD | CHECK | BUILD BIN | ||||||||
| TBSignatureProfiler 1.4.11 (landing page) Aubrey Odom
| nebbiolo1 | Linux (Ubuntu 20.04.2 LTS) / x86_64 | OK | OK | OK | |||||||||
| tokay2 | Windows Server 2012 R2 Standard / x64 | OK | OK | OK | OK | |||||||||
| machv2 | macOS 10.14.6 Mojave / x86_64 | OK | OK | OK | OK | |||||||||
| Package: TBSignatureProfiler |
| Version: 1.4.11 |
| Command: C:\Users\biocbuild\bbs-3.13-bioc\R\bin\R.exe CMD check --force-multiarch --install=check:TBSignatureProfiler.install-out.txt --library=C:\Users\biocbuild\bbs-3.13-bioc\R\library --no-vignettes --timings TBSignatureProfiler_1.4.11.tar.gz |
| StartedAt: 2021-10-15 06:28:21 -0400 (Fri, 15 Oct 2021) |
| EndedAt: 2021-10-15 06:34:48 -0400 (Fri, 15 Oct 2021) |
| EllapsedTime: 387.2 seconds |
| RetCode: 0 |
| Status: OK |
| CheckDir: TBSignatureProfiler.Rcheck |
| Warnings: 0 |
##############################################################################
##############################################################################
###
### Running command:
###
### C:\Users\biocbuild\bbs-3.13-bioc\R\bin\R.exe CMD check --force-multiarch --install=check:TBSignatureProfiler.install-out.txt --library=C:\Users\biocbuild\bbs-3.13-bioc\R\library --no-vignettes --timings TBSignatureProfiler_1.4.11.tar.gz
###
##############################################################################
##############################################################################
* using log directory 'C:/Users/biocbuild/bbs-3.13-bioc/meat/TBSignatureProfiler.Rcheck'
* using R version 4.1.1 (2021-08-10)
* using platform: x86_64-w64-mingw32 (64-bit)
* using session charset: ISO8859-1
* using option '--no-vignettes'
* checking for file 'TBSignatureProfiler/DESCRIPTION' ... OK
* this is package 'TBSignatureProfiler' version '1.4.11'
* package encoding: UTF-8
* checking package namespace information ... OK
* checking package dependencies ... OK
* checking if this is a source package ... OK
* checking if there is a namespace ... OK
* checking for hidden files and directories ... OK
* checking for portable file names ... OK
* checking whether package 'TBSignatureProfiler' can be installed ... OK
* checking installed package size ... NOTE
installed size is 5.0Mb
sub-directories of 1Mb or more:
data 4.3Mb
* checking package directory ... OK
* checking 'build' directory ... OK
* checking DESCRIPTION meta-information ... OK
* checking top-level files ... OK
* checking for left-over files ... OK
* checking index information ... OK
* checking package subdirectories ... OK
* checking R files for non-ASCII characters ... OK
* checking R files for syntax errors ... OK
* loading checks for arch 'i386'
** checking whether the package can be loaded ... OK
** checking whether the package can be loaded with stated dependencies ... OK
** checking whether the package can be unloaded cleanly ... OK
** checking whether the namespace can be loaded with stated dependencies ... OK
** checking whether the namespace can be unloaded cleanly ... OK
* loading checks for arch 'x64'
** checking whether the package can be loaded ... OK
** checking whether the package can be loaded with stated dependencies ... OK
** checking whether the package can be unloaded cleanly ... OK
** checking whether the namespace can be loaded with stated dependencies ... OK
** checking whether the namespace can be unloaded cleanly ... OK
* checking dependencies in R code ... OK
* checking S3 generic/method consistency ... OK
* checking replacement functions ... OK
* checking foreign function calls ... OK
* checking R code for possible problems ... OK
* checking Rd files ... OK
* checking Rd metadata ... OK
* checking Rd cross-references ... OK
* checking for missing documentation entries ... OK
* checking for code/documentation mismatches ... OK
* checking Rd \usage sections ... OK
* checking Rd contents ... OK
* checking for unstated dependencies in examples ... OK
* checking contents of 'data' directory ... OK
* checking data for non-ASCII characters ... OK
* checking LazyData ... OK
* checking data for ASCII and uncompressed saves ... OK
* checking files in 'vignettes' ... OK
* checking examples ...
** running examples for arch 'i386' ... OK
Examples with CPU (user + system) or elapsed time > 5s
user system elapsed
evaluateOriginalModel 13.02 1.02 14.03
compareAlgs 7.86 0.98 8.84
bootstrapAUC 8.12 0.65 8.80
signatureROCplot_CI 5.39 0.00 5.40
SignatureQuantitative 5.03 0.28 5.31
** running examples for arch 'x64' ... OK
Examples with CPU (user + system) or elapsed time > 5s
user system elapsed
bootstrapAUC 11.10 0.28 11.41
evaluateOriginalModel 9.01 0.76 9.78
signatureROCplot_CI 6.13 0.01 6.14
compareAlgs 5.42 0.44 5.86
* checking for unstated dependencies in 'tests' ... OK
* checking tests ...
** running tests for arch 'i386' ...
Running 'packagecoverage.R'
Running 'spelling.R'
Running 'testthat.R'
OK
** running tests for arch 'x64' ...
Running 'packagecoverage.R'
Running 'spelling.R'
Running 'testthat.R'
OK
* checking for unstated dependencies in vignettes ... OK
* checking package vignettes in 'inst/doc' ... OK
* checking running R code from vignettes ... SKIPPED
* checking re-building of vignette outputs ... SKIPPED
* checking PDF version of manual ... OK
* DONE
Status: 1 NOTE
See
'C:/Users/biocbuild/bbs-3.13-bioc/meat/TBSignatureProfiler.Rcheck/00check.log'
for details.
TBSignatureProfiler.Rcheck/00install.out
##############################################################################
##############################################################################
###
### Running command:
###
### C:\cygwin\bin\curl.exe -O http://155.52.207.165/BBS/3.13/bioc/src/contrib/TBSignatureProfiler_1.4.11.tar.gz && rm -rf TBSignatureProfiler.buildbin-libdir && mkdir TBSignatureProfiler.buildbin-libdir && C:\Users\biocbuild\bbs-3.13-bioc\R\bin\R.exe CMD INSTALL --merge-multiarch --build --library=TBSignatureProfiler.buildbin-libdir TBSignatureProfiler_1.4.11.tar.gz && C:\Users\biocbuild\bbs-3.13-bioc\R\bin\R.exe CMD INSTALL TBSignatureProfiler_1.4.11.zip && rm TBSignatureProfiler_1.4.11.tar.gz TBSignatureProfiler_1.4.11.zip
###
##############################################################################
##############################################################################
% Total % Received % Xferd Average Speed Time Time Time Current
Dload Upload Total Spent Left Speed
0 0 0 0 0 0 0 0 --:--:-- --:--:-- --:--:-- 0
40 2829k 40 1158k 0 0 1175k 0 0:00:02 --:--:-- 0:00:02 1175k
100 2829k 100 2829k 0 0 1606k 0 0:00:01 0:00:01 --:--:-- 1606k
install for i386
* installing *source* package 'TBSignatureProfiler' ...
** using staged installation
** R
** data
*** moving datasets to lazyload DB
** inst
** byte-compile and prepare package for lazy loading
** help
*** installing help indices
converting help for package 'TBSignatureProfiler'
finding HTML links ... done
Bootstrap_LOOCV_LR_AUC html
COVIDsignatures html
LOOAUC_simple_multiple_noplot_one_df html
ObtainSampleScore_OriginalModel html
OriginalTrainingData html
SignatureQuantitative html
SulimanOriginalModel html
TBSPapp html
TB_hiv html
TB_indian html
TBcommon html
TBsignatures html
TBsignaturesSplit html
addTBsignature html
bootstrapAUC html
common_sigAnnotData html
compareAlgs html
compareBoxplots html
cv_glmnet_OriginalModel html
deseq2_norm_rle html
distinctColors html
dot-OriginalModel_NoRetraining html
dot-OriginalModel_Retraining html
evaluateOriginalModel html
knn_OriginalModel html
lda_OriginalModel html
mkAssay html
plotQuantitative html
randomForest_OriginalModel html
ref_combat_impute html
runTBsigProfiler html
sigAnnotData html
signatureBoxplot html
signatureGeneHeatmap html
signatureHeatmap html
signatureROCplot html
signatureROCplot_CI html
subsetGeneSet html
svm_OriginalModel html
tableAUC html
** building package indices
** installing vignettes
** testing if installed package can be loaded from temporary location
** testing if installed package can be loaded from final location
** testing if installed package keeps a record of temporary installation path
install for x64
* installing *source* package 'TBSignatureProfiler' ...
** testing if installed package can be loaded
* MD5 sums
packaged installation of 'TBSignatureProfiler' as TBSignatureProfiler_1.4.11.zip
* DONE (TBSignatureProfiler)
* installing to library 'C:/Users/biocbuild/bbs-3.13-bioc/R/library'
package 'TBSignatureProfiler' successfully unpacked and MD5 sums checked
|
TBSignatureProfiler.Rcheck/tests_i386/packagecoverage.Rout
R version 4.1.1 (2021-08-10) -- "Kick Things"
Copyright (C) 2021 The R Foundation for Statistical Computing
Platform: i386-w64-mingw32/i386 (32-bit)
R is free software and comes with ABSOLUTELY NO WARRANTY.
You are welcome to redistribute it under certain conditions.
Type 'license()' or 'licence()' for distribution details.
R is a collaborative project with many contributors.
Type 'contributors()' for more information and
'citation()' on how to cite R or R packages in publications.
Type 'demo()' for some demos, 'help()' for on-line help, or
'help.start()' for an HTML browser interface to help.
Type 'q()' to quit R.
> # Coverage Script
> # Run tests and generate Code Coverage Report
>
> # Look at a specific script ---------------------------------------------------
> #test_for_me <- function(codefile, testfile) {
> # test_file(testfile)
> # res <- covr::file_coverage(codefile, testfile)
> # print(res)
> # covr::report(res)
> #}
>
> #test_for_me("R/evaluate.R", "tests/testthat/test-evaluate.R")
>
> # Look at whole package -------------------------------------------------------
>
> # Gets percent coverage for entire package, by script
>
> #covr::package_coverage()
> #
> # Report with gui (probably the best here)
> #covr::report()
>
>
>
>
>
>
> proc.time()
user system elapsed
0.25 0.04 0.28
|
TBSignatureProfiler.Rcheck/tests_x64/packagecoverage.Rout
R version 4.1.1 (2021-08-10) -- "Kick Things"
Copyright (C) 2021 The R Foundation for Statistical Computing
Platform: x86_64-w64-mingw32/x64 (64-bit)
R is free software and comes with ABSOLUTELY NO WARRANTY.
You are welcome to redistribute it under certain conditions.
Type 'license()' or 'licence()' for distribution details.
R is a collaborative project with many contributors.
Type 'contributors()' for more information and
'citation()' on how to cite R or R packages in publications.
Type 'demo()' for some demos, 'help()' for on-line help, or
'help.start()' for an HTML browser interface to help.
Type 'q()' to quit R.
> # Coverage Script
> # Run tests and generate Code Coverage Report
>
> # Look at a specific script ---------------------------------------------------
> #test_for_me <- function(codefile, testfile) {
> # test_file(testfile)
> # res <- covr::file_coverage(codefile, testfile)
> # print(res)
> # covr::report(res)
> #}
>
> #test_for_me("R/evaluate.R", "tests/testthat/test-evaluate.R")
>
> # Look at whole package -------------------------------------------------------
>
> # Gets percent coverage for entire package, by script
>
> #covr::package_coverage()
> #
> # Report with gui (probably the best here)
> #covr::report()
>
>
>
>
>
>
> proc.time()
user system elapsed
0.23 0.06 0.29
|
|
TBSignatureProfiler.Rcheck/tests_i386/spelling.Rout
R version 4.1.1 (2021-08-10) -- "Kick Things"
Copyright (C) 2021 The R Foundation for Statistical Computing
Platform: i386-w64-mingw32/i386 (32-bit)
R is free software and comes with ABSOLUTELY NO WARRANTY.
You are welcome to redistribute it under certain conditions.
Type 'license()' or 'licence()' for distribution details.
R is a collaborative project with many contributors.
Type 'contributors()' for more information and
'citation()' on how to cite R or R packages in publications.
Type 'demo()' for some demos, 'help()' for on-line help, or
'help.start()' for an HTML browser interface to help.
Type 'q()' to quit R.
> if (requireNamespace("spelling", quietly = TRUE))
+ spelling::spell_check_test(vignettes = TRUE, error = FALSE,
+ skip_on_cran = TRUE)
NULL
>
> proc.time()
user system elapsed
0.21 0.10 0.29
|
TBSignatureProfiler.Rcheck/tests_x64/spelling.Rout
R version 4.1.1 (2021-08-10) -- "Kick Things"
Copyright (C) 2021 The R Foundation for Statistical Computing
Platform: x86_64-w64-mingw32/x64 (64-bit)
R is free software and comes with ABSOLUTELY NO WARRANTY.
You are welcome to redistribute it under certain conditions.
Type 'license()' or 'licence()' for distribution details.
R is a collaborative project with many contributors.
Type 'contributors()' for more information and
'citation()' on how to cite R or R packages in publications.
Type 'demo()' for some demos, 'help()' for on-line help, or
'help.start()' for an HTML browser interface to help.
Type 'q()' to quit R.
> if (requireNamespace("spelling", quietly = TRUE))
+ spelling::spell_check_test(vignettes = TRUE, error = FALSE,
+ skip_on_cran = TRUE)
NULL
>
> proc.time()
user system elapsed
0.23 0.06 0.28
|
|
TBSignatureProfiler.Rcheck/tests_i386/testthat.Rout
R version 4.1.1 (2021-08-10) -- "Kick Things"
Copyright (C) 2021 The R Foundation for Statistical Computing
Platform: i386-w64-mingw32/i386 (32-bit)
R is free software and comes with ABSOLUTELY NO WARRANTY.
You are welcome to redistribute it under certain conditions.
Type 'license()' or 'licence()' for distribution details.
R is a collaborative project with many contributors.
Type 'contributors()' for more information and
'citation()' on how to cite R or R packages in publications.
Type 'demo()' for some demos, 'help()' for on-line help, or
'help.start()' for an HTML browser interface to help.
Type 'q()' to quit R.
> library(testthat)
> library(TBSignatureProfiler)
>
> test_check("TBSignatureProfiler")
|
| | 0%
|
|======================================================================| 100%
|
| | 0%
|
|======================================================================| 100%
|
| | 0%
|
|======================================================================| 100%
|
| | 0%
|
|======================================================================| 100%
|
| | 0%
|
|======================================================================| 100%
|
| | 0%
|
|======================================================================| 100%
|
| | 0%
|
|======================================================================| 100%
Estimating ssGSEA scores for 1 gene sets.
|
| | 0%
|
|======= | 10%
|
|============== | 20%
|
|===================== | 30%
|
|============================ | 40%
|
|=================================== | 50%
|
|========================================== | 60%
|
|================================================= | 70%
|
|======================================================== | 80%
|
|=============================================================== | 90%
|
|======================================================================| 100%
Estimating ssGSEA scores for 1 gene sets.
|
| | 0%
|
|======= | 10%
|
|============== | 20%
|
|===================== | 30%
|
|============================ | 40%
|
|=================================== | 50%
|
|========================================== | 60%
|
|================================================= | 70%
|
|======================================================== | 80%
|
|=============================================================== | 90%
|
|======================================================================| 100%
|
| | 0%
|
|======================================================================| 100%
|
| | 0%
|
|======================================================================| 100%
|
| | 0%
|
|======================================================================| 100%
|
| | 0%
|
|======================================================================| 100%
|
| | 0%
|
|======================================================================| 100%
|
| | 0%
|
|======================================================================| 100%
|
| | 0%
|
|======================================================================| 100%
|
| | 0%
|
|======================================================================| 100%
|
| | 0%
|
|=================================== | 50%
|
|======================================================================| 100%
|
| | 0%
|
|=================================== | 50%
|
|======================================================================| 100%
Estimating ssGSEA scores for 1 gene sets.
|
| | 0%
|
|======= | 10%
|
|============== | 20%
|
|===================== | 30%
|
|============================ | 40%
|
|=================================== | 50%
|
|========================================== | 60%
|
|================================================= | 70%
|
|======================================================== | 80%
|
|=============================================================== | 90%
|
|======================================================================| 100%
Estimating ssGSEA scores for 1 gene sets.
|
| | 0%
|
|======= | 10%
|
|============== | 20%
|
|===================== | 30%
|
|============================ | 40%
|
|=================================== | 50%
|
|========================================== | 60%
|
|================================================= | 70%
|
|======================================================== | 80%
|
|=============================================================== | 90%
|
|======================================================================| 100%
Estimating GSVA scores for 1 gene sets.
Estimating ECDFs with Gaussian kernels
|
| | 0%
|
|======================================================================| 100%
Estimating ssGSEA scores for 1 gene sets.
|
| | 0%
|
|======= | 10%
|
|============== | 20%
|
|===================== | 30%
|
|============================ | 40%
|
|=================================== | 50%
|
|========================================== | 60%
|
|================================================= | 70%
|
|======================================================== | 80%
|
|=============================================================== | 90%
|
|======================================================================| 100%
================================================================================
Estimating PLAGE scores for 1 gene sets.
|
| | 0%
|
|======================================================================| 100%
Estimating combined z-scores for 1 gene sets.
|
| | 0%
|
|======= | 10%
|
|============== | 20%
|
|===================== | 30%
|
|============================ | 40%
|
|=================================== | 50%
|
|========================================== | 60%
|
|================================================= | 70%
|
|======================================================== | 80%
|
|=============================================================== | 90%
|
|======================================================================| 100%
Estimating GSVA scores for 1 gene sets.
Estimating ECDFs with Gaussian kernels
|
| | 0%
|
|======================================================================| 100%
Estimating GSVA scores for 1 gene sets.
Estimating ECDFs with Gaussian kernels
|
| | 0%
|
|======================================================================| 100%
Estimating GSVA scores for 1 gene sets.
Estimating ECDFs with Gaussian kernels
|
| | 0%
|
|======================================================================| 100%
Estimating GSVA scores for 1 gene sets.
Estimating ECDFs with Gaussian kernels
|
| | 0%
|
|======================================================================| 100%
Estimating ssGSEA scores for 1 gene sets.
|
| | 0%
|
|======= | 10%
|
|============== | 20%
|
|===================== | 30%
|
|============================ | 40%
|
|=================================== | 50%
|
|========================================== | 60%
|
|================================================= | 70%
|
|======================================================== | 80%
|
|=============================================================== | 90%
|
|======================================================================| 100%
================================================================================
Estimating GSVA scores for 1 gene sets.
Estimating ECDFs with Gaussian kernels
|
| | 0%
|
|======================================================================| 100%
Estimating ssGSEA scores for 1 gene sets.
|
| | 0%
|
|======= | 10%
|
|============== | 20%
|
|===================== | 30%
|
|============================ | 40%
|
|=================================== | 50%
|
|========================================== | 60%
|
|================================================= | 70%
|
|======================================================== | 80%
|
|=============================================================== | 90%
|
|======================================================================| 100%
================================================================================
Estimating GSVA scores for 1 gene sets.
Estimating ECDFs with Gaussian kernels
|
| | 0%
|
|======================================================================| 100%
Estimating GSVA scores for 1 gene sets.
Estimating ECDFs with Gaussian kernels
|
| | 0%
|
|======================================================================| 100%
Estimating ssGSEA scores for 1 gene sets.
|
| | 0%
|
|======= | 10%
|
|============== | 20%
|
|===================== | 30%
|
|============================ | 40%
|
|=================================== | 50%
|
|========================================== | 60%
|
|================================================= | 70%
|
|======================================================== | 80%
|
|=============================================================== | 90%
|
|======================================================================| 100%
================================================================================
Estimating PLAGE scores for 1 gene sets.
|
| | 0%
|
|======================================================================| 100%
Estimating combined z-scores for 1 gene sets.
|
| | 0%
|
|======= | 10%
|
|============== | 20%
|
|===================== | 30%
|
|============================ | 40%
|
|=================================== | 50%
|
|========================================== | 60%
|
|================================================= | 70%
|
|======================================================== | 80%
|
|=============================================================== | 90%
|
|======================================================================| 100%
Estimating GSVA scores for 1 gene sets.
Estimating ECDFs with Gaussian kernels
|
| | 0%
|
|======================================================================| 100%
Estimating GSVA scores for 1 gene sets.
Estimating ECDFs with Gaussian kernels
|
| | 0%
|
|======================================================================| 100%
Estimating GSVA scores for 1 gene sets.
Estimating ECDFs with Gaussian kernels
|
| | 0%
|
|======================================================================| 100%
Estimating GSVA scores for 1 gene sets.
Estimating ECDFs with Gaussian kernels
|
| | 0%
|
|======================================================================| 100%
Estimating ssGSEA scores for 1 gene sets.
|
| | 0%
|
|======= | 10%
|
|============== | 20%
|
|===================== | 30%
|
|============================ | 40%
|
|=================================== | 50%
|
|========================================== | 60%
|
|================================================= | 70%
|
|======================================================== | 80%
|
|=============================================================== | 90%
|
|======================================================================| 100%
Estimating GSVA scores for 1 gene sets.
Estimating ECDFs with Gaussian kernels
|
| | 0%
|
|======================================================================| 100%
Estimating ssGSEA scores for 1 gene sets.
|
| | 0%
|
|======= | 10%
|
|============== | 20%
|
|===================== | 30%
|
|============================ | 40%
|
|=================================== | 50%
|
|========================================== | 60%
|
|================================================= | 70%
|
|======================================================== | 80%
|
|=============================================================== | 90%
|
|======================================================================| 100%
Estimating ssGSEA scores for 1 gene sets.
|
| | 0%
|
|======= | 10%
|
|============== | 20%
|
|===================== | 30%
|
|============================ | 40%
|
|=================================== | 50%
|
|========================================== | 60%
|
|================================================= | 70%
|
|======================================================== | 80%
|
|=============================================================== | 90%
|
|======================================================================| 100%
================================================================================
Estimating ssGSEA scores for 1 gene sets.
|
| | 0%
|
|======= | 10%
|
|============== | 20%
|
|===================== | 30%
|
|============================ | 40%
|
|=================================== | 50%
|
|========================================== | 60%
|
|================================================= | 70%
|
|======================================================== | 80%
|
|=============================================================== | 90%
|
|======================================================================| 100%
================================================================================
Estimating GSVA scores for 1 gene sets.
Estimating ECDFs with Gaussian kernels
|
| | 0%
|
|======================================================================| 100%
Estimating combined z-scores for 1 gene sets.
|
| | 0%
|
|======= | 10%
|
|============== | 20%
|
|===================== | 30%
|
|============================ | 40%
|
|=================================== | 50%
|
|========================================== | 60%
|
|================================================= | 70%
|
|======================================================== | 80%
|
|=============================================================== | 90%
|
|======================================================================| 100%
Estimating ssGSEA scores for 1 gene sets.
|
| | 0%
|
|======= | 10%
|
|============== | 20%
|
|===================== | 30%
|
|============================ | 40%
|
|=================================== | 50%
|
|========================================== | 60%
|
|================================================= | 70%
|
|======================================================== | 80%
|
|=============================================================== | 90%
|
|======================================================================| 100%
Estimating combined z-scores for 1 gene sets.
|
| | 0%
|
|======= | 10%
|
|============== | 20%
|
|===================== | 30%
|
|============================ | 40%
|
|=================================== | 50%
|
|========================================== | 60%
|
|================================================= | 70%
|
|======================================================== | 80%
|
|=============================================================== | 90%
|
|======================================================================| 100%
================================================================================
Estimating combined z-scores for 1 gene sets.
|
| | 0%
|
|======= | 10%
|
|============== | 20%
|
|===================== | 30%
|
|============================ | 40%
|
|=================================== | 50%
|
|========================================== | 60%
|
|================================================= | 70%
|
|======================================================== | 80%
|
|=============================================================== | 90%
|
|======================================================================| 100%
Estimating GSVA scores for 1 gene sets.
Estimating ECDFs with Gaussian kernels
|
| | 0%
|
|======================================================================| 100%
Estimating PLAGE scores for 1 gene sets.
|
| | 0%
|
|======================================================================| 100%
Estimating ssGSEA scores for 1 gene sets.
|
| | 0%
|
|======= | 10%
|
|============== | 20%
|
|===================== | 30%
|
|============================ | 40%
|
|=================================== | 50%
|
|========================================== | 60%
|
|================================================= | 70%
|
|======================================================== | 80%
|
|=============================================================== | 90%
|
|======================================================================| 100%
Estimating PLAGE scores for 1 gene sets.
|
| | 0%
|
|======================================================================| 100%
================================================================================
Estimating PLAGE scores for 1 gene sets.
|
| | 0%
|
|======================================================================| 100%
Estimating combined z-scores for 1 gene sets.
|
| | 0%
|
|======= | 10%
|
|============== | 20%
|
|===================== | 30%
|
|============================ | 40%
|
|=================================== | 50%
|
|========================================== | 60%
|
|================================================= | 70%
|
|======================================================== | 80%
|
|=============================================================== | 90%
|
|======================================================================| 100%
Estimating PLAGE scores for 1 gene sets.
|
| | 0%
|
|======================================================================| 100%
================================================================================
Estimating GSVA scores for 1 gene sets.
Estimating ECDFs with Gaussian kernels
|
| | 0%
|
|======================================================================| 100%
Estimating GSVA scores for 1 gene sets.
Estimating ECDFs with Gaussian kernels
|
| | 0%
|
|======================================================================| 100%
Estimating ssGSEA scores for 1 gene sets.
|
| | 0%
|
|======= | 10%
|
|============== | 20%
|
|===================== | 30%
|
|============================ | 40%
|
|=================================== | 50%
|
|========================================== | 60%
|
|================================================= | 70%
|
|======================================================== | 80%
|
|=============================================================== | 90%
|
|======================================================================| 100%
Estimating ssGSEA scores for 1 gene sets.
|
| | 0%
|
|======= | 10%
|
|============== | 20%
|
|===================== | 30%
|
|============================ | 40%
|
|=================================== | 50%
|
|========================================== | 60%
|
|================================================= | 70%
|
|======================================================== | 80%
|
|=============================================================== | 90%
|
|======================================================================| 100%
================================================================================
================================================================================
Estimating PLAGE scores for 1 gene sets.
|
| | 0%
|
|======================================================================| 100%
Estimating PLAGE scores for 1 gene sets.
|
| | 0%
|
|======================================================================| 100%
Estimating combined z-scores for 1 gene sets.
|
| | 0%
|
|======= | 10%
|
|============== | 20%
|
|===================== | 30%
|
|============================ | 40%
|
|=================================== | 50%
|
|========================================== | 60%
|
|================================================= | 70%
|
|======================================================== | 80%
|
|=============================================================== | 90%
|
|======================================================================| 100%
Estimating combined z-scores for 1 gene sets.
|
| | 0%
|
|======= | 10%
|
|============== | 20%
|
|===================== | 30%
|
|============================ | 40%
|
|=================================== | 50%
|
|========================================== | 60%
|
|================================================= | 70%
|
|======================================================== | 80%
|
|=============================================================== | 90%
|
|======================================================================| 100%
Estimating GSVA scores for 1 gene sets.
Estimating ECDFs with Gaussian kernels
|
| | 0%
|
|======================================================================| 100%
================================================================================
Estimating GSVA scores for 1 gene sets.
Estimating ECDFs with Gaussian kernels
|
| | 0%
|
|======================================================================| 100%
================================================================================
Estimating GSVA scores for 1 gene sets.
Estimating ECDFs with Gaussian kernels
|
| | 0%
|
|======================================================================| 100%
Estimating GSVA scores for 1 gene sets.
Estimating ECDFs with Gaussian kernels
|
| | 0%
|
|======================================================================| 100%
Estimating GSVA scores for 1 gene sets.
Estimating ECDFs with Gaussian kernels
|
| | 0%
|
|======================================================================| 100%
Estimating GSVA scores for 1 gene sets.
Estimating ECDFs with Gaussian kernels
|
| | 0%
|
|======================================================================| 100%
== Skipped tests ===============================================================
* On CRAN (1)
[ FAIL 0 | WARN 0 | SKIP 1 | PASS 153 ]
>
> proc.time()
user system elapsed
74.76 2.71 77.62
|
TBSignatureProfiler.Rcheck/tests_x64/testthat.Rout
R version 4.1.1 (2021-08-10) -- "Kick Things"
Copyright (C) 2021 The R Foundation for Statistical Computing
Platform: x86_64-w64-mingw32/x64 (64-bit)
R is free software and comes with ABSOLUTELY NO WARRANTY.
You are welcome to redistribute it under certain conditions.
Type 'license()' or 'licence()' for distribution details.
R is a collaborative project with many contributors.
Type 'contributors()' for more information and
'citation()' on how to cite R or R packages in publications.
Type 'demo()' for some demos, 'help()' for on-line help, or
'help.start()' for an HTML browser interface to help.
Type 'q()' to quit R.
> library(testthat)
> library(TBSignatureProfiler)
>
> test_check("TBSignatureProfiler")
|
| | 0%
|
|======================================================================| 100%
|
| | 0%
|
|======================================================================| 100%
|
| | 0%
|
|======================================================================| 100%
|
| | 0%
|
|======================================================================| 100%
|
| | 0%
|
|======================================================================| 100%
|
| | 0%
|
|======================================================================| 100%
|
| | 0%
|
|======================================================================| 100%
Estimating ssGSEA scores for 1 gene sets.
|
| | 0%
|
|======= | 10%
|
|============== | 20%
|
|===================== | 30%
|
|============================ | 40%
|
|=================================== | 50%
|
|========================================== | 60%
|
|================================================= | 70%
|
|======================================================== | 80%
|
|=============================================================== | 90%
|
|======================================================================| 100%
Estimating ssGSEA scores for 1 gene sets.
|
| | 0%
|
|======= | 10%
|
|============== | 20%
|
|===================== | 30%
|
|============================ | 40%
|
|=================================== | 50%
|
|========================================== | 60%
|
|================================================= | 70%
|
|======================================================== | 80%
|
|=============================================================== | 90%
|
|======================================================================| 100%
|
| | 0%
|
|======================================================================| 100%
|
| | 0%
|
|======================================================================| 100%
|
| | 0%
|
|======================================================================| 100%
|
| | 0%
|
|======================================================================| 100%
|
| | 0%
|
|======================================================================| 100%
|
| | 0%
|
|======================================================================| 100%
|
| | 0%
|
|======================================================================| 100%
|
| | 0%
|
|======================================================================| 100%
|
| | 0%
|
|=================================== | 50%
|
|======================================================================| 100%
|
| | 0%
|
|=================================== | 50%
|
|======================================================================| 100%
Estimating ssGSEA scores for 1 gene sets.
|
| | 0%
|
|======= | 10%
|
|============== | 20%
|
|===================== | 30%
|
|============================ | 40%
|
|=================================== | 50%
|
|========================================== | 60%
|
|================================================= | 70%
|
|======================================================== | 80%
|
|=============================================================== | 90%
|
|======================================================================| 100%
Estimating ssGSEA scores for 1 gene sets.
|
| | 0%
|
|======= | 10%
|
|============== | 20%
|
|===================== | 30%
|
|============================ | 40%
|
|=================================== | 50%
|
|========================================== | 60%
|
|================================================= | 70%
|
|======================================================== | 80%
|
|=============================================================== | 90%
|
|======================================================================| 100%
Estimating GSVA scores for 1 gene sets.
Estimating ECDFs with Gaussian kernels
|
| | 0%
|
|======================================================================| 100%
Estimating ssGSEA scores for 1 gene sets.
|
| | 0%
|
|======= | 10%
|
|============== | 20%
|
|===================== | 30%
|
|============================ | 40%
|
|=================================== | 50%
|
|========================================== | 60%
|
|================================================= | 70%
|
|======================================================== | 80%
|
|=============================================================== | 90%
|
|======================================================================| 100%
================================================================================
Estimating PLAGE scores for 1 gene sets.
|
| | 0%
|
|======================================================================| 100%
Estimating combined z-scores for 1 gene sets.
|
| | 0%
|
|======= | 10%
|
|============== | 20%
|
|===================== | 30%
|
|============================ | 40%
|
|=================================== | 50%
|
|========================================== | 60%
|
|================================================= | 70%
|
|======================================================== | 80%
|
|=============================================================== | 90%
|
|======================================================================| 100%
Estimating GSVA scores for 1 gene sets.
Estimating ECDFs with Gaussian kernels
|
| | 0%
|
|======================================================================| 100%
Estimating GSVA scores for 1 gene sets.
Estimating ECDFs with Gaussian kernels
|
| | 0%
|
|======================================================================| 100%
Estimating GSVA scores for 1 gene sets.
Estimating ECDFs with Gaussian kernels
|
| | 0%
|
|======================================================================| 100%
Estimating GSVA scores for 1 gene sets.
Estimating ECDFs with Gaussian kernels
|
| | 0%
|
|======================================================================| 100%
Estimating ssGSEA scores for 1 gene sets.
|
| | 0%
|
|======= | 10%
|
|============== | 20%
|
|===================== | 30%
|
|============================ | 40%
|
|=================================== | 50%
|
|========================================== | 60%
|
|================================================= | 70%
|
|======================================================== | 80%
|
|=============================================================== | 90%
|
|======================================================================| 100%
================================================================================
Estimating GSVA scores for 1 gene sets.
Estimating ECDFs with Gaussian kernels
|
| | 0%
|
|======================================================================| 100%
Estimating ssGSEA scores for 1 gene sets.
|
| | 0%
|
|======= | 10%
|
|============== | 20%
|
|===================== | 30%
|
|============================ | 40%
|
|=================================== | 50%
|
|========================================== | 60%
|
|================================================= | 70%
|
|======================================================== | 80%
|
|=============================================================== | 90%
|
|======================================================================| 100%
================================================================================
Estimating GSVA scores for 1 gene sets.
Estimating ECDFs with Gaussian kernels
|
| | 0%
|
|======================================================================| 100%
Estimating GSVA scores for 1 gene sets.
Estimating ECDFs with Gaussian kernels
|
| | 0%
|
|======================================================================| 100%
Estimating ssGSEA scores for 1 gene sets.
|
| | 0%
|
|======= | 10%
|
|============== | 20%
|
|===================== | 30%
|
|============================ | 40%
|
|=================================== | 50%
|
|========================================== | 60%
|
|================================================= | 70%
|
|======================================================== | 80%
|
|=============================================================== | 90%
|
|======================================================================| 100%
================================================================================
Estimating PLAGE scores for 1 gene sets.
|
| | 0%
|
|======================================================================| 100%
Estimating combined z-scores for 1 gene sets.
|
| | 0%
|
|======= | 10%
|
|============== | 20%
|
|===================== | 30%
|
|============================ | 40%
|
|=================================== | 50%
|
|========================================== | 60%
|
|================================================= | 70%
|
|======================================================== | 80%
|
|=============================================================== | 90%
|
|======================================================================| 100%
Estimating GSVA scores for 1 gene sets.
Estimating ECDFs with Gaussian kernels
|
| | 0%
|
|======================================================================| 100%
Estimating GSVA scores for 1 gene sets.
Estimating ECDFs with Gaussian kernels
|
| | 0%
|
|======================================================================| 100%
Estimating GSVA scores for 1 gene sets.
Estimating ECDFs with Gaussian kernels
|
| | 0%
|
|======================================================================| 100%
Estimating GSVA scores for 1 gene sets.
Estimating ECDFs with Gaussian kernels
|
| | 0%
|
|======================================================================| 100%
Estimating ssGSEA scores for 1 gene sets.
|
| | 0%
|
|======= | 10%
|
|============== | 20%
|
|===================== | 30%
|
|============================ | 40%
|
|=================================== | 50%
|
|========================================== | 60%
|
|================================================= | 70%
|
|======================================================== | 80%
|
|=============================================================== | 90%
|
|======================================================================| 100%
Estimating GSVA scores for 1 gene sets.
Estimating ECDFs with Gaussian kernels
|
| | 0%
|
|======================================================================| 100%
Estimating ssGSEA scores for 1 gene sets.
|
| | 0%
|
|======= | 10%
|
|============== | 20%
|
|===================== | 30%
|
|============================ | 40%
|
|=================================== | 50%
|
|========================================== | 60%
|
|================================================= | 70%
|
|======================================================== | 80%
|
|=============================================================== | 90%
|
|======================================================================| 100%
Estimating ssGSEA scores for 1 gene sets.
|
| | 0%
|
|======= | 10%
|
|============== | 20%
|
|===================== | 30%
|
|============================ | 40%
|
|=================================== | 50%
|
|========================================== | 60%
|
|================================================= | 70%
|
|======================================================== | 80%
|
|=============================================================== | 90%
|
|======================================================================| 100%
================================================================================
Estimating ssGSEA scores for 1 gene sets.
|
| | 0%
|
|======= | 10%
|
|============== | 20%
|
|===================== | 30%
|
|============================ | 40%
|
|=================================== | 50%
|
|========================================== | 60%
|
|================================================= | 70%
|
|======================================================== | 80%
|
|=============================================================== | 90%
|
|======================================================================| 100%
================================================================================
Estimating GSVA scores for 1 gene sets.
Estimating ECDFs with Gaussian kernels
|
| | 0%
|
|======================================================================| 100%
Estimating combined z-scores for 1 gene sets.
|
| | 0%
|
|======= | 10%
|
|============== | 20%
|
|===================== | 30%
|
|============================ | 40%
|
|=================================== | 50%
|
|========================================== | 60%
|
|================================================= | 70%
|
|======================================================== | 80%
|
|=============================================================== | 90%
|
|======================================================================| 100%
Estimating ssGSEA scores for 1 gene sets.
|
| | 0%
|
|======= | 10%
|
|============== | 20%
|
|===================== | 30%
|
|============================ | 40%
|
|=================================== | 50%
|
|========================================== | 60%
|
|================================================= | 70%
|
|======================================================== | 80%
|
|=============================================================== | 90%
|
|======================================================================| 100%
Estimating combined z-scores for 1 gene sets.
|
| | 0%
|
|======= | 10%
|
|============== | 20%
|
|===================== | 30%
|
|============================ | 40%
|
|=================================== | 50%
|
|========================================== | 60%
|
|================================================= | 70%
|
|======================================================== | 80%
|
|=============================================================== | 90%
|
|======================================================================| 100%
================================================================================
Estimating combined z-scores for 1 gene sets.
|
| | 0%
|
|======= | 10%
|
|============== | 20%
|
|===================== | 30%
|
|============================ | 40%
|
|=================================== | 50%
|
|========================================== | 60%
|
|================================================= | 70%
|
|======================================================== | 80%
|
|=============================================================== | 90%
|
|======================================================================| 100%
Estimating GSVA scores for 1 gene sets.
Estimating ECDFs with Gaussian kernels
|
| | 0%
|
|======================================================================| 100%
Estimating PLAGE scores for 1 gene sets.
|
| | 0%
|
|======================================================================| 100%
Estimating ssGSEA scores for 1 gene sets.
|
| | 0%
|
|======= | 10%
|
|============== | 20%
|
|===================== | 30%
|
|============================ | 40%
|
|=================================== | 50%
|
|========================================== | 60%
|
|================================================= | 70%
|
|======================================================== | 80%
|
|=============================================================== | 90%
|
|======================================================================| 100%
Estimating PLAGE scores for 1 gene sets.
|
| | 0%
|
|======================================================================| 100%
================================================================================
Estimating PLAGE scores for 1 gene sets.
|
| | 0%
|
|======================================================================| 100%
Estimating combined z-scores for 1 gene sets.
|
| | 0%
|
|======= | 10%
|
|============== | 20%
|
|===================== | 30%
|
|============================ | 40%
|
|=================================== | 50%
|
|========================================== | 60%
|
|================================================= | 70%
|
|======================================================== | 80%
|
|=============================================================== | 90%
|
|======================================================================| 100%
Estimating PLAGE scores for 1 gene sets.
|
| | 0%
|
|======================================================================| 100%
================================================================================
Estimating GSVA scores for 1 gene sets.
Estimating ECDFs with Gaussian kernels
|
| | 0%
|
|======================================================================| 100%
Estimating GSVA scores for 1 gene sets.
Estimating ECDFs with Gaussian kernels
|
| | 0%
|
|======================================================================| 100%
Estimating ssGSEA scores for 1 gene sets.
|
| | 0%
|
|======= | 10%
|
|============== | 20%
|
|===================== | 30%
|
|============================ | 40%
|
|=================================== | 50%
|
|========================================== | 60%
|
|================================================= | 70%
|
|======================================================== | 80%
|
|=============================================================== | 90%
|
|======================================================================| 100%
Estimating ssGSEA scores for 1 gene sets.
|
| | 0%
|
|======= | 10%
|
|============== | 20%
|
|===================== | 30%
|
|============================ | 40%
|
|=================================== | 50%
|
|========================================== | 60%
|
|================================================= | 70%
|
|======================================================== | 80%
|
|=============================================================== | 90%
|
|======================================================================| 100%
================================================================================
================================================================================
Estimating PLAGE scores for 1 gene sets.
|
| | 0%
|
|======================================================================| 100%
Estimating PLAGE scores for 1 gene sets.
|
| | 0%
|
|======================================================================| 100%
Estimating combined z-scores for 1 gene sets.
|
| | 0%
|
|======= | 10%
|
|============== | 20%
|
|===================== | 30%
|
|============================ | 40%
|
|=================================== | 50%
|
|========================================== | 60%
|
|================================================= | 70%
|
|======================================================== | 80%
|
|=============================================================== | 90%
|
|======================================================================| 100%
Estimating combined z-scores for 1 gene sets.
|
| | 0%
|
|======= | 10%
|
|============== | 20%
|
|===================== | 30%
|
|============================ | 40%
|
|=================================== | 50%
|
|========================================== | 60%
|
|================================================= | 70%
|
|======================================================== | 80%
|
|=============================================================== | 90%
|
|======================================================================| 100%
Estimating GSVA scores for 1 gene sets.
Estimating ECDFs with Gaussian kernels
|
| | 0%
|
|======================================================================| 100%
================================================================================
Estimating GSVA scores for 1 gene sets.
Estimating ECDFs with Gaussian kernels
|
| | 0%
|
|======================================================================| 100%
================================================================================
Estimating GSVA scores for 1 gene sets.
Estimating ECDFs with Gaussian kernels
|
| | 0%
|
|======================================================================| 100%
Estimating GSVA scores for 1 gene sets.
Estimating ECDFs with Gaussian kernels
|
| | 0%
|
|======================================================================| 100%
Estimating GSVA scores for 1 gene sets.
Estimating ECDFs with Gaussian kernels
|
| | 0%
|
|======================================================================| 100%
Estimating GSVA scores for 1 gene sets.
Estimating ECDFs with Gaussian kernels
|
| | 0%
|
|======================================================================| 100%
== Skipped tests ===============================================================
* On CRAN (1)
[ FAIL 0 | WARN 0 | SKIP 1 | PASS 153 ]
>
> proc.time()
user system elapsed
95.09 1.57 98.65
|
|
TBSignatureProfiler.Rcheck/examples_i386/TBSignatureProfiler-Ex.timings
|
TBSignatureProfiler.Rcheck/examples_x64/TBSignatureProfiler-Ex.timings
|