| Back to Multiple platform build/check report for BioC 3.13 |
|
This page was generated on 2021-10-15 15:06:24 -0400 (Fri, 15 Oct 2021).
|
To the developers/maintainers of the SwathXtend package: - Please allow up to 24 hours (and sometimes 48 hours) for your latest push to git@git.bioconductor.org:packages/SwathXtend.git to reflect on this report. See How and When does the builder pull? When will my changes propagate? here for more information. - Make sure to use the following settings in order to reproduce any error or warning you see on this page. |
| Package 1878/2041 | Hostname | OS / Arch | INSTALL | BUILD | CHECK | BUILD BIN | ||||||||
| SwathXtend 2.14.0 (landing page) Jemma Wu
| nebbiolo1 | Linux (Ubuntu 20.04.2 LTS) / x86_64 | OK | OK | WARNINGS | |||||||||
| tokay2 | Windows Server 2012 R2 Standard / x64 | OK | OK | WARNINGS | OK | |||||||||
| machv2 | macOS 10.14.6 Mojave / x86_64 | OK | OK | WARNINGS | OK | |||||||||
| Package: SwathXtend |
| Version: 2.14.0 |
| Command: C:\cygwin\bin\curl.exe -O http://155.52.207.165/BBS/3.13/bioc/src/contrib/SwathXtend_2.14.0.tar.gz && rm -rf SwathXtend.buildbin-libdir && mkdir SwathXtend.buildbin-libdir && C:\Users\biocbuild\bbs-3.13-bioc\R\bin\R.exe CMD INSTALL --merge-multiarch --build --library=SwathXtend.buildbin-libdir SwathXtend_2.14.0.tar.gz && C:\Users\biocbuild\bbs-3.13-bioc\R\bin\R.exe CMD INSTALL SwathXtend_2.14.0.zip && rm SwathXtend_2.14.0.tar.gz SwathXtend_2.14.0.zip |
| StartedAt: 2021-10-14 07:18:43 -0400 (Thu, 14 Oct 2021) |
| EndedAt: 2021-10-14 07:22:34 -0400 (Thu, 14 Oct 2021) |
| EllapsedTime: 231.1 seconds |
| RetCode: 0 |
| Status: OK |
##############################################################################
##############################################################################
###
### Running command:
###
### C:\cygwin\bin\curl.exe -O http://155.52.207.165/BBS/3.13/bioc/src/contrib/SwathXtend_2.14.0.tar.gz && rm -rf SwathXtend.buildbin-libdir && mkdir SwathXtend.buildbin-libdir && C:\Users\biocbuild\bbs-3.13-bioc\R\bin\R.exe CMD INSTALL --merge-multiarch --build --library=SwathXtend.buildbin-libdir SwathXtend_2.14.0.tar.gz && C:\Users\biocbuild\bbs-3.13-bioc\R\bin\R.exe CMD INSTALL SwathXtend_2.14.0.zip && rm SwathXtend_2.14.0.tar.gz SwathXtend_2.14.0.zip
###
##############################################################################
##############################################################################
% Total % Received % Xferd Average Speed Time Time Time Current
Dload Upload Total Spent Left Speed
0 0 0 0 0 0 0 0 --:--:-- --:--:-- --:--:-- 0
1 346M 1 5210k 0 0 6689k 0 0:00:52 --:--:-- 0:00:52 6688k
4 346M 4 15.3M 0 0 8911k 0 0:00:39 0:00:01 0:00:38 8910k
7 346M 7 26.7M 0 0 9870k 0 0:00:35 0:00:02 0:00:33 9869k
11 346M 11 38.8M 0 0 10.3M 0 0:00:33 0:00:03 0:00:30 10.3M
14 346M 14 50.9M 0 0 10.6M 0 0:00:32 0:00:04 0:00:28 10.6M
15 346M 15 52.4M 0 0 9286k 0 0:00:38 0:00:05 0:00:33 9692k
16 346M 16 57.9M 0 0 8762k 0 0:00:40 0:00:06 0:00:34 8710k
19 346M 19 65.7M 0 0 8665k 0 0:00:40 0:00:07 0:00:33 8000k
21 346M 21 74.4M 0 0 8690k 0 0:00:40 0:00:08 0:00:32 7281k
22 346M 22 77.5M 0 0 8103k 0 0:00:43 0:00:09 0:00:34 5416k
23 346M 23 80.1M 0 0 7623k 0 0:00:46 0:00:10 0:00:36 5696k
24 346M 24 85.4M 0 0 7417k 0 0:00:47 0:00:11 0:00:36 5605k
26 346M 26 91.6M 0 0 7351k 0 0:00:48 0:00:12 0:00:36 5307k
28 346M 28 98.8M 0 0 7353k 0 0:00:48 0:00:13 0:00:35 5009k
30 346M 30 106M 0 0 7413k 0 0:00:47 0:00:14 0:00:33 6052k
32 346M 32 112M 0 0 7307k 0 0:00:48 0:00:15 0:00:33 6629k
32 346M 32 112M 0 0 6867k 0 0:00:51 0:00:16 0:00:35 5573k
32 346M 32 112M 0 0 6488k 0 0:00:54 0:00:17 0:00:37 4290k
33 346M 33 115M 0 0 6318k 0 0:00:56 0:00:18 0:00:38 3470k
34 346M 34 121M 0 0 6267k 0 0:00:56 0:00:19 0:00:37 2885k
36 346M 36 127M 0 0 6264k 0 0:00:56 0:00:20 0:00:36 2996k
38 346M 38 134M 0 0 6315k 0 0:00:56 0:00:21 0:00:35 4449k
41 346M 41 142M 0 0 6400k 0 0:00:55 0:00:22 0:00:33 6087k
43 346M 43 150M 0 0 6493k 0 0:00:54 0:00:23 0:00:31 7149k
46 346M 46 160M 0 0 6620k 0 0:00:53 0:00:24 0:00:29 8015k
49 346M 49 170M 0 0 6746k 0 0:00:52 0:00:25 0:00:27 8750k
51 346M 51 179M 0 0 6878k 0 0:00:51 0:00:26 0:00:25 9333k
55 346M 55 191M 0 0 7046k 0 0:00:50 0:00:27 0:00:23 9984k
58 346M 58 203M 0 0 7237k 0 0:00:48 0:00:28 0:00:20 10.5M
62 346M 62 214M 0 0 7388k 0 0:00:47 0:00:29 0:00:18 10.9M
65 346M 65 226M 0 0 7540k 0 0:00:47 0:00:30 0:00:17 11.3M
69 346M 69 239M 0 0 7720k 0 0:00:45 0:00:31 0:00:14 11.9M
73 346M 73 255M 0 0 7980k 0 0:00:44 0:00:32 0:00:12 12.8M
78 346M 78 271M 0 0 8243k 0 0:00:42 0:00:33 0:00:09 13.6M
80 346M 80 279M 0 0 8239k 0 0:00:43 0:00:34 0:00:09 13.0M
83 346M 83 289M 0 0 8289k 0 0:00:42 0:00:35 0:00:07 12.5M
86 346M 86 300M 0 0 8362k 0 0:00:42 0:00:36 0:00:06 12.1M
90 346M 90 311M 0 0 8452k 0 0:00:41 0:00:37 0:00:04 11.2M
93 346M 93 324M 0 0 8563k 0 0:00:41 0:00:38 0:00:03 10.4M
97 346M 97 337M 0 0 8693k 0 0:00:40 0:00:39 0:00:01 11.5M
100 346M 100 346M 0 0 8780k 0 0:00:40 0:00:40 --:--:-- 12.3M
install for i386
* installing *source* package 'SwathXtend' ...
** using staged installation
** R
** data
** inst
** byte-compile and prepare package for lazy loading
** help
*** installing help indices
converting help for package 'SwathXtend'
finding HTML links ... done
applyttest html
applyttestPep html
buildSpectraLibPair html
canonicalFormat html
checkQuality html
cleanLib html
coverage html
cv html
fdr.crit html
getFdrBins html
ionCorGS html
medianNorm html
mlr html
mlrGroup html
mlrrep html
outputLib html
plotAll html
plotDensities html
plotErrorBarsLines html
plotRIICor html
plotRTCor html
plotRTResd html
plotRelativeDensities html
quantification.accuracy html
readLibFile html
reliabilityCheckLibrary html
reliabilityCheckSwath html
swath.means html
** building package indices
** installing vignettes
** testing if installed package can be loaded from temporary location
** testing if installed package can be loaded from final location
** testing if installed package keeps a record of temporary installation path
install for x64
* installing *source* package 'SwathXtend' ...
** testing if installed package can be loaded
* MD5 sums
packaged installation of 'SwathXtend' as SwathXtend_2.14.0.zip
* DONE (SwathXtend)
* installing to library 'C:/Users/biocbuild/bbs-3.13-bioc/R/library'
package 'SwathXtend' successfully unpacked and MD5 sums checked