| Back to Multiple platform build/check report for BioC 3.13 |
|
This page was generated on 2021-10-15 15:06:23 -0400 (Fri, 15 Oct 2021).
|
To the developers/maintainers of the SpeCond package: - Please allow up to 24 hours (and sometimes 48 hours) for your latest push to git@git.bioconductor.org:packages/SpeCond.git to reflect on this report. See How and When does the builder pull? When will my changes propagate? here for more information. - Make sure to use the following settings in order to reproduce any error or warning you see on this page. |
| Package 1819/2041 | Hostname | OS / Arch | INSTALL | BUILD | CHECK | BUILD BIN | ||||||||
| SpeCond 1.46.0 (landing page) Florence Cavalli
| nebbiolo1 | Linux (Ubuntu 20.04.2 LTS) / x86_64 | OK | OK | OK | |||||||||
| tokay2 | Windows Server 2012 R2 Standard / x64 | OK | OK | OK | OK | |||||||||
| machv2 | macOS 10.14.6 Mojave / x86_64 | OK | OK | OK | OK | |||||||||
| Package: SpeCond |
| Version: 1.46.0 |
| Command: rm -rf SpeCond.buildbin-libdir && mkdir SpeCond.buildbin-libdir && C:\Users\biocbuild\bbs-3.13-bioc\R\bin\R.exe CMD INSTALL --merge-multiarch --build --library=SpeCond.buildbin-libdir SpeCond_1.46.0.tar.gz |
| StartedAt: 2021-10-15 11:56:40 -0400 (Fri, 15 Oct 2021) |
| EndedAt: 2021-10-15 11:58:12 -0400 (Fri, 15 Oct 2021) |
| EllapsedTime: 91.5 seconds |
| RetCode: 0 |
| Status: OK |
| PackageFile: SpeCond_1.46.0.zip |
| PackageFileSize: 1.319 MiB |
##############################################################################
##############################################################################
###
### Running command:
###
### rm -rf SpeCond.buildbin-libdir && mkdir SpeCond.buildbin-libdir && C:\Users\biocbuild\bbs-3.13-bioc\R\bin\R.exe CMD INSTALL --merge-multiarch --build --library=SpeCond.buildbin-libdir SpeCond_1.46.0.tar.gz
###
##############################################################################
##############################################################################
install for i386
* installing *source* package 'SpeCond' ...
** using staged installation
** R
** data
** inst
** byte-compile and prepare package for lazy loading
** help
*** installing help indices
converting help for package 'SpeCond'
finding HTML links ... done
SpeCond html
createParameterMatrix html
expSetSpeCondExample html
expressionSpeCondExample html
fitNoPriorWithExclusion html
fitPrior html
getDefaultParameter html
getFullHtmlSpeCondResult html
getGeneHtmlPage html
getMatrixFromExpressionSet html
getProfile html
getSpecificOutliersStep1 html
getSpecificResult html
simulatedSpeCondData html
writeGeneResult html
writeSpeCondResult html
writeUniqueProfileSpecificResult html
** building package indices
** installing vignettes
** testing if installed package can be loaded from temporary location
** testing if installed package can be loaded from final location
** testing if installed package keeps a record of temporary installation path
install for x64
* installing *source* package 'SpeCond' ...
** testing if installed package can be loaded
* MD5 sums
packaged installation of 'SpeCond' as SpeCond_1.46.0.zip
* DONE (SpeCond)