| Back to Multiple platform build/check report for BioC 3.13 |
|
This page was generated on 2021-10-15 15:06:22 -0400 (Fri, 15 Oct 2021).
|
To the developers/maintainers of the SeqGSEA package: - Please allow up to 24 hours (and sometimes 48 hours) for your latest push to git@git.bioconductor.org:packages/SeqGSEA.git to reflect on this report. See How and When does the builder pull? When will my changes propagate? here for more information. - Make sure to use the following settings in order to reproduce any error or warning you see on this page. |
| Package 1737/2041 | Hostname | OS / Arch | INSTALL | BUILD | CHECK | BUILD BIN | ||||||||
| SeqGSEA 1.32.0 (landing page) Xi Wang
| nebbiolo1 | Linux (Ubuntu 20.04.2 LTS) / x86_64 | OK | OK | OK | |||||||||
| tokay2 | Windows Server 2012 R2 Standard / x64 | OK | OK | OK | OK | |||||||||
| machv2 | macOS 10.14.6 Mojave / x86_64 | OK | OK | OK | OK | |||||||||
| Package: SeqGSEA |
| Version: 1.32.0 |
| Command: rm -rf SeqGSEA.buildbin-libdir && mkdir SeqGSEA.buildbin-libdir && C:\Users\biocbuild\bbs-3.13-bioc\R\bin\R.exe CMD INSTALL --merge-multiarch --build --library=SeqGSEA.buildbin-libdir SeqGSEA_1.32.0.tar.gz |
| StartedAt: 2021-10-15 11:45:09 -0400 (Fri, 15 Oct 2021) |
| EndedAt: 2021-10-15 11:46:34 -0400 (Fri, 15 Oct 2021) |
| EllapsedTime: 84.5 seconds |
| RetCode: 0 |
| Status: OK |
| PackageFile: SeqGSEA_1.32.0.zip |
| PackageFileSize: 1.735 MiB |
##############################################################################
##############################################################################
###
### Running command:
###
### rm -rf SeqGSEA.buildbin-libdir && mkdir SeqGSEA.buildbin-libdir && C:\Users\biocbuild\bbs-3.13-bioc\R\bin\R.exe CMD INSTALL --merge-multiarch --build --library=SeqGSEA.buildbin-libdir SeqGSEA_1.32.0.tar.gz
###
##############################################################################
##############################################################################
install for i386
* installing *source* package 'SeqGSEA' ...
** using staged installation
** R
** data
** inst
** byte-compile and prepare package for lazy loading
** help
*** installing help indices
converting help for package 'SeqGSEA'
finding HTML links ... done
DENBStat4GSEA html
DENBStatPermut4GSEA html
DENBTest html
DEpermutePval html
DEscore html
DSpermute4GSEA html
DSpermutePval html
DSresultExonTable html
DSresultGeneTable html
GSEAresultTable html
GSEnrichAnalyze html
GS_example html
RCS_example html
ReadCountSet-class html
finding level-2 HTML links ... done
SeqGSEA-package html
SeqGeneSet-class html
calES html
calES.perm html
convertEnsembl2Symbol html
convertSymbol2Ensembl html
counts-methods html
estiExonNBstat html
estiGeneNBstat html
exonID html
exonTestability html
geneID html
geneList html
genePermuteScore html
geneScore html
geneSetDescs html
geneSetNames html
geneSetSize html
geneTestability html
genpermuteMat html
getGeneCount html
label html
loadExonCountData html
loadGenesets html
newGeneSets html
newReadCountSet html
normES html
normFactor html
plotES html
plotGeneScore html
plotSig html
plotSigGeneSet html
rankCombine html
runDESeq html
runSeqGSEA html
scoreNormalization html
signifES html
size html
subsetByGenes html
topDEGenes html
topDSExons html
topDSGenes html
topGeneSets html
writeScores html
writeSigGeneSet html
** building package indices
** installing vignettes
** testing if installed package can be loaded from temporary location
** testing if installed package can be loaded from final location
** testing if installed package keeps a record of temporary installation path
install for x64
* installing *source* package 'SeqGSEA' ...
** testing if installed package can be loaded
* MD5 sums
packaged installation of 'SeqGSEA' as SeqGSEA_1.32.0.zip
* DONE (SeqGSEA)