| Back to Multiple platform build/check report for BioC 3.13 |
|
This page was generated on 2021-10-15 15:06:21 -0400 (Fri, 15 Oct 2021).
|
To the developers/maintainers of the Sconify package: - Please allow up to 24 hours (and sometimes 48 hours) for your latest push to git@git.bioconductor.org:packages/Sconify.git to reflect on this report. See How and When does the builder pull? When will my changes propagate? here for more information. - Make sure to use the following settings in order to reproduce any error or warning you see on this page. |
| Package 1707/2041 | Hostname | OS / Arch | INSTALL | BUILD | CHECK | BUILD BIN | ||||||||
| Sconify 1.12.0 (landing page) Tyler J Burns
| nebbiolo1 | Linux (Ubuntu 20.04.2 LTS) / x86_64 | OK | OK | OK | |||||||||
| tokay2 | Windows Server 2012 R2 Standard / x64 | OK | OK | OK | OK | |||||||||
| machv2 | macOS 10.14.6 Mojave / x86_64 | OK | OK | OK | OK | |||||||||
| Package: Sconify |
| Version: 1.12.0 |
| Command: C:\cygwin\bin\curl.exe -O http://155.52.207.165/BBS/3.13/bioc/src/contrib/Sconify_1.12.0.tar.gz && rm -rf Sconify.buildbin-libdir && mkdir Sconify.buildbin-libdir && C:\Users\biocbuild\bbs-3.13-bioc\R\bin\R.exe CMD INSTALL --merge-multiarch --build --library=Sconify.buildbin-libdir Sconify_1.12.0.tar.gz && C:\Users\biocbuild\bbs-3.13-bioc\R\bin\R.exe CMD INSTALL Sconify_1.12.0.zip && rm Sconify_1.12.0.tar.gz Sconify_1.12.0.zip |
| StartedAt: 2021-10-14 09:54:41 -0400 (Thu, 14 Oct 2021) |
| EndedAt: 2021-10-14 09:55:47 -0400 (Thu, 14 Oct 2021) |
| EllapsedTime: 66.3 seconds |
| RetCode: 0 |
| Status: OK |
##############################################################################
##############################################################################
###
### Running command:
###
### C:\cygwin\bin\curl.exe -O http://155.52.207.165/BBS/3.13/bioc/src/contrib/Sconify_1.12.0.tar.gz && rm -rf Sconify.buildbin-libdir && mkdir Sconify.buildbin-libdir && C:\Users\biocbuild\bbs-3.13-bioc\R\bin\R.exe CMD INSTALL --merge-multiarch --build --library=Sconify.buildbin-libdir Sconify_1.12.0.tar.gz && C:\Users\biocbuild\bbs-3.13-bioc\R\bin\R.exe CMD INSTALL Sconify_1.12.0.zip && rm Sconify_1.12.0.tar.gz Sconify_1.12.0.zip
###
##############################################################################
##############################################################################
% Total % Received % Xferd Average Speed Time Time Time Current
Dload Upload Total Spent Left Speed
0 0 0 0 0 0 0 0 --:--:-- --:--:-- --:--:-- 0
56 3900k 56 2212k 0 0 2938k 0 0:00:01 --:--:-- 0:00:01 2937k
100 3900k 100 3900k 0 0 3421k 0 0:00:01 0:00:01 --:--:-- 3424k
install for i386
* installing *source* package 'Sconify' ...
** using staged installation
** R
** data
*** moving datasets to lazyload DB
** inst
** byte-compile and prepare package for lazy loading
Note: wrong number of arguments to '/'
Note: wrong number of arguments to 'asinh'
** help
*** installing help indices
converting help for package 'Sconify'
finding HTML links ... done
AddTsne html
FcsToTibble html
Fnn html
GetKnnDe html
GetMarkerNames html
Impute html
ImputeTesting html
LogTransformQ html
MakeHist html
MakeKnnList html
MeaningOfLife html
MultipleDonorStatistics html
ParseMarkers html
PostProcessing html
ProcessMultipleFiles html
QCorrectionThresholding html
QuantNormalize html
QuantNormalizeElements html
RunStatistics html
SconeValues html
SplitFile html
StringToNumbers html
SubsampleAndTsne html
TsneVis html
bz.gmcsf.final html
bz.gmcsf.final.norm.scale html
exist html
funct.markers html
input.markers html
markers html
wand.combined html
wand.final html
wand.ideal.k html
wand.il7 html
wand.scone html
** building package indices
** installing vignettes
** testing if installed package can be loaded from temporary location
** testing if installed package can be loaded from final location
** testing if installed package keeps a record of temporary installation path
install for x64
* installing *source* package 'Sconify' ...
** testing if installed package can be loaded
* MD5 sums
packaged installation of 'Sconify' as Sconify_1.12.0.zip
* DONE (Sconify)
* installing to library 'C:/Users/biocbuild/bbs-3.13-bioc/R/library'
package 'Sconify' successfully unpacked and MD5 sums checked