| Back to Multiple platform build/check report for BioC 3.13 |
|
This page was generated on 2021-10-15 15:06:21 -0400 (Fri, 15 Oct 2021).
|
To the developers/maintainers of the Scale4C package: - Please allow up to 24 hours (and sometimes 48 hours) for your latest push to git@git.bioconductor.org:packages/Scale4C.git to reflect on this report. See How and When does the builder pull? When will my changes propagate? here for more information. - Make sure to use the following settings in order to reproduce any error or warning you see on this page. |
| Package 1677/2041 | Hostname | OS / Arch | INSTALL | BUILD | CHECK | BUILD BIN | ||||||||
| Scale4C 1.14.0 (landing page) Carolin Walter
| nebbiolo1 | Linux (Ubuntu 20.04.2 LTS) / x86_64 | OK | OK | OK | |||||||||
| tokay2 | Windows Server 2012 R2 Standard / x64 | OK | OK | OK | OK | |||||||||
| machv2 | macOS 10.14.6 Mojave / x86_64 | OK | OK | OK | OK | |||||||||
| Package: Scale4C |
| Version: 1.14.0 |
| Command: C:\cygwin\bin\curl.exe -O http://155.52.207.165/BBS/3.13/bioc/src/contrib/Scale4C_1.14.0.tar.gz && rm -rf Scale4C.buildbin-libdir && mkdir Scale4C.buildbin-libdir && C:\Users\biocbuild\bbs-3.13-bioc\R\bin\R.exe CMD INSTALL --merge-multiarch --build --library=Scale4C.buildbin-libdir Scale4C_1.14.0.tar.gz && C:\Users\biocbuild\bbs-3.13-bioc\R\bin\R.exe CMD INSTALL Scale4C_1.14.0.zip && rm Scale4C_1.14.0.tar.gz Scale4C_1.14.0.zip |
| StartedAt: 2021-10-14 08:47:14 -0400 (Thu, 14 Oct 2021) |
| EndedAt: 2021-10-14 08:48:01 -0400 (Thu, 14 Oct 2021) |
| EllapsedTime: 46.3 seconds |
| RetCode: 0 |
| Status: OK |
##############################################################################
##############################################################################
###
### Running command:
###
### C:\cygwin\bin\curl.exe -O http://155.52.207.165/BBS/3.13/bioc/src/contrib/Scale4C_1.14.0.tar.gz && rm -rf Scale4C.buildbin-libdir && mkdir Scale4C.buildbin-libdir && C:\Users\biocbuild\bbs-3.13-bioc\R\bin\R.exe CMD INSTALL --merge-multiarch --build --library=Scale4C.buildbin-libdir Scale4C_1.14.0.tar.gz && C:\Users\biocbuild\bbs-3.13-bioc\R\bin\R.exe CMD INSTALL Scale4C_1.14.0.zip && rm Scale4C_1.14.0.tar.gz Scale4C_1.14.0.zip
###
##############################################################################
##############################################################################
% Total % Received % Xferd Average Speed Time Time Time Current
Dload Upload Total Spent Left Speed
0 0 0 0 0 0 0 0 --:--:-- --:--:-- --:--:-- 0
7 3300k 7 242k 0 0 894k 0 0:00:03 --:--:-- 0:00:03 895k
69 3300k 69 2282k 0 0 1774k 0 0:00:01 0:00:01 --:--:-- 1774k
100 3300k 100 3300k 0 0 2028k 0 0:00:01 0:00:01 --:--:-- 2028k
install for i386
* installing *source* package 'Scale4C' ...
** using staged installation
** R
** data
** inst
** byte-compile and prepare package for lazy loading
** help
*** installing help indices
converting help for package 'Scale4C'
finding HTML links ... done
Scale4C-class html
Scale4C html
addPointsOfInterest html
calculateFingerprintMap html
calculateScaleSpace html
findSingularities html
importBasic4CseqData html
liverData html
liverDataVP html
outputScaleSpaceTree html
plotInflectionPoints html
plotTesselation html
plotTraceback html
** building package indices
** installing vignettes
** testing if installed package can be loaded from temporary location
** testing if installed package can be loaded from final location
** testing if installed package keeps a record of temporary installation path
install for x64
* installing *source* package 'Scale4C' ...
** testing if installed package can be loaded
* MD5 sums
packaged installation of 'Scale4C' as Scale4C_1.14.0.zip
* DONE (Scale4C)
* installing to library 'C:/Users/biocbuild/bbs-3.13-bioc/R/library'
package 'Scale4C' successfully unpacked and MD5 sums checked