| Back to Multiple platform build/check report for BioC 3.13 |
|
This page was generated on 2021-10-15 15:05:54 -0400 (Fri, 15 Oct 2021).
|
To the developers/maintainers of the SWATH2stats package: - Please allow up to 24 hours (and sometimes 48 hours) for your latest push to git@git.bioconductor.org:packages/SWATH2stats.git to reflect on this report. See How and When does the builder pull? When will my changes propagate? here for more information. - Make sure to use the following settings in order to reproduce any error or warning you see on this page. |
| Package 1877/2041 | Hostname | OS / Arch | INSTALL | BUILD | CHECK | BUILD BIN | ||||||||
| SWATH2stats 1.22.0 (landing page) Peter Blattmann
| nebbiolo1 | Linux (Ubuntu 20.04.2 LTS) / x86_64 | OK | OK | ERROR | |||||||||
| tokay2 | Windows Server 2012 R2 Standard / x64 | OK | OK | OK | OK | |||||||||
| machv2 | macOS 10.14.6 Mojave / x86_64 | OK | OK | OK | OK | |||||||||
| Package: SWATH2stats |
| Version: 1.22.0 |
| Command: /home/biocbuild/bbs-3.13-bioc/R/bin/R CMD check --install=check:SWATH2stats.install-out.txt --library=/home/biocbuild/bbs-3.13-bioc/R/library --no-vignettes --timings SWATH2stats_1.22.0.tar.gz |
| StartedAt: 2021-10-14 11:48:47 -0400 (Thu, 14 Oct 2021) |
| EndedAt: 2021-10-14 11:51:08 -0400 (Thu, 14 Oct 2021) |
| EllapsedTime: 141.3 seconds |
| RetCode: 1 |
| Status: ERROR |
| CheckDir: SWATH2stats.Rcheck |
| Warnings: NA |
##############################################################################
##############################################################################
###
### Running command:
###
### /home/biocbuild/bbs-3.13-bioc/R/bin/R CMD check --install=check:SWATH2stats.install-out.txt --library=/home/biocbuild/bbs-3.13-bioc/R/library --no-vignettes --timings SWATH2stats_1.22.0.tar.gz
###
##############################################################################
##############################################################################
* using log directory ‘/home/biocbuild/bbs-3.13-bioc/meat/SWATH2stats.Rcheck’
* using R version 4.1.1 (2021-08-10)
* using platform: x86_64-pc-linux-gnu (64-bit)
* using session charset: UTF-8
* using option ‘--no-vignettes’
* checking for file ‘SWATH2stats/DESCRIPTION’ ... OK
* checking extension type ... Package
* this is package ‘SWATH2stats’ version ‘1.22.0’
* package encoding: UTF-8
* checking package namespace information ... OK
* checking package dependencies ... NOTE
Package which this enhances but not available for checking: ‘aLFQ’
* checking if this is a source package ... OK
* checking if there is a namespace ... OK
* checking for hidden files and directories ... OK
* checking for portable file names ... OK
* checking for sufficient/correct file permissions ... OK
* checking whether package ‘SWATH2stats’ can be installed ... OK
* checking installed package size ... OK
* checking package directory ... OK
* checking ‘build’ directory ... OK
* checking DESCRIPTION meta-information ... OK
* checking top-level files ... OK
* checking for left-over files ... OK
* checking index information ... OK
* checking package subdirectories ... OK
* checking R files for non-ASCII characters ... OK
* checking R files for syntax errors ... OK
* checking whether the package can be loaded ... OK
* checking whether the package can be loaded with stated dependencies ... OK
* checking whether the package can be unloaded cleanly ... OK
* checking whether the namespace can be loaded with stated dependencies ... OK
* checking whether the namespace can be unloaded cleanly ... OK
* checking dependencies in R code ... OK
* checking S3 generic/method consistency ... OK
* checking replacement functions ... OK
* checking foreign function calls ... OK
* checking R code for possible problems ... OK
* checking Rd files ... OK
* checking Rd metadata ... OK
* checking Rd cross-references ... OK
* checking for missing documentation entries ... OK
* checking for code/documentation mismatches ... OK
* checking Rd \usage sections ... OK
* checking Rd contents ... OK
* checking for unstated dependencies in examples ... OK
* checking contents of ‘data’ directory ... OK
* checking data for non-ASCII characters ... OK
* checking data for ASCII and uncompressed saves ... OK
* checking files in ‘vignettes’ ... OK
* checking examples ... OK
Examples with CPU (user + system) or elapsed time > 5s
user system elapsed
load_mart 2.385 0.332 18.427
* checking for unstated dependencies in ‘tests’ ... OK
* checking tests ...
Running ‘test-all.R’
ERROR
Running the tests in ‘tests/test-all.R’ failed.
Last 13 lines of output:
Error in `bmRequest(request = request, httr_config = httr_config, verbose = verbose)`: Gateway Timeout (HTTP 504).
Backtrace:
█
1. └─SWATH2stats::convert_protein_ids(data_table) test_biomart.R:6:2
2. └─SWATH2stats::load_mart(species, host, mart)
3. └─biomaRt::useMart(mart, dataset = dataset.mart, host = ensembl.path)
4. └─biomaRt:::.useMart(...)
5. └─biomaRt::listMarts(...)
6. └─biomaRt:::.listMarts(...)
7. └─biomaRt:::bmRequest(...)
8. └─httr::stop_for_status(result)
[ FAIL 1 | WARN 73 | SKIP 0 | PASS 111 ]
Error: Test failures
Execution halted
* checking for unstated dependencies in vignettes ... OK
* checking package vignettes in ‘inst/doc’ ... OK
* checking running R code from vignettes ... SKIPPED
* checking re-building of vignette outputs ... SKIPPED
* checking PDF version of manual ... OK
* DONE
Status: 1 ERROR, 1 NOTE
See
‘/home/biocbuild/bbs-3.13-bioc/meat/SWATH2stats.Rcheck/00check.log’
for details.
SWATH2stats.Rcheck/00install.out
############################################################################## ############################################################################## ### ### Running command: ### ### /home/biocbuild/bbs-3.13-bioc/R/bin/R CMD INSTALL SWATH2stats ### ############################################################################## ############################################################################## * installing to library ‘/home/biocbuild/bbs-3.13-bioc/R/library’ * installing *source* package ‘SWATH2stats’ ... ** using staged installation ** R ** data ** inst ** byte-compile and prepare package for lazy loading ** help *** installing help indices ** building package indices ** installing vignettes ** testing if installed package can be loaded from temporary location ** testing if installed package can be loaded from final location ** testing if installed package keeps a record of temporary installation path * DONE (SWATH2stats)
SWATH2stats.Rcheck/tests/test-all.Rout.fail
R version 4.1.1 (2021-08-10) -- "Kick Things"
Copyright (C) 2021 The R Foundation for Statistical Computing
Platform: x86_64-pc-linux-gnu (64-bit)
R is free software and comes with ABSOLUTELY NO WARRANTY.
You are welcome to redistribute it under certain conditions.
Type 'license()' or 'licence()' for distribution details.
R is a collaborative project with many contributors.
Type 'contributors()' for more information and
'citation()' on how to cite R or R packages in publications.
Type 'demo()' for some demos, 'help()' for on-line help, or
'help.start()' for an HTML browser interface to help.
Type 'q()' to quit R.
> library(testthat)
> test_check("SWATH2stats")
Loading required package: SWATH2stats
[1] "peterb_J131223_054"
[1] "peterb_L150425_011_SW"
[1] "peterb_L150514_002_SW"
══ Failed tests ════════════════════════════════════════════════════════════════
── Error (test_biomart.R:6:3): convert_ids ─────────────────────────────────────
<http_504/http_500/http_error/error/condition>
Error in `bmRequest(request = request, httr_config = httr_config, verbose = verbose)`: Gateway Timeout (HTTP 504).
Backtrace:
█
1. └─SWATH2stats::convert_protein_ids(data_table) test_biomart.R:6:2
2. └─SWATH2stats::load_mart(species, host, mart)
3. └─biomaRt::useMart(mart, dataset = dataset.mart, host = ensembl.path)
4. └─biomaRt:::.useMart(...)
5. └─biomaRt::listMarts(...)
6. └─biomaRt:::.listMarts(...)
7. └─biomaRt:::bmRequest(...)
8. └─httr::stop_for_status(result)
[ FAIL 1 | WARN 73 | SKIP 0 | PASS 111 ]
Error: Test failures
Execution halted
SWATH2stats.Rcheck/SWATH2stats-Ex.timings
| name | user | system | elapsed | |
| JPP_update | 0.113 | 0.004 | 0.116 | |
| add_genesymbol | 0.009 | 0.000 | 0.008 | |
| assess_decoy_rate | 0.118 | 0.004 | 0.122 | |
| assess_fdr_byrun | 0.598 | 0.008 | 0.606 | |
| assess_fdr_overall | 0.141 | 0.012 | 0.153 | |
| convert4MSstats | 0.617 | 0.008 | 0.625 | |
| convert4PECA | 0.133 | 0.008 | 0.142 | |
| convert4aLFQ | 0.567 | 0.004 | 0.571 | |
| convert4mapDIA | 0.308 | 0.016 | 0.325 | |
| convert4pythonscript | 0.116 | 0.004 | 0.119 | |
| convert_protein_ids | 0.000 | 0.004 | 0.004 | |
| count_analytes | 0.128 | 0.004 | 0.131 | |
| disaggregate | 0.197 | 0.000 | 0.198 | |
| filter_all_peptides | 0.129 | 0.000 | 0.130 | |
| filter_mscore | 0.168 | 0.008 | 0.156 | |
| filter_mscore_condition | 0.175 | 0.004 | 0.160 | |
| filter_mscore_fdr | 0.323 | 0.000 | 0.323 | |
| filter_mscore_freqobs | 0.157 | 0.000 | 0.141 | |
| filter_on_max_peptides | 0.160 | 0.000 | 0.147 | |
| filter_on_min_peptides | 0.162 | 0.000 | 0.143 | |
| filter_proteotypic_peptides | 0.120 | 0.004 | 0.124 | |
| import_data | 0.466 | 0.024 | 0.491 | |
| load_mart | 2.385 | 0.332 | 18.427 | |
| mscore4assayfdr | 0.274 | 0.024 | 0.298 | |
| mscore4pepfdr | 0.252 | 0.008 | 0.260 | |
| mscore4protfdr | 0.191 | 0.004 | 0.195 | |
| plot.fdr_cube | 0.194 | 0.000 | 0.194 | |
| plot.fdr_table | 0.169 | 0.000 | 0.170 | |
| plot_correlation_between_samples | 0.356 | 0.016 | 0.372 | |
| plot_variation | 0.357 | 0.024 | 0.381 | |
| plot_variation_vs_total | 0.337 | 0.012 | 0.349 | |
| reduce_OpenSWATH_output | 0.121 | 0.000 | 0.121 | |
| removeDecoyProteins | 0.158 | 0.016 | 0.174 | |
| sample_annotation | 0.160 | 0.008 | 0.168 | |
| transform_MSstats_OpenSWATH | 0.003 | 0.000 | 0.003 | |
| unifyProteinGroupLabels | 0.136 | 0.001 | 0.137 | |
| validate_columns | 0.000 | 0.001 | 0.001 | |
| write_matrix_peptides | 0.213 | 0.008 | 0.222 | |
| write_matrix_proteins | 0.126 | 0.000 | 0.127 | |