| Back to Multiple platform build/check report for BioC 3.13 | 
 | 
This page was generated on 2021-10-15 15:06:24 -0400 (Fri, 15 Oct 2021).
| To the developers/maintainers of the STROMA4 package: - Please allow up to 24 hours (and sometimes 48 hours) for your latest push to git@git.bioconductor.org:packages/STROMA4.git to reflect on this report. See How and When does the builder pull? When will my changes propagate? here for more information. - Make sure to use the following settings in order to reproduce any error or warning you see on this page. | 
| Package 1861/2041 | Hostname | OS / Arch | INSTALL | BUILD | CHECK | BUILD BIN | ||||||||
| STROMA4 1.16.0  (landing page) Sadiq Saleh 
 | nebbiolo1 | Linux (Ubuntu 20.04.2 LTS) / x86_64 | OK | OK | OK |  | ||||||||
| tokay2 | Windows Server 2012 R2 Standard / x64 | OK | OK | OK | OK |  | ||||||||
| machv2 | macOS 10.14.6 Mojave / x86_64 | OK | OK | OK | OK |  | ||||||||
| Package: STROMA4 | 
| Version: 1.16.0 | 
| Command: C:\cygwin\bin\curl.exe -O http://155.52.207.165/BBS/3.13/bioc/src/contrib/STROMA4_1.16.0.tar.gz && rm -rf STROMA4.buildbin-libdir && mkdir STROMA4.buildbin-libdir && C:\Users\biocbuild\bbs-3.13-bioc\R\bin\R.exe CMD INSTALL --merge-multiarch --build --library=STROMA4.buildbin-libdir STROMA4_1.16.0.tar.gz && C:\Users\biocbuild\bbs-3.13-bioc\R\bin\R.exe CMD INSTALL STROMA4_1.16.0.zip && rm STROMA4_1.16.0.tar.gz STROMA4_1.16.0.zip | 
| StartedAt: 2021-10-14 07:44:13 -0400 (Thu, 14 Oct 2021) | 
| EndedAt: 2021-10-14 07:45:08 -0400 (Thu, 14 Oct 2021) | 
| EllapsedTime: 54.8 seconds | 
| RetCode: 0 | 
| Status: OK | 
##############################################################################
##############################################################################
###
### Running command:
###
###   C:\cygwin\bin\curl.exe -O http://155.52.207.165/BBS/3.13/bioc/src/contrib/STROMA4_1.16.0.tar.gz && rm -rf STROMA4.buildbin-libdir && mkdir STROMA4.buildbin-libdir && C:\Users\biocbuild\bbs-3.13-bioc\R\bin\R.exe CMD INSTALL --merge-multiarch --build --library=STROMA4.buildbin-libdir STROMA4_1.16.0.tar.gz && C:\Users\biocbuild\bbs-3.13-bioc\R\bin\R.exe CMD INSTALL STROMA4_1.16.0.zip && rm STROMA4_1.16.0.tar.gz STROMA4_1.16.0.zip
###
##############################################################################
##############################################################################
  % Total    % Received % Xferd  Average Speed   Time    Time     Time  Current
                                 Dload  Upload   Total   Spent    Left  Speed
  0     0    0     0    0     0      0      0 --:--:-- --:--:-- --:--:--     0
100 41532  100 41532    0     0   263k      0 --:--:-- --:--:-- --:--:--  265k
install for i386
* installing *source* package 'STROMA4' ...
** using staged installation
** R
** data
*** moving datasets to lazyload DB
** byte-compile and prepare package for lazy loading
** help
*** installing help indices
  converting help for package 'STROMA4'
    finding HTML links ... done
    B.stroma.property                       html  
    BL1.property                            html  
    BL2.property                            html  
    D.stroma.property                       html  
    E.stroma.property                       html  
    IM.property                             html  
    LAR.property                            html  
    M.property                              html  
    MSL.property                            html  
    T.stroma.property                       html  
    assign.properties                       html  
** building package indices
** installing vignettes
** testing if installed package can be loaded from temporary location
** testing if installed package can be loaded from final location
** testing if installed package keeps a record of temporary installation path
install for x64
* installing *source* package 'STROMA4' ...
** testing if installed package can be loaded
* MD5 sums
packaged installation of 'STROMA4' as STROMA4_1.16.0.zip
* DONE (STROMA4)
* installing to library 'C:/Users/biocbuild/bbs-3.13-bioc/R/library'
package 'STROMA4' successfully unpacked and MD5 sums checked