| Back to Multiple platform build/check report for BioC 3.13 |
|
This page was generated on 2021-10-15 15:06:24 -0400 (Fri, 15 Oct 2021).
|
To the developers/maintainers of the SSPA package: - Please allow up to 24 hours (and sometimes 48 hours) for your latest push to git@git.bioconductor.org:packages/SSPA.git to reflect on this report. See How and When does the builder pull? When will my changes propagate? here for more information. - Make sure to use the following settings in order to reproduce any error or warning you see on this page. |
| Package 1847/2041 | Hostname | OS / Arch | INSTALL | BUILD | CHECK | BUILD BIN | ||||||||
Maarten van Iterson
| nebbiolo1 | Linux (Ubuntu 20.04.2 LTS) / x86_64 | OK | OK | ERROR | |||||||||
| tokay2 | Windows Server 2012 R2 Standard / x64 | OK | OK | ERROR | OK | |||||||||
| machv2 | macOS 10.14.6 Mojave / x86_64 | OK | OK | ERROR | OK | |||||||||
| Package: SSPA |
| Version: 2.32.1 |
| Command: rm -rf SSPA.buildbin-libdir && mkdir SSPA.buildbin-libdir && C:\Users\biocbuild\bbs-3.13-bioc\R\bin\R.exe CMD INSTALL --merge-multiarch --build --library=SSPA.buildbin-libdir SSPA_2.32.1.tar.gz |
| StartedAt: 2021-10-15 12:00:24 -0400 (Fri, 15 Oct 2021) |
| EndedAt: 2021-10-15 12:01:46 -0400 (Fri, 15 Oct 2021) |
| EllapsedTime: 82.2 seconds |
| RetCode: 0 |
| Status: OK |
| PackageFile: SSPA_2.32.1.zip |
| PackageFileSize: 1.037 MiB |
##############################################################################
##############################################################################
###
### Running command:
###
### rm -rf SSPA.buildbin-libdir && mkdir SSPA.buildbin-libdir && C:\Users\biocbuild\bbs-3.13-bioc\R\bin\R.exe CMD INSTALL --merge-multiarch --build --library=SSPA.buildbin-libdir SSPA_2.32.1.tar.gz
###
##############################################################################
##############################################################################
install for i386
* installing *source* package 'SSPA' ...
** using staged installation
** libs
"C:/rtools40/mingw32/bin/"gcc -I"C:/Users/BIOCBU~1/BBS-3~1.13-/R/include" -DNDEBUG -I"c:/extsoft/include" -O2 -Wall -std=gnu99 -mfpmath=sse -msse2 -mstackrealign -c SSPA_init.c -o SSPA_init.o
"C:/rtools40/mingw32/bin/"gcc -I"C:/Users/BIOCBU~1/BBS-3~1.13-/R/include" -DNDEBUG -I"c:/extsoft/include" -O2 -Wall -std=gnu99 -mfpmath=sse -msse2 -mstackrealign -c massdistc.c -o massdistc.o
"C:/rtools40/mingw32/bin/"gcc -I"C:/Users/BIOCBU~1/BBS-3~1.13-/R/include" -DNDEBUG -I"c:/extsoft/include" -O2 -Wall -std=gnu99 -mfpmath=sse -msse2 -mstackrealign -c nncgc.c -o nncgc.o
C:/rtools40/mingw32/bin/gcc -shared -s -static-libgcc -o SSPA.dll tmp.def SSPA_init.o massdistc.o nncgc.o -Lc:/extsoft/lib/i386 -Lc:/extsoft/lib -LC:/Users/BIOCBU~1/BBS-3~1.13-/R/bin/i386 -lR
installing to C:/Users/biocbuild/bbs-3.13-bioc/meat/SSPA.buildbin-libdir/00LOCK-SSPA/00new/SSPA/libs/i386
** R
** data
** inst
** byte-compile and prepare package for lazy loading
** help
*** installing help indices
converting help for package 'SSPA'
finding HTML links ... done
Nutrigenomics html
cornerLcurve html
cornerScurve html
dbitri html
deconvolution html
deepSAGE html
defineEffectSizeRange html
findroot html
midpoint html
nncg html
pbitri html
picardplot html
pilotData html
predictpower html
qbitri html
rbitri html
regularization html
sampleSize html
show-methods html
simdat html
simpson html
standardform html
tikhonov html
trapezoidal html
trimbin html
** building package indices
** installing vignettes
** testing if installed package can be loaded from temporary location
Warning: Package 'SSPA' is deprecated and will be removed from Bioconductor
version 3.14
** testing if installed package can be loaded from final location
Warning: Package 'SSPA' is deprecated and will be removed from Bioconductor
version 3.14
** testing if installed package keeps a record of temporary installation path
install for x64
* installing *source* package 'SSPA' ...
** libs
"C:/rtools40/mingw64/bin/"gcc -I"C:/Users/BIOCBU~1/BBS-3~1.13-/R/include" -DNDEBUG -I"C:/extsoft/include" -O2 -Wall -std=gnu99 -mfpmath=sse -msse2 -mstackrealign -c SSPA_init.c -o SSPA_init.o
"C:/rtools40/mingw64/bin/"gcc -I"C:/Users/BIOCBU~1/BBS-3~1.13-/R/include" -DNDEBUG -I"C:/extsoft/include" -O2 -Wall -std=gnu99 -mfpmath=sse -msse2 -mstackrealign -c massdistc.c -o massdistc.o
"C:/rtools40/mingw64/bin/"gcc -I"C:/Users/BIOCBU~1/BBS-3~1.13-/R/include" -DNDEBUG -I"C:/extsoft/include" -O2 -Wall -std=gnu99 -mfpmath=sse -msse2 -mstackrealign -c nncgc.c -o nncgc.o
C:/rtools40/mingw64/bin/gcc -shared -s -static-libgcc -o SSPA.dll tmp.def SSPA_init.o massdistc.o nncgc.o -LC:/extsoft/lib/x64 -LC:/extsoft/lib -LC:/Users/BIOCBU~1/BBS-3~1.13-/R/bin/x64 -lR
installing to C:/Users/biocbuild/bbs-3.13-bioc/meat/SSPA.buildbin-libdir/SSPA/libs/x64
** testing if installed package can be loaded
Warning: Package 'SSPA' is deprecated and will be removed from Bioconductor
version 3.14
* MD5 sums
packaged installation of 'SSPA' as SSPA_2.32.1.zip
* DONE (SSPA)