| Back to Multiple platform build/check report for BioC 3.13 |
|
This page was generated on 2021-10-15 15:06:24 -0400 (Fri, 15 Oct 2021).
|
To the developers/maintainers of the SRGnet package: - Please allow up to 24 hours (and sometimes 48 hours) for your latest push to git@git.bioconductor.org:packages/SRGnet.git to reflect on this report. See How and When does the builder pull? When will my changes propagate? here for more information. - Make sure to use the following settings in order to reproduce any error or warning you see on this page. |
| Package 1841/2041 | Hostname | OS / Arch | INSTALL | BUILD | CHECK | BUILD BIN | ||||||||
| SRGnet 1.18.0 (landing page) Isar Nassiri
| nebbiolo1 | Linux (Ubuntu 20.04.2 LTS) / x86_64 | ERROR | ERROR | skipped | |||||||||
| tokay2 | Windows Server 2012 R2 Standard / x64 | ERROR | ERROR | skipped | skipped | |||||||||
| machv2 | macOS 10.14.6 Mojave / x86_64 | ERROR | ERROR | skipped | skipped | |||||||||
| Package: SRGnet |
| Version: 1.18.0 |
| Command: C:\cygwin\bin\curl.exe -O http://155.52.207.165/BBS/3.13/bioc/src/contrib/SRGnet_1.18.0.tar.gz && rm -rf SRGnet.buildbin-libdir && mkdir SRGnet.buildbin-libdir && C:\Users\biocbuild\bbs-3.13-bioc\R\bin\R.exe CMD INSTALL --merge-multiarch --build --library=SRGnet.buildbin-libdir SRGnet_1.18.0.tar.gz && C:\Users\biocbuild\bbs-3.13-bioc\R\bin\R.exe CMD INSTALL SRGnet_1.18.0.zip && rm SRGnet_1.18.0.tar.gz SRGnet_1.18.0.zip |
| StartedAt: 2021-10-14 11:28:20 -0400 (Thu, 14 Oct 2021) |
| EndedAt: 2021-10-14 11:28:21 -0400 (Thu, 14 Oct 2021) |
| EllapsedTime: 1.5 seconds |
| RetCode: 1 |
| Status: ERROR |
##############################################################################
##############################################################################
###
### Running command:
###
### C:\cygwin\bin\curl.exe -O http://155.52.207.165/BBS/3.13/bioc/src/contrib/SRGnet_1.18.0.tar.gz && rm -rf SRGnet.buildbin-libdir && mkdir SRGnet.buildbin-libdir && C:\Users\biocbuild\bbs-3.13-bioc\R\bin\R.exe CMD INSTALL --merge-multiarch --build --library=SRGnet.buildbin-libdir SRGnet_1.18.0.tar.gz && C:\Users\biocbuild\bbs-3.13-bioc\R\bin\R.exe CMD INSTALL SRGnet_1.18.0.zip && rm SRGnet_1.18.0.tar.gz SRGnet_1.18.0.zip
###
##############################################################################
##############################################################################
% Total % Received % Xferd Average Speed Time Time Time Current
Dload Upload Total Spent Left Speed
0 0 0 0 0 0 0 0 --:--:-- --:--:-- --:--:-- 0
100 159k 100 159k 0 0 700k 0 --:--:-- --:--:-- --:--:-- 704k
install for i386
ERROR: dependency 'DMwR' is not available for package 'SRGnet'
* removing 'C:/Users/biocbuild/bbs-3.13-bioc/meat/SRGnet.buildbin-libdir/SRGnet'