| Back to Multiple platform build/check report for BioC 3.13 |
|
This page was generated on 2021-10-15 15:05:51 -0400 (Fri, 15 Oct 2021).
|
To the developers/maintainers of the SAGx package: - Please allow up to 24 hours (and sometimes 48 hours) for your latest push to git@git.bioconductor.org:packages/SAGx.git to reflect on this report. See How and When does the builder pull? When will my changes propagate? here for more information. - Make sure to use the following settings in order to reproduce any error or warning you see on this page. |
| Package 1663/2041 | Hostname | OS / Arch | INSTALL | BUILD | CHECK | BUILD BIN | ||||||||
Per Broberg,
| nebbiolo1 | Linux (Ubuntu 20.04.2 LTS) / x86_64 | OK | OK | ERROR | |||||||||
| tokay2 | Windows Server 2012 R2 Standard / x64 | OK | OK | ERROR | OK | |||||||||
| machv2 | macOS 10.14.6 Mojave / x86_64 | OK | OK | ERROR | OK | |||||||||
| Package: SAGx |
| Version: 1.66.0 |
| Command: /home/biocbuild/bbs-3.13-bioc/R/bin/R CMD INSTALL SAGx |
| StartedAt: 2021-10-14 06:05:23 -0400 (Thu, 14 Oct 2021) |
| EndedAt: 2021-10-14 06:05:32 -0400 (Thu, 14 Oct 2021) |
| EllapsedTime: 8.4 seconds |
| RetCode: 0 |
| Status: OK |
##############################################################################
##############################################################################
###
### Running command:
###
### /home/biocbuild/bbs-3.13-bioc/R/bin/R CMD INSTALL SAGx
###
##############################################################################
##############################################################################
* installing to library ‘/home/biocbuild/bbs-3.13-bioc/R/library’
* installing *source* package ‘SAGx’ ...
** using staged installation
** libs
gcc -I"/home/biocbuild/bbs-3.13-bioc/R/include" -DNDEBUG -I/usr/local/include -fpic -g -O2 -Wall -c minigsea.c -o minigsea.o
minigsea.c: In function ‘MiniGSEA’:
minigsea.c:8:12: warning: variable ‘k’ set but not used [-Wunused-but-set-variable]
8 | int i,j,k,I;
| ^
gcc -I"/home/biocbuild/bbs-3.13-bioc/R/include" -DNDEBUG -I/usr/local/include -fpic -g -O2 -Wall -c newboot.c -o newboot.o
gcc -I"/home/biocbuild/bbs-3.13-bioc/R/include" -DNDEBUG -I/usr/local/include -fpic -g -O2 -Wall -c samrocNboot.c -o samrocNboot.o
gcc -shared -L/home/biocbuild/bbs-3.13-bioc/R/lib -L/usr/local/lib -o SAGx.so minigsea.o newboot.o samrocNboot.o -L/home/biocbuild/bbs-3.13-bioc/R/lib -lR
installing to /home/biocbuild/bbs-3.13-bioc/R/library/00LOCK-SAGx/00new/SAGx/libs
** R
** byte-compile and prepare package for lazy loading
** help
*** installing help indices
** building package indices
** installing vignettes
** testing if installed package can be loaded from temporary location
Warning: Package 'SAGx' is deprecated and will be removed from Bioconductor
version 3.14
** checking absolute paths in shared objects and dynamic libraries
** testing if installed package can be loaded from final location
Warning: Package 'SAGx' is deprecated and will be removed from Bioconductor
version 3.14
** testing if installed package keeps a record of temporary installation path
* DONE (SAGx)