| Back to Multiple platform build/check report for BioC 3.13 |
|
This page was generated on 2021-10-15 15:06:20 -0400 (Fri, 15 Oct 2021).
|
To the developers/maintainers of the Rnits package: - Please allow up to 24 hours (and sometimes 48 hours) for your latest push to git@git.bioconductor.org:packages/Rnits.git to reflect on this report. See How and When does the builder pull? When will my changes propagate? here for more information. - Make sure to use the following settings in order to reproduce any error or warning you see on this page. |
| Package 1615/2041 | Hostname | OS / Arch | INSTALL | BUILD | CHECK | BUILD BIN | ||||||||
| Rnits 1.26.0 (landing page) Dipen P. Sangurdekar
| nebbiolo1 | Linux (Ubuntu 20.04.2 LTS) / x86_64 | OK | OK | WARNINGS | |||||||||
| tokay2 | Windows Server 2012 R2 Standard / x64 | OK | ERROR | skipped | skipped | |||||||||
| machv2 | macOS 10.14.6 Mojave / x86_64 | OK | OK | WARNINGS | OK | |||||||||
| Package: Rnits |
| Version: 1.26.0 |
| Command: C:\cygwin\bin\curl.exe -O http://155.52.207.165/BBS/3.13/bioc/src/contrib/Rnits_1.26.0.tar.gz && rm -rf Rnits.buildbin-libdir && mkdir Rnits.buildbin-libdir && C:\Users\biocbuild\bbs-3.13-bioc\R\bin\R.exe CMD INSTALL --merge-multiarch --build --library=Rnits.buildbin-libdir Rnits_1.26.0.tar.gz && C:\Users\biocbuild\bbs-3.13-bioc\R\bin\R.exe CMD INSTALL Rnits_1.26.0.zip && rm Rnits_1.26.0.tar.gz Rnits_1.26.0.zip |
| StartedAt: 2021-10-14 08:26:32 -0400 (Thu, 14 Oct 2021) |
| EndedAt: 2021-10-14 08:27:01 -0400 (Thu, 14 Oct 2021) |
| EllapsedTime: 29.4 seconds |
| RetCode: 0 |
| Status: OK |
##############################################################################
##############################################################################
###
### Running command:
###
### C:\cygwin\bin\curl.exe -O http://155.52.207.165/BBS/3.13/bioc/src/contrib/Rnits_1.26.0.tar.gz && rm -rf Rnits.buildbin-libdir && mkdir Rnits.buildbin-libdir && C:\Users\biocbuild\bbs-3.13-bioc\R\bin\R.exe CMD INSTALL --merge-multiarch --build --library=Rnits.buildbin-libdir Rnits_1.26.0.tar.gz && C:\Users\biocbuild\bbs-3.13-bioc\R\bin\R.exe CMD INSTALL Rnits_1.26.0.zip && rm Rnits_1.26.0.tar.gz Rnits_1.26.0.zip
###
##############################################################################
##############################################################################
% Total % Received % Xferd Average Speed Time Time Time Current
Dload Upload Total Spent Left Speed
0 0 0 0 0 0 0 0 --:--:-- --:--:-- --:--:-- 0
38 319k 38 122k 0 0 131k 0 0:00:02 --:--:-- 0:00:02 132k
100 319k 100 319k 0 0 253k 0 0:00:01 0:00:01 --:--:-- 253k
install for i386
* installing *source* package 'Rnits' ...
** using staged installation
** R
** data
*** moving datasets to lazyload DB
** inst
** byte-compile and prepare package for lazy loading
** help
*** installing help indices
converting help for package 'Rnits'
finding HTML links ... done
Rnits-class html
build.Rnits html
finding level-2 HTML links ... done
calculateGCV-methods html
extract-methods html
fit-methods html
getCID-methods html
getFitModel-methods html
getLR-methods html
getNormTwoChannel-methods html
getPval-methods html
getStat-methods html
plotResults-methods html
rnits html
summarizeProbes-methods html
summary-methods html
timeAlign-methods html
topData-methods html
yeastchemostat html
** building package indices
** installing vignettes
** testing if installed package can be loaded from temporary location
** testing if installed package can be loaded from final location
** testing if installed package keeps a record of temporary installation path
install for x64
* installing *source* package 'Rnits' ...
** testing if installed package can be loaded
* MD5 sums
packaged installation of 'Rnits' as Rnits_1.26.0.zip
* DONE (Rnits)
* installing to library 'C:/Users/biocbuild/bbs-3.13-bioc/R/library'
package 'Rnits' successfully unpacked and MD5 sums checked