| Back to Multiple platform build/check report for BioC 3.13 |
|
This page was generated on 2021-10-15 15:06:50 -0400 (Fri, 15 Oct 2021).
|
To the developers/maintainers of the RmiR package: - Please allow up to 24 hours (and sometimes 48 hours) for your latest push to git@git.bioconductor.org:packages/RmiR.git to reflect on this report. See How and When does the builder pull? When will my changes propagate? here for more information. - Make sure to use the following settings in order to reproduce any error or warning you see on this page. |
| Package 1596/2041 | Hostname | OS / Arch | INSTALL | BUILD | CHECK | BUILD BIN | ||||||||
| RmiR 1.48.0 (landing page) Francesco Favero
| nebbiolo1 | Linux (Ubuntu 20.04.2 LTS) / x86_64 | ERROR | ERROR | skipped | |||||||||
| tokay2 | Windows Server 2012 R2 Standard / x64 | ERROR | ERROR | skipped | skipped | |||||||||
| machv2 | macOS 10.14.6 Mojave / x86_64 | OK | OK | OK | OK | |||||||||
| Package: RmiR |
| Version: 1.48.0 |
| Command: /Library/Frameworks/R.framework/Versions/Current/Resources/bin/R CMD check --install=check:RmiR.install-out.txt --library=/Library/Frameworks/R.framework/Versions/Current/Resources/library --no-vignettes --timings RmiR_1.48.0.tar.gz |
| StartedAt: 2021-10-14 23:14:47 -0400 (Thu, 14 Oct 2021) |
| EndedAt: 2021-10-14 23:16:59 -0400 (Thu, 14 Oct 2021) |
| EllapsedTime: 132.5 seconds |
| RetCode: 0 |
| Status: OK |
| CheckDir: RmiR.Rcheck |
| Warnings: 0 |
##############################################################################
##############################################################################
###
### Running command:
###
### /Library/Frameworks/R.framework/Versions/Current/Resources/bin/R CMD check --install=check:RmiR.install-out.txt --library=/Library/Frameworks/R.framework/Versions/Current/Resources/library --no-vignettes --timings RmiR_1.48.0.tar.gz
###
##############################################################################
##############################################################################
* using log directory ‘/Users/biocbuild/bbs-3.13-bioc/meat/RmiR.Rcheck’
* using R version 4.1.1 (2021-08-10)
* using platform: x86_64-apple-darwin17.0 (64-bit)
* using session charset: UTF-8
* using option ‘--no-vignettes’
* checking for file ‘RmiR/DESCRIPTION’ ... OK
* this is package ‘RmiR’ version ‘1.48.0’
* checking package namespace information ... OK
* checking package dependencies ... OK
* checking if this is a source package ... OK
* checking if there is a namespace ... OK
* checking for hidden files and directories ... NOTE
Found the following hidden files and directories:
.git_fetch_output.txt
.git_merge_output.txt
These were most likely included in error. See section ‘Package
structure’ in the ‘Writing R Extensions’ manual.
* checking for portable file names ... OK
* checking for sufficient/correct file permissions ... OK
* checking whether package ‘RmiR’ can be installed ... OK
* checking installed package size ... OK
* checking package directory ... OK
* checking ‘build’ directory ... OK
* checking DESCRIPTION meta-information ... NOTE
Malformed Description field: should contain one or more complete sentences.
* checking top-level files ... OK
* checking for left-over files ... OK
* checking index information ... OK
* checking package subdirectories ... OK
* checking R files for non-ASCII characters ... OK
* checking R files for syntax errors ... OK
* checking whether the package can be loaded ... OK
* checking whether the package can be loaded with stated dependencies ... OK
* checking whether the package can be unloaded cleanly ... OK
* checking whether the namespace can be loaded with stated dependencies ... OK
* checking whether the namespace can be unloaded cleanly ... OK
* checking dependencies in R code ... NOTE
'library' or 'require' call to ‘RSVGTipsDevice’ which was already attached by Depends.
Please remove these calls from your code.
Packages in Depends field not imported from:
‘RSVGTipsDevice’ ‘RmiR.Hs.miRNA’
These packages need to be imported from (in the NAMESPACE file)
for when this namespace is loaded but not attached.
* checking S3 generic/method consistency ... OK
* checking replacement functions ... OK
* checking foreign function calls ... OK
* checking R code for possible problems ... NOTE
plotRmiRtc: no visible global function definition for ‘devSVGTips’
plotRmiRtc: no visible global function definition for
‘setSVGShapeToolTip’
plotRmiRtc: no visible global function definition for ‘setSVGShapeURL’
plotRmiRtc: no visible global function definition for ‘points’
plotRmiRtc: no visible global function definition for ‘lines’
plotRmiRtc: no visible global function definition for ‘legend’
plotRmiRtc: no visible global function definition for ‘dev.off’
readRmiRtc: no visible global function definition for ‘write.table’
Undefined global functions or variables:
dev.off devSVGTips legend lines points setSVGShapeToolTip
setSVGShapeURL write.table
Consider adding
importFrom("grDevices", "dev.off")
importFrom("graphics", "legend", "lines", "points")
importFrom("utils", "write.table")
to your NAMESPACE file.
* checking Rd files ... OK
* checking Rd metadata ... OK
* checking Rd cross-references ... OK
* checking for missing documentation entries ... OK
* checking for code/documentation mismatches ... OK
* checking Rd \usage sections ... OK
* checking Rd contents ... OK
* checking for unstated dependencies in examples ... OK
* checking contents of ‘data’ directory ... OK
* checking data for non-ASCII characters ... OK
* checking data for ASCII and uncompressed saves ... OK
* checking sizes of PDF files under ‘inst/doc’ ... OK
* checking files in ‘vignettes’ ... OK
* checking examples ... OK
Examples with CPU (user + system) or elapsed time > 5s
user system elapsed
RmiR 15.783 0.691 16.747
RmiRtc 7.419 0.123 7.546
plotRmiRtc 6.719 0.097 6.820
* checking for unstated dependencies in vignettes ... OK
* checking package vignettes in ‘inst/doc’ ... OK
* checking running R code from vignettes ... SKIPPED
* checking re-building of vignette outputs ... SKIPPED
* checking PDF version of manual ... OK
* DONE
Status: 4 NOTEs
See
‘/Users/biocbuild/bbs-3.13-bioc/meat/RmiR.Rcheck/00check.log’
for details.
RmiR.Rcheck/00install.out
############################################################################## ############################################################################## ### ### Running command: ### ### /Library/Frameworks/R.framework/Versions/Current/Resources/bin/R CMD INSTALL RmiR ### ############################################################################## ############################################################################## * installing to library ‘/Library/Frameworks/R.framework/Versions/4.1/Resources/library’ * installing *source* package ‘RmiR’ ... ** using staged installation ** R ** data ** byte-compile and prepare package for lazy loading ** help *** installing help indices ** building package indices ** installing vignettes ** testing if installed package can be loaded from temporary location ** testing if installed package can be loaded from final location ** testing if installed package keeps a record of temporary installation path * DONE (RmiR)
RmiR.Rcheck/RmiR-Ex.timings
| name | user | system | elapsed | |
| RmiR | 15.783 | 0.691 | 16.747 | |
| RmiRtc | 7.419 | 0.123 | 7.546 | |
| data | 0.024 | 0.001 | 0.025 | |
| plotRmiRtc | 6.719 | 0.097 | 6.820 | |