| Back to Multiple platform build/check report for BioC 3.13 |
|
This page was generated on 2021-10-15 15:06:19 -0400 (Fri, 15 Oct 2021).
|
To the developers/maintainers of the Rmagpie package: - Please allow up to 24 hours (and sometimes 48 hours) for your latest push to git@git.bioconductor.org:packages/Rmagpie.git to reflect on this report. See How and When does the builder pull? When will my changes propagate? here for more information. - Make sure to use the following settings in order to reproduce any error or warning you see on this page. |
| Package 1593/2041 | Hostname | OS / Arch | INSTALL | BUILD | CHECK | BUILD BIN | ||||||||
| Rmagpie 1.48.0 (landing page) Camille Maumet
| nebbiolo1 | Linux (Ubuntu 20.04.2 LTS) / x86_64 | OK | OK | OK | |||||||||
| tokay2 | Windows Server 2012 R2 Standard / x64 | OK | OK | OK | OK | |||||||||
| machv2 | macOS 10.14.6 Mojave / x86_64 | OK | OK | OK | OK | |||||||||
| Package: Rmagpie |
| Version: 1.48.0 |
| Command: C:\cygwin\bin\curl.exe -O http://155.52.207.165/BBS/3.13/bioc/src/contrib/Rmagpie_1.48.0.tar.gz && rm -rf Rmagpie.buildbin-libdir && mkdir Rmagpie.buildbin-libdir && C:\Users\biocbuild\bbs-3.13-bioc\R\bin\R.exe CMD INSTALL --merge-multiarch --build --library=Rmagpie.buildbin-libdir Rmagpie_1.48.0.tar.gz && C:\Users\biocbuild\bbs-3.13-bioc\R\bin\R.exe CMD INSTALL Rmagpie_1.48.0.zip && rm Rmagpie_1.48.0.tar.gz Rmagpie_1.48.0.zip |
| StartedAt: 2021-10-14 11:10:42 -0400 (Thu, 14 Oct 2021) |
| EndedAt: 2021-10-14 11:11:16 -0400 (Thu, 14 Oct 2021) |
| EllapsedTime: 34.5 seconds |
| RetCode: 0 |
| Status: OK |
##############################################################################
##############################################################################
###
### Running command:
###
### C:\cygwin\bin\curl.exe -O http://155.52.207.165/BBS/3.13/bioc/src/contrib/Rmagpie_1.48.0.tar.gz && rm -rf Rmagpie.buildbin-libdir && mkdir Rmagpie.buildbin-libdir && C:\Users\biocbuild\bbs-3.13-bioc\R\bin\R.exe CMD INSTALL --merge-multiarch --build --library=Rmagpie.buildbin-libdir Rmagpie_1.48.0.tar.gz && C:\Users\biocbuild\bbs-3.13-bioc\R\bin\R.exe CMD INSTALL Rmagpie_1.48.0.zip && rm Rmagpie_1.48.0.tar.gz Rmagpie_1.48.0.zip
###
##############################################################################
##############################################################################
% Total % Received % Xferd Average Speed Time Time Time Current
Dload Upload Total Spent Left Speed
0 0 0 0 0 0 0 0 --:--:-- --:--:-- --:--:-- 0
100 140k 100 140k 0 0 661k 0 --:--:-- --:--:-- --:--:-- 663k
install for i386
* installing *source* package 'Rmagpie' ...
** using staged installation
** R
** data
** demo
** inst
** byte-compile and prepare package for lazy loading
** help
*** installing help indices
converting help for package 'Rmagpie'
finding HTML links ... done
classifyNewSamples-methods html
experiment-class html
featureSelectionOptions-class html
finalClassifier-class html
findFinalClassifier-methods html
geneSubsets-class html
getDataset-methods html
getFeatureSelectionOptions-methods html
getFinalClassifier html
getResults-methods html
initialize-methods html
plotErrorsFoldTwoLayerCV-methods html
plotErrorsRepeatedOneLayerCV html
plotErrorsSummaryOneLayerCV-methods html
rankedGenesImg-methods html
runOneLayerExtCV-methods html
runTwoLayerExtCV-methods html
setDataset-methods html
setFeatureSelectionOptions-methods html
show-methods html
thresholds-class html
vV70genes html
** building package indices
** installing vignettes
** testing if installed package can be loaded from temporary location
** testing if installed package can be loaded from final location
** testing if installed package keeps a record of temporary installation path
install for x64
* installing *source* package 'Rmagpie' ...
** testing if installed package can be loaded
* MD5 sums
packaged installation of 'Rmagpie' as Rmagpie_1.48.0.zip
* DONE (Rmagpie)
* installing to library 'C:/Users/biocbuild/bbs-3.13-bioc/R/library'
package 'Rmagpie' successfully unpacked and MD5 sums checked