| Back to Multiple platform build/check report for BioC 3.13 |
|
This page was generated on 2021-10-15 15:06:18 -0400 (Fri, 15 Oct 2021).
|
To the developers/maintainers of the ReadqPCR package: - Please allow up to 24 hours (and sometimes 48 hours) for your latest push to git@git.bioconductor.org:packages/ReadqPCR.git to reflect on this report. See How and When does the builder pull? When will my changes propagate? here for more information. - Make sure to use the following settings in order to reproduce any error or warning you see on this page. |
| Package 1536/2041 | Hostname | OS / Arch | INSTALL | BUILD | CHECK | BUILD BIN | ||||||||
| ReadqPCR 1.38.0 (landing page) James Perkins
| nebbiolo1 | Linux (Ubuntu 20.04.2 LTS) / x86_64 | OK | OK | OK | |||||||||
| tokay2 | Windows Server 2012 R2 Standard / x64 | OK | OK | OK | OK | |||||||||
| machv2 | macOS 10.14.6 Mojave / x86_64 | OK | OK | OK | OK | |||||||||
| Package: ReadqPCR |
| Version: 1.38.0 |
| Command: C:\cygwin\bin\curl.exe -O http://155.52.207.165/BBS/3.13/bioc/src/contrib/ReadqPCR_1.38.0.tar.gz && rm -rf ReadqPCR.buildbin-libdir && mkdir ReadqPCR.buildbin-libdir && C:\Users\biocbuild\bbs-3.13-bioc\R\bin\R.exe CMD INSTALL --merge-multiarch --build --library=ReadqPCR.buildbin-libdir ReadqPCR_1.38.0.tar.gz && C:\Users\biocbuild\bbs-3.13-bioc\R\bin\R.exe CMD INSTALL ReadqPCR_1.38.0.zip && rm ReadqPCR_1.38.0.tar.gz ReadqPCR_1.38.0.zip |
| StartedAt: 2021-10-14 07:29:39 -0400 (Thu, 14 Oct 2021) |
| EndedAt: 2021-10-14 07:33:10 -0400 (Thu, 14 Oct 2021) |
| EllapsedTime: 210.4 seconds |
| RetCode: 0 |
| Status: OK |
##############################################################################
##############################################################################
###
### Running command:
###
### C:\cygwin\bin\curl.exe -O http://155.52.207.165/BBS/3.13/bioc/src/contrib/ReadqPCR_1.38.0.tar.gz && rm -rf ReadqPCR.buildbin-libdir && mkdir ReadqPCR.buildbin-libdir && C:\Users\biocbuild\bbs-3.13-bioc\R\bin\R.exe CMD INSTALL --merge-multiarch --build --library=ReadqPCR.buildbin-libdir ReadqPCR_1.38.0.tar.gz && C:\Users\biocbuild\bbs-3.13-bioc\R\bin\R.exe CMD INSTALL ReadqPCR_1.38.0.zip && rm ReadqPCR_1.38.0.tar.gz ReadqPCR_1.38.0.zip
###
##############################################################################
##############################################################################
% Total % Received % Xferd Average Speed Time Time Time Current
Dload Upload Total Spent Left Speed
0 0 0 0 0 0 0 0 --:--:-- --:--:-- --:--:-- 0
100 432k 100 432k 0 0 1434k 0 --:--:-- --:--:-- --:--:-- 1441k
install for i386
* installing *source* package 'ReadqPCR' ...
** using staged installation
** R
** inst
** byte-compile and prepare package for lazy loading
** help
*** installing help indices
converting help for package 'ReadqPCR'
finding HTML links ... done
CyclesSet-class html
ReadqPCR-package html
merge html
qPCRBatch-class html
qpcR2CyclesSet html
read.qPCR html
read.taqman html
readLC480 html
readLC480SampleInfo html
** building package indices
** installing vignettes
'ReadqPCR.Rnw'
** testing if installed package can be loaded from temporary location
** testing if installed package can be loaded from final location
** testing if installed package keeps a record of temporary installation path
install for x64
* installing *source* package 'ReadqPCR' ...
** testing if installed package can be loaded
* MD5 sums
packaged installation of 'ReadqPCR' as ReadqPCR_1.38.0.zip
* DONE (ReadqPCR)
* installing to library 'C:/Users/biocbuild/bbs-3.13-bioc/R/library'
package 'ReadqPCR' successfully unpacked and MD5 sums checked