| Back to Multiple platform build/check report for BioC 3.13 |
|
This page was generated on 2021-10-15 15:06:18 -0400 (Fri, 15 Oct 2021).
|
To the developers/maintainers of the ReactomeGraph4R package: - Please allow up to 24 hours (and sometimes 48 hours) for your latest push to git@git.bioconductor.org:packages/ReactomeGraph4R.git to reflect on this report. See How and When does the builder pull? When will my changes propagate? here for more information. - Make sure to use the following settings in order to reproduce any error or warning you see on this page. |
| Package 1533/2041 | Hostname | OS / Arch | INSTALL | BUILD | CHECK | BUILD BIN | ||||||||
| ReactomeGraph4R 1.0.0 (landing page) Chi-Lam Poon
| nebbiolo1 | Linux (Ubuntu 20.04.2 LTS) / x86_64 | OK | OK | OK | |||||||||
| tokay2 | Windows Server 2012 R2 Standard / x64 | OK | OK | OK | OK | |||||||||
| machv2 | macOS 10.14.6 Mojave / x86_64 | OK | OK | OK | OK | |||||||||
| Package: ReactomeGraph4R |
| Version: 1.0.0 |
| Command: C:\cygwin\bin\curl.exe -O http://155.52.207.165/BBS/3.13/bioc/src/contrib/ReactomeGraph4R_1.0.0.tar.gz && rm -rf ReactomeGraph4R.buildbin-libdir && mkdir ReactomeGraph4R.buildbin-libdir && C:\Users\biocbuild\bbs-3.13-bioc\R\bin\R.exe CMD INSTALL --merge-multiarch --build --library=ReactomeGraph4R.buildbin-libdir ReactomeGraph4R_1.0.0.tar.gz && C:\Users\biocbuild\bbs-3.13-bioc\R\bin\R.exe CMD INSTALL ReactomeGraph4R_1.0.0.zip && rm ReactomeGraph4R_1.0.0.tar.gz ReactomeGraph4R_1.0.0.zip |
| StartedAt: 2021-10-14 09:32:24 -0400 (Thu, 14 Oct 2021) |
| EndedAt: 2021-10-14 09:33:09 -0400 (Thu, 14 Oct 2021) |
| EllapsedTime: 45.0 seconds |
| RetCode: 0 |
| Status: OK |
##############################################################################
##############################################################################
###
### Running command:
###
### C:\cygwin\bin\curl.exe -O http://155.52.207.165/BBS/3.13/bioc/src/contrib/ReactomeGraph4R_1.0.0.tar.gz && rm -rf ReactomeGraph4R.buildbin-libdir && mkdir ReactomeGraph4R.buildbin-libdir && C:\Users\biocbuild\bbs-3.13-bioc\R\bin\R.exe CMD INSTALL --merge-multiarch --build --library=ReactomeGraph4R.buildbin-libdir ReactomeGraph4R_1.0.0.tar.gz && C:\Users\biocbuild\bbs-3.13-bioc\R\bin\R.exe CMD INSTALL ReactomeGraph4R_1.0.0.zip && rm ReactomeGraph4R_1.0.0.tar.gz ReactomeGraph4R_1.0.0.zip
###
##############################################################################
##############################################################################
% Total % Received % Xferd Average Speed Time Time Time Current
Dload Upload Total Spent Left Speed
0 0 0 0 0 0 0 0 --:--:-- --:--:-- --:--:-- 0
81 163k 81 133k 0 0 579k 0 --:--:-- --:--:-- --:--:-- 579k
100 163k 100 163k 0 0 614k 0 --:--:-- --:--:-- --:--:-- 615k
install for i386
* installing *source* package 'ReactomeGraph4R' ...
** using staged installation
** R
** byte-compile and prepare package for lazy loading
** help
*** installing help indices
converting help for package 'ReactomeGraph4R'
finding HTML links ... done
ReactomeGraph4R-package html
login html
matchDiseases html
matchHierarchy html
matchInteractors html
matchObject html
matchPEroles html
matchPaperObjects html
matchPrecedingAndFollowingEvents html
matchReactionsInPathway html
matchReferrals html
multiObjects html
unnestListCol html
** building package indices
** installing vignettes
** testing if installed package can be loaded from temporary location
** testing if installed package can be loaded from final location
** testing if installed package keeps a record of temporary installation path
install for x64
* installing *source* package 'ReactomeGraph4R' ...
** testing if installed package can be loaded
* MD5 sums
packaged installation of 'ReactomeGraph4R' as ReactomeGraph4R_1.0.0.zip
* DONE (ReactomeGraph4R)
* installing to library 'C:/Users/biocbuild/bbs-3.13-bioc/R/library'
package 'ReactomeGraph4R' successfully unpacked and MD5 sums checked