| Back to Multiple platform build/check report for BioC 3.13 |
|
This page was generated on 2021-10-15 15:06:49 -0400 (Fri, 15 Oct 2021).
|
To the developers/maintainers of the ReactomeGSA package: - Please allow up to 24 hours (and sometimes 48 hours) for your latest push to git@git.bioconductor.org:packages/ReactomeGSA.git to reflect on this report. See How and When does the builder pull? When will my changes propagate? here for more information. - Make sure to use the following settings in order to reproduce any error or warning you see on this page. |
| Package 1534/2041 | Hostname | OS / Arch | INSTALL | BUILD | CHECK | BUILD BIN | ||||||||
| ReactomeGSA 1.6.1 (landing page) Johannes Griss
| nebbiolo1 | Linux (Ubuntu 20.04.2 LTS) / x86_64 | OK | OK | OK | |||||||||
| tokay2 | Windows Server 2012 R2 Standard / x64 | OK | OK | OK | OK | |||||||||
| machv2 | macOS 10.14.6 Mojave / x86_64 | OK | OK | OK | OK | |||||||||
| Package: ReactomeGSA |
| Version: 1.6.1 |
| Command: /Library/Frameworks/R.framework/Versions/Current/Resources/bin/R CMD check --install=check:ReactomeGSA.install-out.txt --library=/Library/Frameworks/R.framework/Versions/Current/Resources/library --no-vignettes --timings ReactomeGSA_1.6.1.tar.gz |
| StartedAt: 2021-10-14 22:57:53 -0400 (Thu, 14 Oct 2021) |
| EndedAt: 2021-10-14 23:13:11 -0400 (Thu, 14 Oct 2021) |
| EllapsedTime: 918.4 seconds |
| RetCode: 0 |
| Status: OK |
| CheckDir: ReactomeGSA.Rcheck |
| Warnings: 0 |
##############################################################################
##############################################################################
###
### Running command:
###
### /Library/Frameworks/R.framework/Versions/Current/Resources/bin/R CMD check --install=check:ReactomeGSA.install-out.txt --library=/Library/Frameworks/R.framework/Versions/Current/Resources/library --no-vignettes --timings ReactomeGSA_1.6.1.tar.gz
###
##############################################################################
##############################################################################
* using log directory ‘/Users/biocbuild/bbs-3.13-bioc/meat/ReactomeGSA.Rcheck’
* using R version 4.1.1 (2021-08-10)
* using platform: x86_64-apple-darwin17.0 (64-bit)
* using session charset: UTF-8
* using option ‘--no-vignettes’
* checking for file ‘ReactomeGSA/DESCRIPTION’ ... OK
* checking extension type ... Package
* this is package ‘ReactomeGSA’ version ‘1.6.1’
* package encoding: UTF-8
* checking package namespace information ... OK
* checking package dependencies ... OK
* checking if this is a source package ... OK
* checking if there is a namespace ... OK
* checking for hidden files and directories ... NOTE
Found the following hidden files and directories:
.git_fetch_output.txt
.git_merge_output.txt
These were most likely included in error. See section ‘Package
structure’ in the ‘Writing R Extensions’ manual.
* checking for portable file names ... OK
* checking for sufficient/correct file permissions ... OK
* checking whether package ‘ReactomeGSA’ can be installed ... OK
* checking installed package size ... OK
* checking package directory ... OK
* checking ‘build’ directory ... OK
* checking DESCRIPTION meta-information ... OK
* checking top-level files ... OK
* checking for left-over files ... OK
* checking index information ... OK
* checking package subdirectories ... OK
* checking R files for non-ASCII characters ... OK
* checking R files for syntax errors ... OK
* checking whether the package can be loaded ... OK
* checking whether the package can be loaded with stated dependencies ... OK
* checking whether the package can be unloaded cleanly ... OK
* checking whether the namespace can be loaded with stated dependencies ... OK
* checking whether the namespace can be unloaded cleanly ... OK
* checking dependencies in R code ... OK
* checking S3 generic/method consistency ... OK
* checking replacement functions ... OK
* checking foreign function calls ... OK
* checking R code for possible problems ... NOTE
plot_correlations,ReactomeAnalysisResult: no visible binding for global
variable ‘combined_sig’
plot_correlations,ReactomeAnalysisResult: no visible binding for global
variable ‘alpha’
plot_gsva_pathway,ReactomeAnalysisResult: no visible binding for global
variable ‘cluster_id’
plot_gsva_pathway,ReactomeAnalysisResult: no visible binding for global
variable ‘expr’
plot_gsva_pca,ReactomeAnalysisResult: no visible binding for global
variable ‘gsva_result’
plot_gsva_pca,ReactomeAnalysisResult: no visible binding for global
variable ‘PC1’
plot_gsva_pca,ReactomeAnalysisResult: no visible binding for global
variable ‘PC2’
plot_volcano,ReactomeAnalysisResult: no visible binding for global
variable ‘av_foldchange’
plot_volcano,ReactomeAnalysisResult: no visible binding for global
variable ‘FDR’
Undefined global functions or variables:
FDR PC1 PC2 alpha av_foldchange cluster_id combined_sig expr
gsva_result
* checking Rd files ... OK
* checking Rd metadata ... OK
* checking Rd cross-references ... OK
* checking for missing documentation entries ... OK
* checking for code/documentation mismatches ... OK
* checking Rd \usage sections ... OK
* checking Rd contents ... OK
* checking for unstated dependencies in examples ... OK
* checking files in ‘vignettes’ ... OK
* checking examples ... OK
Examples with CPU (user + system) or elapsed time > 5s
user system elapsed
plot_gsva_heatmap 56.242 1.809 93.291
analyse_sc_clusters-Seurat-method 55.458 1.985 94.932
analyse_sc_clusters 54.652 1.972 94.022
analyse_sc_clusters-SingleCellExperiment-method 54.173 1.929 93.500
plot_gsva_heatmap-ReactomeAnalysisResult-method 53.415 1.794 91.953
plot_gsva_pathway 51.126 1.560 89.516
plot_gsva_pathway-ReactomeAnalysisResult-method 49.708 1.696 88.785
plot_gsva_pca 49.357 1.717 90.817
plot_gsva_pca-ReactomeAnalysisResult-method 44.511 1.438 82.691
ReactomeAnalysisRequest 5.335 0.332 5.723
perform_reactome_analysis 3.376 0.106 16.264
* checking for unstated dependencies in ‘tests’ ... OK
* checking tests ...
Running ‘testthat.R’
OK
* checking for unstated dependencies in vignettes ... OK
* checking package vignettes in ‘inst/doc’ ... OK
* checking running R code from vignettes ... SKIPPED
* checking re-building of vignette outputs ... SKIPPED
* checking PDF version of manual ... OK
* DONE
Status: 2 NOTEs
See
‘/Users/biocbuild/bbs-3.13-bioc/meat/ReactomeGSA.Rcheck/00check.log’
for details.
ReactomeGSA.Rcheck/00install.out
############################################################################## ############################################################################## ### ### Running command: ### ### /Library/Frameworks/R.framework/Versions/Current/Resources/bin/R CMD INSTALL ReactomeGSA ### ############################################################################## ############################################################################## * installing to library ‘/Library/Frameworks/R.framework/Versions/4.1/Resources/library’ * installing *source* package ‘ReactomeGSA’ ... ** using staged installation ** R ** inst ** byte-compile and prepare package for lazy loading in method for ‘analyse_sc_clusters’ with signature ‘object="Seurat"’: no definition for class “Seurat” in method for ‘analyse_sc_clusters’ with signature ‘object="SingleCellExperiment"’: no definition for class “SingleCellExperiment” in method for ‘add_dataset’ with signature ‘request="ReactomeAnalysisRequest",expression_values="EList"’: no definition for class “EList” in method for ‘add_dataset’ with signature ‘request="ReactomeAnalysisRequest",expression_values="DGEList"’: no definition for class “DGEList” in method for ‘add_dataset’ with signature ‘request="ReactomeAnalysisRequest",expression_values="ExpressionSet"’: no definition for class “ExpressionSet” ** help *** installing help indices ** building package indices ** installing vignettes ** testing if installed package can be loaded from temporary location ** testing if installed package can be loaded from final location ** testing if installed package keeps a record of temporary installation path * DONE (ReactomeGSA)
ReactomeGSA.Rcheck/tests/testthat.Rout
R version 4.1.1 (2021-08-10) -- "Kick Things"
Copyright (C) 2021 The R Foundation for Statistical Computing
Platform: x86_64-apple-darwin17.0 (64-bit)
R is free software and comes with ABSOLUTELY NO WARRANTY.
You are welcome to redistribute it under certain conditions.
Type 'license()' or 'licence()' for distribution details.
R is a collaborative project with many contributors.
Type 'contributors()' for more information and
'citation()' on how to cite R or R packages in publications.
Type 'demo()' for some demos, 'help()' for on-line help, or
'help.start()' for an HTML browser interface to help.
Type 'q()' to quit R.
> library(testthat)
> library(ReactomeGSA)
>
> test_check("ReactomeGSA")
[ FAIL 0 | WARN 0 | SKIP 0 | PASS 17 ]
>
> proc.time()
user system elapsed
1.428 0.141 1.544
ReactomeGSA.Rcheck/ReactomeGSA-Ex.timings
| name | user | system | elapsed | |
| ReactomeAnalysisRequest | 5.335 | 0.332 | 5.723 | |
| ReactomeAnalysisResult-class | 2.414 | 0.015 | 2.431 | |
| add_dataset-ReactomeAnalysisRequest-DGEList-method | 1.041 | 0.067 | 1.109 | |
| add_dataset-ReactomeAnalysisRequest-EList-method | 0.920 | 0.053 | 0.975 | |
| add_dataset-ReactomeAnalysisRequest-ExpressionSet-method | 0.930 | 0.051 | 0.981 | |
| add_dataset-ReactomeAnalysisRequest-data.frame-method | 1.239 | 0.047 | 1.288 | |
| add_dataset-ReactomeAnalysisRequest-matrix-method | 0.858 | 0.053 | 0.911 | |
| add_dataset | 0.880 | 0.055 | 0.938 | |
| analyse_sc_clusters-Seurat-method | 55.458 | 1.985 | 94.932 | |
| analyse_sc_clusters-SingleCellExperiment-method | 54.173 | 1.929 | 93.500 | |
| analyse_sc_clusters | 54.652 | 1.972 | 94.022 | |
| get_reactome_data_types | 0.093 | 0.008 | 1.877 | |
| get_reactome_methods | 0.151 | 0.013 | 2.756 | |
| get_result-ReactomeAnalysisResult-method | 0.251 | 0.007 | 0.258 | |
| get_result | 0.260 | 0.008 | 0.269 | |
| names-ReactomeAnalysisResult-method | 0.254 | 0.006 | 0.262 | |
| open_reactome-ReactomeAnalysisResult-method | 0.228 | 0.007 | 0.235 | |
| open_reactome | 0.249 | 0.007 | 0.256 | |
| pathways-ReactomeAnalysisResult-method | 2.573 | 0.035 | 2.609 | |
| pathways | 2.039 | 0.009 | 2.048 | |
| perform_reactome_analysis | 3.376 | 0.106 | 16.264 | |
| plot_correlations-ReactomeAnalysisResult-method | 2.536 | 0.029 | 2.566 | |
| plot_correlations | 2.708 | 0.013 | 2.725 | |
| plot_gsva_heatmap-ReactomeAnalysisResult-method | 53.415 | 1.794 | 91.953 | |
| plot_gsva_heatmap | 56.242 | 1.809 | 93.291 | |
| plot_gsva_pathway-ReactomeAnalysisResult-method | 49.708 | 1.696 | 88.785 | |
| plot_gsva_pathway | 51.126 | 1.560 | 89.516 | |
| plot_gsva_pca-ReactomeAnalysisResult-method | 44.511 | 1.438 | 82.691 | |
| plot_gsva_pca | 49.357 | 1.717 | 90.817 | |
| plot_volcano-ReactomeAnalysisResult-method | 0.231 | 0.007 | 0.238 | |
| plot_volcano | 0.258 | 0.007 | 0.267 | |
| print-ReactomeAnalysisRequest-method | 0.001 | 0.000 | 0.002 | |
| print-ReactomeAnalysisResult-method | 0.224 | 0.006 | 0.232 | |
| reactome_links-ReactomeAnalysisResult-method | 0.207 | 0.007 | 0.215 | |
| reactome_links | 0.194 | 0.006 | 0.199 | |
| result_types-ReactomeAnalysisResult-method | 0.198 | 0.005 | 0.204 | |
| result_types | 0.202 | 0.006 | 0.208 | |
| set_method-ReactomeAnalysisRequest-method | 0.002 | 0.001 | 0.003 | |
| set_method | 0.003 | 0.002 | 0.005 | |
| set_parameters-ReactomeAnalysisRequest-method | 0.003 | 0.001 | 0.003 | |
| set_parameters | 0.003 | 0.000 | 0.004 | |
| show-ReactomeAnalysisRequest-method | 0.002 | 0.001 | 0.003 | |
| show-ReactomeAnalysisResult-method | 0.209 | 0.006 | 0.215 | |