| Back to Multiple platform build/check report for BioC 3.13 |
|
This page was generated on 2021-10-15 15:05:50 -0400 (Fri, 15 Oct 2021).
|
To the developers/maintainers of the Rcpi package: - Please allow up to 24 hours (and sometimes 48 hours) for your latest push to git@git.bioconductor.org:packages/Rcpi.git to reflect on this report. See How and When does the builder pull? When will my changes propagate? here for more information. - Make sure to use the following settings in order to reproduce any error or warning you see on this page. |
| Package 1522/2041 | Hostname | OS / Arch | INSTALL | BUILD | CHECK | BUILD BIN | ||||||||
| Rcpi 1.28.0 (landing page) Nan Xiao
| nebbiolo1 | Linux (Ubuntu 20.04.2 LTS) / x86_64 | OK | OK | OK | |||||||||
| tokay2 | Windows Server 2012 R2 Standard / x64 | OK | OK | OK | OK | |||||||||
| machv2 | macOS 10.14.6 Mojave / x86_64 | OK | OK | OK | OK | |||||||||
| Package: Rcpi |
| Version: 1.28.0 |
| Command: /home/biocbuild/bbs-3.13-bioc/R/bin/R CMD check --install=check:Rcpi.install-out.txt --library=/home/biocbuild/bbs-3.13-bioc/R/library --no-vignettes --timings Rcpi_1.28.0.tar.gz |
| StartedAt: 2021-10-14 11:15:10 -0400 (Thu, 14 Oct 2021) |
| EndedAt: 2021-10-14 11:17:10 -0400 (Thu, 14 Oct 2021) |
| EllapsedTime: 120.2 seconds |
| RetCode: 0 |
| Status: OK |
| CheckDir: Rcpi.Rcheck |
| Warnings: 0 |
############################################################################## ############################################################################## ### ### Running command: ### ### /home/biocbuild/bbs-3.13-bioc/R/bin/R CMD check --install=check:Rcpi.install-out.txt --library=/home/biocbuild/bbs-3.13-bioc/R/library --no-vignettes --timings Rcpi_1.28.0.tar.gz ### ############################################################################## ############################################################################## * using log directory ‘/home/biocbuild/bbs-3.13-bioc/meat/Rcpi.Rcheck’ * using R version 4.1.1 (2021-08-10) * using platform: x86_64-pc-linux-gnu (64-bit) * using session charset: UTF-8 * using option ‘--no-vignettes’ * checking for file ‘Rcpi/DESCRIPTION’ ... OK * checking extension type ... Package * this is package ‘Rcpi’ version ‘1.28.0’ * package encoding: UTF-8 * checking package namespace information ... OK * checking package dependencies ... OK * checking if this is a source package ... OK * checking if there is a namespace ... OK * checking for hidden files and directories ... NOTE Found the following hidden files and directories: .BBSoptions These were most likely included in error. See section ‘Package structure’ in the ‘Writing R Extensions’ manual. * checking for portable file names ... OK * checking for sufficient/correct file permissions ... OK * checking whether package ‘Rcpi’ can be installed ... OK * checking installed package size ... OK * checking package directory ... OK * checking ‘build’ directory ... OK * checking DESCRIPTION meta-information ... OK * checking top-level files ... OK * checking for left-over files ... OK * checking index information ... OK * checking package subdirectories ... OK * checking R files for non-ASCII characters ... OK * checking R files for syntax errors ... OK * checking whether the package can be loaded ... OK * checking whether the package can be loaded with stated dependencies ... OK * checking whether the package can be unloaded cleanly ... OK * checking whether the namespace can be loaded with stated dependencies ... OK * checking whether the namespace can be unloaded cleanly ... OK * checking dependencies in R code ... OK * checking S3 generic/method consistency ... OK * checking replacement functions ... OK * checking foreign function calls ... OK * checking R code for possible problems ... OK * checking Rd files ... OK * checking Rd metadata ... OK * checking Rd cross-references ... OK * checking for missing documentation entries ... OK * checking for code/documentation mismatches ... OK * checking Rd \usage sections ... OK * checking Rd contents ... OK * checking for unstated dependencies in examples ... OK * checking contents of ‘data’ directory ... OK * checking data for non-ASCII characters ... OK * checking LazyData ... OK * checking data for ASCII and uncompressed saves ... OK * checking files in ‘vignettes’ ... OK * checking examples ... OK * checking for unstated dependencies in ‘tests’ ... OK * checking tests ... Running ‘runTests.R’ OK * checking for unstated dependencies in vignettes ... OK * checking package vignettes in ‘inst/doc’ ... OK * checking running R code from vignettes ... SKIPPED * checking re-building of vignette outputs ... SKIPPED * checking PDF version of manual ... OK * DONE Status: 1 NOTE See ‘/home/biocbuild/bbs-3.13-bioc/meat/Rcpi.Rcheck/00check.log’ for details.
Rcpi.Rcheck/00install.out
############################################################################## ############################################################################## ### ### Running command: ### ### /home/biocbuild/bbs-3.13-bioc/R/bin/R CMD INSTALL Rcpi ### ############################################################################## ############################################################################## * installing to library ‘/home/biocbuild/bbs-3.13-bioc/R/library’ * installing *source* package ‘Rcpi’ ... ** using staged installation ** R ** data *** moving datasets to lazyload DB ** inst ** byte-compile and prepare package for lazy loading ** help *** installing help indices ** building package indices ** installing vignettes ** testing if installed package can be loaded from temporary location ** testing if installed package can be loaded from final location ** testing if installed package keeps a record of temporary installation path * DONE (Rcpi)
Rcpi.Rcheck/tests/runTests.Rout
R version 4.1.1 (2021-08-10) -- "Kick Things"
Copyright (C) 2021 The R Foundation for Statistical Computing
Platform: x86_64-pc-linux-gnu (64-bit)
R is free software and comes with ABSOLUTELY NO WARRANTY.
You are welcome to redistribute it under certain conditions.
Type 'license()' or 'licence()' for distribution details.
R is a collaborative project with many contributors.
Type 'contributors()' for more information and
'citation()' on how to cite R or R packages in publications.
Type 'demo()' for some demos, 'help()' for on-line help, or
'help.start()' for an HTML browser interface to help.
Type 'q()' to quit R.
> BiocGenerics:::testPackage('Rcpi')
RUNIT TEST PROTOCOL -- Thu Oct 14 11:17:04 2021
***********************************************
Number of test functions: 11
Number of errors: 0
Number of failures: 0
1 Test Suite :
Rcpi RUnit Tests - 11 test functions, 0 errors, 0 failures
Number of test functions: 11
Number of errors: 0
Number of failures: 0
>
> proc.time()
user system elapsed
6.258 0.319 5.255
Rcpi.Rcheck/Rcpi-Ex.timings
| name | user | system | elapsed | |
| AA2DACOR | 0.002 | 0.000 | 0.002 | |
| AA3DMoRSE | 0.001 | 0.000 | 0.001 | |
| AAACF | 0.001 | 0.000 | 0.001 | |
| AABLOSUM100 | 0.000 | 0.001 | 0.001 | |
| AABLOSUM45 | 0.000 | 0.001 | 0.000 | |
| AABLOSUM50 | 0.000 | 0.001 | 0.001 | |
| AABLOSUM62 | 0.001 | 0.000 | 0.001 | |
| AABLOSUM80 | 0.001 | 0.000 | 0.001 | |
| AABurden | 0.001 | 0.000 | 0.001 | |
| AACPSA | 0.001 | 0.000 | 0.001 | |
| AAConn | 0.001 | 0.000 | 0.001 | |
| AAConst | 0.000 | 0.000 | 0.001 | |
| AADescAll | 0.000 | 0.000 | 0.001 | |
| AAEdgeAdj | 0.000 | 0.001 | 0.001 | |
| AAEigIdx | 0.001 | 0.001 | 0.001 | |
| AAFGC | 0.001 | 0.000 | 0.000 | |
| AAGETAWAY | 0.001 | 0.000 | 0.001 | |
| AAGeom | 0.001 | 0.000 | 0.001 | |
| AAInfo | 0.001 | 0.000 | 0.000 | |
| AAMOE2D | 0.001 | 0.000 | 0.001 | |
| AAMOE3D | 0.001 | 0.000 | 0.001 | |
| AAMetaInfo | 0.001 | 0.000 | 0.000 | |
| AAMolProp | 0.001 | 0.000 | 0.001 | |
| AAPAM120 | 0.000 | 0.001 | 0.001 | |
| AAPAM250 | 0.000 | 0.001 | 0.001 | |
| AAPAM30 | 0.000 | 0.001 | 0.001 | |
| AAPAM40 | 0.001 | 0.000 | 0.001 | |
| AAPAM70 | 0.001 | 0.000 | 0.001 | |
| AARDF | 0.001 | 0.000 | 0.001 | |
| AARandic | 0.001 | 0.000 | 0.001 | |
| AATopo | 0.012 | 0.000 | 0.012 | |
| AATopoChg | 0.001 | 0.000 | 0.001 | |
| AAWHIM | 0.001 | 0.000 | 0.001 | |
| AAWalk | 0.001 | 0.000 | 0.001 | |
| AAindex | 0.001 | 0.000 | 0.001 | |
| OptAA3d | 0 | 0 | 0 | |
| acc | 0.006 | 0.008 | 0.013 | |
| calcDrugFPSim | 2.485 | 0.089 | 0.536 | |
| calcDrugMCSSim | 0.054 | 0.004 | 0.009 | |
| calcParProtGOSim | 0.000 | 0.000 | 0.001 | |
| calcParProtSeqSim | 0.032 | 0.004 | 0.007 | |
| calcTwoProtGOSim | 0.001 | 0.000 | 0.001 | |
| calcTwoProtSeqSim | 0.010 | 0.004 | 0.002 | |
| checkProt | 0.001 | 0.000 | 0.002 | |
| convMolFormat | 0.001 | 0.000 | 0.001 | |
| extractDrugAIO | 0 | 0 | 0 | |
| extractDrugALOGP | 0.001 | 0.000 | 0.001 | |
| extractDrugAminoAcidCount | 0.001 | 0.000 | 0.001 | |
| extractDrugApol | 0.001 | 0.000 | 0.001 | |
| extractDrugAromaticAtomsCount | 0 | 0 | 0 | |
| extractDrugAromaticBondsCount | 0.001 | 0.000 | 0.000 | |
| extractDrugAtomCount | 0.013 | 0.000 | 0.001 | |
| extractDrugAutocorrelationCharge | 0.001 | 0.000 | 0.001 | |
| extractDrugAutocorrelationMass | 0.004 | 0.000 | 0.001 | |
| extractDrugAutocorrelationPolarizability | 0.005 | 0.000 | 0.000 | |
| extractDrugBCUT | 0.001 | 0.000 | 0.001 | |
| extractDrugBPol | 0.000 | 0.000 | 0.001 | |
| extractDrugBondCount | 0.000 | 0.000 | 0.001 | |
| extractDrugCPSA | 0.001 | 0.000 | 0.000 | |
| extractDrugCarbonTypes | 0.001 | 0.000 | 0.001 | |
| extractDrugChiChain | 0.000 | 0.000 | 0.001 | |
| extractDrugChiCluster | 0.001 | 0.000 | 0.001 | |
| extractDrugChiPath | 0.001 | 0.000 | 0.000 | |
| extractDrugChiPathCluster | 0.000 | 0.000 | 0.001 | |
| extractDrugDescOB | 0.001 | 0.008 | 0.010 | |
| extractDrugECI | 0.001 | 0.000 | 0.001 | |
| extractDrugEstate | 0.001 | 0.000 | 0.000 | |
| extractDrugEstateComplete | 0.001 | 0.000 | 0.001 | |
| extractDrugExtended | 0.000 | 0.000 | 0.001 | |
| extractDrugExtendedComplete | 0.000 | 0.000 | 0.001 | |
| extractDrugFMF | 0.000 | 0.000 | 0.001 | |
| extractDrugFragmentComplexity | 0.001 | 0.000 | 0.000 | |
| extractDrugGraph | 0.001 | 0.000 | 0.000 | |
| extractDrugGraphComplete | 0.001 | 0.000 | 0.000 | |
| extractDrugGravitationalIndex | 0.001 | 0.000 | 0.001 | |
| extractDrugHBondAcceptorCount | 0.000 | 0.000 | 0.001 | |
| extractDrugHBondDonorCount | 0.000 | 0.000 | 0.001 | |
| extractDrugHybridization | 0.001 | 0.000 | 0.001 | |
| extractDrugHybridizationComplete | 0.001 | 0.000 | 0.000 | |
| extractDrugHybridizationRatio | 0.001 | 0.000 | 0.000 | |
| extractDrugIPMolecularLearning | 0.001 | 0.000 | 0.000 | |
| extractDrugKR | 0.000 | 0.001 | 0.001 | |
| extractDrugKRComplete | 0.000 | 0.001 | 0.001 | |
| extractDrugKappaShapeIndices | 0.000 | 0.000 | 0.001 | |
| extractDrugKierHallSmarts | 0.000 | 0.000 | 0.001 | |
| extractDrugLargestChain | 0.001 | 0.000 | 0.000 | |
| extractDrugLargestPiSystem | 0.001 | 0.000 | 0.000 | |
| extractDrugLengthOverBreadth | 0.001 | 0.000 | 0.001 | |
| extractDrugLongestAliphaticChain | 0.000 | 0.001 | 0.001 | |
| extractDrugMACCS | 0.000 | 0.000 | 0.001 | |
| extractDrugMACCSComplete | 0.000 | 0.000 | 0.001 | |
| extractDrugMDE | 0.000 | 0.001 | 0.001 | |
| extractDrugMannholdLogP | 0.000 | 0.001 | 0.001 | |
| extractDrugMomentOfInertia | 0.000 | 0.001 | 0.001 | |
| extractDrugOBFP2 | 0.009 | 0.009 | 0.018 | |
| extractDrugOBFP3 | 0.020 | 0.000 | 0.021 | |
| extractDrugOBFP4 | 0.490 | 0.012 | 0.502 | |
| extractDrugOBMACCS | 0.005 | 0.004 | 0.009 | |
| extractDrugPetitjeanNumber | 0.001 | 0.000 | 0.001 | |
| extractDrugPetitjeanShapeIndex | 0.000 | 0.001 | 0.000 | |
| extractDrugPubChem | 0.000 | 0.001 | 0.001 | |
| extractDrugPubChemComplete | 0.000 | 0.001 | 0.001 | |
| extractDrugRotatableBondsCount | 0.001 | 0.000 | 0.001 | |
| extractDrugRuleOfFive | 0.001 | 0.000 | 0.000 | |
| extractDrugShortestPath | 0 | 0 | 0 | |
| extractDrugShortestPathComplete | 0 | 0 | 0 | |
| extractDrugStandard | 0.000 | 0.000 | 0.001 | |
| extractDrugStandardComplete | 0.000 | 0.000 | 0.001 | |
| extractDrugTPSA | 0.001 | 0.000 | 0.001 | |
| extractDrugVABC | 0.001 | 0.000 | 0.001 | |
| extractDrugVAdjMa | 0.001 | 0.000 | 0.000 | |
| extractDrugWHIM | 0.000 | 0.000 | 0.001 | |
| extractDrugWeight | 0.000 | 0.000 | 0.001 | |
| extractDrugWeightedPath | 0.000 | 0.000 | 0.001 | |
| extractDrugWienerNumbers | 0.001 | 0.000 | 0.001 | |
| extractDrugXLogP | 0.001 | 0.000 | 0.001 | |
| extractDrugZagrebIndex | 0.000 | 0.001 | 0.000 | |
| extractPCMBLOSUM | 0.006 | 0.002 | 0.009 | |
| extractPCMDescScales | 0.010 | 0.000 | 0.011 | |
| extractPCMFAScales | 0.015 | 0.008 | 0.023 | |
| extractPCMMDSScales | 0.007 | 0.000 | 0.008 | |
| extractPCMPropScales | 0.010 | 0.000 | 0.011 | |
| extractPCMScales | 0.012 | 0.004 | 0.015 | |
| extractProtAAC | 0.003 | 0.000 | 0.003 | |
| extractProtAPAAC | 0.658 | 0.051 | 0.709 | |
| extractProtCTDC | 0.002 | 0.000 | 0.003 | |
| extractProtCTDD | 0.001 | 0.004 | 0.005 | |
| extractProtCTDT | 0.005 | 0.000 | 0.005 | |
| extractProtCTriad | 0.068 | 0.008 | 0.075 | |
| extractProtDC | 0.005 | 0.004 | 0.008 | |
| extractProtGeary | 0.085 | 0.012 | 0.097 | |
| extractProtMoran | 0.082 | 0.008 | 0.091 | |
| extractProtMoreauBroto | 0.494 | 0.016 | 0.510 | |
| extractProtPAAC | 0.267 | 0.028 | 0.295 | |
| extractProtPSSM | 0.001 | 0.000 | 0.001 | |
| extractProtPSSMAcc | 0.001 | 0.000 | 0.000 | |
| extractProtPSSMFeature | 0.001 | 0.000 | 0.001 | |
| extractProtQSO | 0.549 | 0.016 | 0.564 | |
| extractProtSOCN | 0.561 | 0.003 | 0.564 | |
| extractProtTC | 0.019 | 0.121 | 0.140 | |
| getCPI | 0.002 | 0.003 | 0.005 | |
| getDrug | 0 | 0 | 0 | |
| getFASTAFromKEGG | 0 | 0 | 0 | |
| getFASTAFromUniProt | 0 | 0 | 0 | |
| getMolFromCAS | 0.000 | 0.000 | 0.001 | |
| getMolFromChEMBL | 0 | 0 | 0 | |
| getMolFromDrugBank | 0.000 | 0.001 | 0.000 | |
| getMolFromKEGG | 0 | 0 | 0 | |
| getMolFromPubChem | 0 | 0 | 0 | |
| getPDBFromRCSBPDB | 0.001 | 0.001 | 0.000 | |
| getPPI | 0.005 | 0.000 | 0.004 | |
| getProt | 0 | 0 | 0 | |
| getSeqFromKEGG | 0 | 0 | 0 | |
| getSeqFromRCSBPDB | 0 | 0 | 0 | |
| getSeqFromUniProt | 0 | 0 | 0 | |
| getSmiFromChEMBL | 0.000 | 0.001 | 0.000 | |
| getSmiFromDrugBank | 0 | 0 | 0 | |
| getSmiFromKEGG | 0 | 0 | 0 | |
| getSmiFromPubChem | 0 | 0 | 0 | |
| readFASTA | 0.001 | 0.001 | 0.001 | |
| readMolFromSDF | 0.002 | 0.000 | 0.001 | |
| readMolFromSmi | 0.001 | 0.000 | 0.000 | |
| readPDB | 0.842 | 0.015 | 0.858 | |
| searchDrug | 0.001 | 0.000 | 0.001 | |
| segProt | 0.000 | 0.002 | 0.002 | |