| Back to Multiple platform build/check report for BioC 3.13 | 
 | 
This page was generated on 2021-10-15 15:06:18 -0400 (Fri, 15 Oct 2021).
| To the developers/maintainers of the RandomWalkRestartMH package: - Please allow up to 24 hours (and sometimes 48 hours) for your latest push to git@git.bioconductor.org:packages/RandomWalkRestartMH.git to reflect on this report. See How and When does the builder pull? When will my changes propagate? here for more information. - Make sure to use the following settings in order to reproduce any error or warning you see on this page. | 
| Package 1499/2041 | Hostname | OS / Arch | INSTALL | BUILD | CHECK | BUILD BIN | ||||||||
| RandomWalkRestartMH 1.12.0  (landing page) Alberto Valdeolivas Urbelz 
 | nebbiolo1 | Linux (Ubuntu 20.04.2 LTS) / x86_64 | OK | OK | OK |  | ||||||||
| tokay2 | Windows Server 2012 R2 Standard / x64 | OK | OK | OK | OK |  | ||||||||
| machv2 | macOS 10.14.6 Mojave / x86_64 | OK | OK | OK | OK |  | ||||||||
| Package: RandomWalkRestartMH | 
| Version: 1.12.0 | 
| Command: C:\cygwin\bin\curl.exe -O http://155.52.207.165/BBS/3.13/bioc/src/contrib/RandomWalkRestartMH_1.12.0.tar.gz && rm -rf RandomWalkRestartMH.buildbin-libdir && mkdir RandomWalkRestartMH.buildbin-libdir && C:\Users\biocbuild\bbs-3.13-bioc\R\bin\R.exe CMD INSTALL --merge-multiarch --build --library=RandomWalkRestartMH.buildbin-libdir RandomWalkRestartMH_1.12.0.tar.gz && C:\Users\biocbuild\bbs-3.13-bioc\R\bin\R.exe CMD INSTALL RandomWalkRestartMH_1.12.0.zip && rm RandomWalkRestartMH_1.12.0.tar.gz RandomWalkRestartMH_1.12.0.zip | 
| StartedAt: 2021-10-14 11:01:40 -0400 (Thu, 14 Oct 2021) | 
| EndedAt: 2021-10-14 11:02:28 -0400 (Thu, 14 Oct 2021) | 
| EllapsedTime: 48.7 seconds | 
| RetCode: 0 | 
| Status: OK | 
##############################################################################
##############################################################################
###
### Running command:
###
###   C:\cygwin\bin\curl.exe -O http://155.52.207.165/BBS/3.13/bioc/src/contrib/RandomWalkRestartMH_1.12.0.tar.gz && rm -rf RandomWalkRestartMH.buildbin-libdir && mkdir RandomWalkRestartMH.buildbin-libdir && C:\Users\biocbuild\bbs-3.13-bioc\R\bin\R.exe CMD INSTALL --merge-multiarch --build --library=RandomWalkRestartMH.buildbin-libdir RandomWalkRestartMH_1.12.0.tar.gz && C:\Users\biocbuild\bbs-3.13-bioc\R\bin\R.exe CMD INSTALL RandomWalkRestartMH_1.12.0.zip && rm RandomWalkRestartMH_1.12.0.tar.gz RandomWalkRestartMH_1.12.0.zip
###
##############################################################################
##############################################################################
  % Total    % Received % Xferd  Average Speed   Time    Time     Time  Current
                                 Dload  Upload   Total   Spent    Left  Speed
  0     0    0     0    0     0      0      0 --:--:-- --:--:-- --:--:--     0
 11  394k   11 48389    0     0   305k      0  0:00:01 --:--:--  0:00:01  304k
100  394k  100  394k    0     0  1186k      0 --:--:-- --:--:-- --:--:-- 1188k
install for i386
* installing *source* package 'RandomWalkRestartMH' ...
** using staged installation
** R
** data
*** moving datasets to lazyload DB
** byte-compile and prepare package for lazy loading
** help
*** installing help indices
  converting help for package 'RandomWalkRestartMH'
    finding HTML links ... done
    Disease_Network                         html  
    GeneDiseaseRelations                    html  
    PPI_Network                             html  
    Pathway_Network                         html  
    Random.Walk.Restart.Multiplex           html  
    Random.Walk.Restart.MultiplexHet        html  
    compute.adjacency.matrix                html  
    compute.transition.matrix               html  
    create.multiplex                        html  
    create.multiplexHet                     html  
    create.multiplexHetNetwork.topResults   html  
    create.multiplexNetwork.topResults      html  
    isMultiplex                             html  
    isMultiplexHet                          html  
    isRWRMH_Results                         html  
    isRWRM_Results                          html  
    normalize.multiplex.adjacency           html  
** building package indices
** installing vignettes
** testing if installed package can be loaded from temporary location
** testing if installed package can be loaded from final location
** testing if installed package keeps a record of temporary installation path
install for x64
* installing *source* package 'RandomWalkRestartMH' ...
** testing if installed package can be loaded
* MD5 sums
packaged installation of 'RandomWalkRestartMH' as RandomWalkRestartMH_1.12.0.zip
* DONE (RandomWalkRestartMH)
* installing to library 'C:/Users/biocbuild/bbs-3.13-bioc/R/library'
package 'RandomWalkRestartMH' successfully unpacked and MD5 sums checked