| Back to Multiple platform build/check report for BioC 3.13 |
|
This page was generated on 2021-10-15 15:06:20 -0400 (Fri, 15 Oct 2021).
|
To the developers/maintainers of the RTopper package: - Please allow up to 24 hours (and sometimes 48 hours) for your latest push to git@git.bioconductor.org:packages/RTopper.git to reflect on this report. See How and When does the builder pull? When will my changes propagate? here for more information. - Make sure to use the following settings in order to reproduce any error or warning you see on this page. |
| Package 1648/2041 | Hostname | OS / Arch | INSTALL | BUILD | CHECK | BUILD BIN | ||||||||
| RTopper 1.38.0 (landing page) Luigi Marchionni
| nebbiolo1 | Linux (Ubuntu 20.04.2 LTS) / x86_64 | OK | OK | OK | |||||||||
| tokay2 | Windows Server 2012 R2 Standard / x64 | OK | OK | OK | OK | |||||||||
| machv2 | macOS 10.14.6 Mojave / x86_64 | OK | ERROR | skipped | skipped | |||||||||
| Package: RTopper |
| Version: 1.38.0 |
| Command: rm -rf RTopper.buildbin-libdir && mkdir RTopper.buildbin-libdir && C:\Users\biocbuild\bbs-3.13-bioc\R\bin\R.exe CMD INSTALL --merge-multiarch --build --library=RTopper.buildbin-libdir RTopper_1.38.0.tar.gz |
| StartedAt: 2021-10-15 11:33:06 -0400 (Fri, 15 Oct 2021) |
| EndedAt: 2021-10-15 11:34:31 -0400 (Fri, 15 Oct 2021) |
| EllapsedTime: 85.0 seconds |
| RetCode: 0 |
| Status: OK |
| PackageFile: RTopper_1.38.0.zip |
| PackageFileSize: 1.311 MiB |
##############################################################################
##############################################################################
###
### Running command:
###
### rm -rf RTopper.buildbin-libdir && mkdir RTopper.buildbin-libdir && C:\Users\biocbuild\bbs-3.13-bioc\R\bin\R.exe CMD INSTALL --merge-multiarch --build --library=RTopper.buildbin-libdir RTopper_1.38.0.tar.gz
###
##############################################################################
##############################################################################
install for i386
* installing *source* package 'RTopper' ...
** using staged installation
** R
** data
** inst
** byte-compile and prepare package for lazy loading
** help
*** installing help indices
converting help for package 'RTopper'
finding HTML links ... done
RTopper-package html
adjustPvalGSE html
finding level-2 HTML links ... done
combineGSE html
computeDrStat html
convertToDr html
dat html
fgsList html
gseResultsSep html
intScores html
pheno html
runBatchGSE html
sepScores html
** building package indices
** installing vignettes
** testing if installed package can be loaded from temporary location
** testing if installed package can be loaded from final location
** testing if installed package keeps a record of temporary installation path
install for x64
* installing *source* package 'RTopper' ...
** testing if installed package can be loaded
* MD5 sums
packaged installation of 'RTopper' as RTopper_1.38.0.zip
* DONE (RTopper)