| Back to Multiple platform build/check report for BioC 3.13 |
|
This page was generated on 2021-10-15 15:06:20 -0400 (Fri, 15 Oct 2021).
|
To the developers/maintainers of the RTN package: - Please allow up to 24 hours (and sometimes 48 hours) for your latest push to git@git.bioconductor.org:packages/RTN.git to reflect on this report. See How and When does the builder pull? When will my changes propagate? here for more information. - Make sure to use the following settings in order to reproduce any error or warning you see on this page. |
| Package 1645/2041 | Hostname | OS / Arch | INSTALL | BUILD | CHECK | BUILD BIN | ||||||||
| RTN 2.16.0 (landing page) Mauro Castro
| nebbiolo1 | Linux (Ubuntu 20.04.2 LTS) / x86_64 | OK | OK | OK | |||||||||
| tokay2 | Windows Server 2012 R2 Standard / x64 | OK | OK | OK | OK | |||||||||
| machv2 | macOS 10.14.6 Mojave / x86_64 | OK | OK | OK | OK | |||||||||
| Package: RTN |
| Version: 2.16.0 |
| Command: C:\cygwin\bin\curl.exe -O http://155.52.207.165/BBS/3.13/bioc/src/contrib/RTN_2.16.0.tar.gz && rm -rf RTN.buildbin-libdir && mkdir RTN.buildbin-libdir && C:\Users\biocbuild\bbs-3.13-bioc\R\bin\R.exe CMD INSTALL --merge-multiarch --build --library=RTN.buildbin-libdir RTN_2.16.0.tar.gz && C:\Users\biocbuild\bbs-3.13-bioc\R\bin\R.exe CMD INSTALL RTN_2.16.0.zip && rm RTN_2.16.0.tar.gz RTN_2.16.0.zip |
| StartedAt: 2021-10-14 11:10:53 -0400 (Thu, 14 Oct 2021) |
| EndedAt: 2021-10-14 11:14:51 -0400 (Thu, 14 Oct 2021) |
| EllapsedTime: 237.5 seconds |
| RetCode: 0 |
| Status: OK |
##############################################################################
##############################################################################
###
### Running command:
###
### C:\cygwin\bin\curl.exe -O http://155.52.207.165/BBS/3.13/bioc/src/contrib/RTN_2.16.0.tar.gz && rm -rf RTN.buildbin-libdir && mkdir RTN.buildbin-libdir && C:\Users\biocbuild\bbs-3.13-bioc\R\bin\R.exe CMD INSTALL --merge-multiarch --build --library=RTN.buildbin-libdir RTN_2.16.0.tar.gz && C:\Users\biocbuild\bbs-3.13-bioc\R\bin\R.exe CMD INSTALL RTN_2.16.0.zip && rm RTN_2.16.0.tar.gz RTN_2.16.0.zip
###
##############################################################################
##############################################################################
% Total % Received % Xferd Average Speed Time Time Time Current
Dload Upload Total Spent Left Speed
0 0 0 0 0 0 0 0 --:--:-- --:--:-- --:--:-- 0
0 9704k 0 49975 0 0 243k 0 0:00:39 --:--:-- 0:00:39 242k
29 9704k 29 2846k 0 0 2360k 0 0:00:04 0:00:01 0:00:03 2360k
70 9704k 70 6833k 0 0 3104k 0 0:00:03 0:00:02 0:00:01 3104k
100 9704k 100 9704k 0 0 3376k 0 0:00:02 0:00:02 --:--:-- 3376k
install for i386
* installing *source* package 'RTN' ...
** using staged installation
** R
** data
** inst
** byte-compile and prepare package for lazy loading
** help
*** installing help indices
converting help for package 'RTN'
finding HTML links ... done
AVS-class html
RTN-package html
RTN.data html
TNA-class html
TNI-class html
TNI.data html
avs.evse html
avs.get html
avs.pevse html
avs.plot1 html
avs.plot2 html
avs.rvse html
avs.vse html
tna.get html
tna.gsea1 html
tna.gsea2 html
tna.mra html
tna.plot.gsea1 html
tna.plot.gsea2 html
tni.alpha.adjust html
tni.annotate.regulons html
tni.annotate.samples html
tni.area3 html
finding level-2 HTML links ... done
tni.bootstrap html
tni.conditional html
tni.constructor html
tni.dpi.filter html
tni.get html
tni.graph html
tni.gsea2 html
tni.overlap.genesets html
tni.permutation html
tni.plot.checks html
tni.plot.sre html
tni.preprocess html
tni.prune html
tni.regulon.summary html
tni.replace.samples html
tni.sre html
tni2tna.preprocess html
upgradeTNA html
upgradeTNI html
** building package indices
** installing vignettes
** testing if installed package can be loaded from temporary location
** testing if installed package can be loaded from final location
** testing if installed package keeps a record of temporary installation path
install for x64
* installing *source* package 'RTN' ...
** testing if installed package can be loaded
* MD5 sums
packaged installation of 'RTN' as RTN_2.16.0.zip
* DONE (RTN)
* installing to library 'C:/Users/biocbuild/bbs-3.13-bioc/R/library'
package 'RTN' successfully unpacked and MD5 sums checked