| Back to Multiple platform build/check report for BioC 3.13 |
|
This page was generated on 2021-10-15 15:06:20 -0400 (Fri, 15 Oct 2021).
|
To the developers/maintainers of the RTCGA package: - Please allow up to 24 hours (and sometimes 48 hours) for your latest push to git@git.bioconductor.org:packages/RTCGA.git to reflect on this report. See How and When does the builder pull? When will my changes propagate? here for more information. - Make sure to use the following settings in order to reproduce any error or warning you see on this page. |
| Package 1643/2041 | Hostname | OS / Arch | INSTALL | BUILD | CHECK | BUILD BIN | ||||||||
| RTCGA 1.22.0 (landing page) Marcin Kosinski
| nebbiolo1 | Linux (Ubuntu 20.04.2 LTS) / x86_64 | OK | OK | OK | |||||||||
| tokay2 | Windows Server 2012 R2 Standard / x64 | OK | OK | OK | OK | |||||||||
| machv2 | macOS 10.14.6 Mojave / x86_64 | OK | OK | OK | OK | |||||||||
| Package: RTCGA |
| Version: 1.22.0 |
| Command: C:\cygwin\bin\curl.exe -O http://155.52.207.165/BBS/3.13/bioc/src/contrib/RTCGA_1.22.0.tar.gz && rm -rf RTCGA.buildbin-libdir && mkdir RTCGA.buildbin-libdir && C:\Users\biocbuild\bbs-3.13-bioc\R\bin\R.exe CMD INSTALL --merge-multiarch --build --library=RTCGA.buildbin-libdir RTCGA_1.22.0.tar.gz && C:\Users\biocbuild\bbs-3.13-bioc\R\bin\R.exe CMD INSTALL RTCGA_1.22.0.zip && rm RTCGA_1.22.0.tar.gz RTCGA_1.22.0.zip |
| StartedAt: 2021-10-14 11:08:22 -0400 (Thu, 14 Oct 2021) |
| EndedAt: 2021-10-14 11:09:03 -0400 (Thu, 14 Oct 2021) |
| EllapsedTime: 40.4 seconds |
| RetCode: 0 |
| Status: OK |
##############################################################################
##############################################################################
###
### Running command:
###
### C:\cygwin\bin\curl.exe -O http://155.52.207.165/BBS/3.13/bioc/src/contrib/RTCGA_1.22.0.tar.gz && rm -rf RTCGA.buildbin-libdir && mkdir RTCGA.buildbin-libdir && C:\Users\biocbuild\bbs-3.13-bioc\R\bin\R.exe CMD INSTALL --merge-multiarch --build --library=RTCGA.buildbin-libdir RTCGA_1.22.0.tar.gz && C:\Users\biocbuild\bbs-3.13-bioc\R\bin\R.exe CMD INSTALL RTCGA_1.22.0.zip && rm RTCGA_1.22.0.tar.gz RTCGA_1.22.0.zip
###
##############################################################################
##############################################################################
% Total % Received % Xferd Average Speed Time Time Time Current
Dload Upload Total Spent Left Speed
0 0 0 0 0 0 0 0 --:--:-- --:--:-- --:--:-- 0
33 2443k 33 823k 0 0 1450k 0 0:00:01 --:--:-- 0:00:01 1450k
100 2443k 100 2443k 0 0 2199k 0 0:00:01 0:00:01 --:--:-- 2200k
install for i386
* installing *source* package 'RTCGA' ...
** using staged installation
** R
** byte-compile and prepare package for lazy loading
** help
*** installing help indices
converting help for package 'RTCGA'
finding HTML links ... done
RTCGA-package html
boxplotTCGA html
finding level-2 HTML links ... done
checkTCGA html
convertTCGA html
datasetsTCGA html
downloadTCGA html
expressionsTCGA html
heatmapTCGA html
infoTCGA html
installTCGA html
kmTCGA html
mutationsTCGA html
pcaTCGA html
readTCGA html
survivalTCGA html
theme_RTCGA html
** building package indices
** installing vignettes
** testing if installed package can be loaded from temporary location
** testing if installed package can be loaded from final location
** testing if installed package keeps a record of temporary installation path
install for x64
* installing *source* package 'RTCGA' ...
** testing if installed package can be loaded
* MD5 sums
packaged installation of 'RTCGA' as RTCGA_1.22.0.zip
* DONE (RTCGA)
* installing to library 'C:/Users/biocbuild/bbs-3.13-bioc/R/library'
package 'RTCGA' successfully unpacked and MD5 sums checked