| Back to Multiple platform build/check report for BioC 3.13 |
|
This page was generated on 2021-10-15 15:06:20 -0400 (Fri, 15 Oct 2021).
|
To the developers/maintainers of the RPA package: - Please allow up to 24 hours (and sometimes 48 hours) for your latest push to git@git.bioconductor.org:packages/RPA.git to reflect on this report. See How and When does the builder pull? When will my changes propagate? here for more information. - Make sure to use the following settings in order to reproduce any error or warning you see on this page. |
| Package 1624/2041 | Hostname | OS / Arch | INSTALL | BUILD | CHECK | BUILD BIN | ||||||||
| RPA 1.48.0 (landing page) Leo Lahti
| nebbiolo1 | Linux (Ubuntu 20.04.2 LTS) / x86_64 | OK | OK | OK | |||||||||
| tokay2 | Windows Server 2012 R2 Standard / x64 | OK | OK | OK | OK | |||||||||
| machv2 | macOS 10.14.6 Mojave / x86_64 | OK | OK | OK | OK | |||||||||
| Package: RPA |
| Version: 1.48.0 |
| Command: C:\cygwin\bin\curl.exe -O http://155.52.207.165/BBS/3.13/bioc/src/contrib/RPA_1.48.0.tar.gz && rm -rf RPA.buildbin-libdir && mkdir RPA.buildbin-libdir && C:\Users\biocbuild\bbs-3.13-bioc\R\bin\R.exe CMD INSTALL --merge-multiarch --build --library=RPA.buildbin-libdir RPA_1.48.0.tar.gz && C:\Users\biocbuild\bbs-3.13-bioc\R\bin\R.exe CMD INSTALL RPA_1.48.0.zip && rm RPA_1.48.0.tar.gz RPA_1.48.0.zip |
| StartedAt: 2021-10-14 08:28:20 -0400 (Thu, 14 Oct 2021) |
| EndedAt: 2021-10-14 08:29:26 -0400 (Thu, 14 Oct 2021) |
| EllapsedTime: 65.8 seconds |
| RetCode: 0 |
| Status: OK |
##############################################################################
##############################################################################
###
### Running command:
###
### C:\cygwin\bin\curl.exe -O http://155.52.207.165/BBS/3.13/bioc/src/contrib/RPA_1.48.0.tar.gz && rm -rf RPA.buildbin-libdir && mkdir RPA.buildbin-libdir && C:\Users\biocbuild\bbs-3.13-bioc\R\bin\R.exe CMD INSTALL --merge-multiarch --build --library=RPA.buildbin-libdir RPA_1.48.0.tar.gz && C:\Users\biocbuild\bbs-3.13-bioc\R\bin\R.exe CMD INSTALL RPA_1.48.0.zip && rm RPA_1.48.0.tar.gz RPA_1.48.0.zip
###
##############################################################################
##############################################################################
% Total % Received % Xferd Average Speed Time Time Time Current
Dload Upload Total Spent Left Speed
0 0 0 0 0 0 0 0 --:--:-- --:--:-- --:--:-- 0
100 123k 100 123k 0 0 547k 0 --:--:-- --:--:-- --:--:-- 550k
install for i386
* installing *source* package 'RPA' ...
** using staged installation
** R
** inst
** byte-compile and prepare package for lazy loading
** help
*** installing help indices
converting help for package 'RPA'
finding HTML links ... done
RPA-package html
RPA.iteration html
RPA.preprocess html
calculate.rpa html
collect.hyperparameters html
d.update.fast html
estimate.affinities html
estimate.hyperparameters html
frpa html
get.batches html
get.probe.matrix html
get.probe.parameters html
get.probeset html
hyperparameter.update html
levelmap html
n.phylotypes.per.oligo html
online.quantile html
probe.parameters.tolist html
probe.performance html
probeplot html
probetable html
retrieve.probesets html
rpa html
REDIRECT:topic Previous alias or file overwritten by alias: C:/Users/biocbuild/bbs-3.13-bioc/meat/RPA.buildbin-libdir/00LOCK-RPA/00new/RPA/help/rpa.html
rpa.complete html
rpa.fit html
rpa.online html
rpa.plot html
rpa.summarize html
rpaplot html
sample.probeset html
summarize.batch html
summarize.batches html
summarize.rpa html
summarize.sum html
summarize_probedata html
updating.hyperparameters html
** building package indices
** installing vignettes
** testing if installed package can be loaded from temporary location
** testing if installed package can be loaded from final location
** testing if installed package keeps a record of temporary installation path
install for x64
* installing *source* package 'RPA' ...
** testing if installed package can be loaded
* MD5 sums
packaged installation of 'RPA' as RPA_1.48.0.zip
* DONE (RPA)
* installing to library 'C:/Users/biocbuild/bbs-3.13-bioc/R/library'
package 'RPA' successfully unpacked and MD5 sums checked