| Back to Multiple platform build/check report for BioC 3.13 |
|
This page was generated on 2021-10-15 15:05:51 -0400 (Fri, 15 Oct 2021).
|
To the developers/maintainers of the RNAmodR package: - Please allow up to 24 hours (and sometimes 48 hours) for your latest push to git@git.bioconductor.org:packages/RNAmodR.git to reflect on this report. See How and When does the builder pull? When will my changes propagate? here for more information. - Make sure to use the following settings in order to reproduce any error or warning you see on this page. |
| Package 1603/2041 | Hostname | OS / Arch | INSTALL | BUILD | CHECK | BUILD BIN | ||||||||
| RNAmodR 1.6.0 (landing page) Felix G.M. Ernst
| nebbiolo1 | Linux (Ubuntu 20.04.2 LTS) / x86_64 | OK | OK | OK | |||||||||
| tokay2 | Windows Server 2012 R2 Standard / x64 | OK | OK | OK | OK | |||||||||
| machv2 | macOS 10.14.6 Mojave / x86_64 | OK | OK | OK | OK | |||||||||
| Package: RNAmodR |
| Version: 1.6.0 |
| Command: /home/biocbuild/bbs-3.13-bioc/R/bin/R CMD check --install=check:RNAmodR.install-out.txt --library=/home/biocbuild/bbs-3.13-bioc/R/library --no-vignettes --timings RNAmodR_1.6.0.tar.gz |
| StartedAt: 2021-10-14 11:22:09 -0400 (Thu, 14 Oct 2021) |
| EndedAt: 2021-10-14 11:31:00 -0400 (Thu, 14 Oct 2021) |
| EllapsedTime: 531.6 seconds |
| RetCode: 0 |
| Status: OK |
| CheckDir: RNAmodR.Rcheck |
| Warnings: 0 |
##############################################################################
##############################################################################
###
### Running command:
###
### /home/biocbuild/bbs-3.13-bioc/R/bin/R CMD check --install=check:RNAmodR.install-out.txt --library=/home/biocbuild/bbs-3.13-bioc/R/library --no-vignettes --timings RNAmodR_1.6.0.tar.gz
###
##############################################################################
##############################################################################
* using log directory ‘/home/biocbuild/bbs-3.13-bioc/meat/RNAmodR.Rcheck’
* using R version 4.1.1 (2021-08-10)
* using platform: x86_64-pc-linux-gnu (64-bit)
* using session charset: UTF-8
* using option ‘--no-vignettes’
* checking for file ‘RNAmodR/DESCRIPTION’ ... OK
* checking extension type ... Package
* this is package ‘RNAmodR’ version ‘1.6.0’
* package encoding: UTF-8
* checking package namespace information ... OK
* checking package dependencies ... OK
* checking if this is a source package ... OK
* checking if there is a namespace ... OK
* checking for hidden files and directories ... OK
* checking for portable file names ... OK
* checking for sufficient/correct file permissions ... OK
* checking whether package ‘RNAmodR’ can be installed ... OK
* checking installed package size ... OK
* checking package directory ... OK
* checking ‘build’ directory ... OK
* checking DESCRIPTION meta-information ... OK
* checking top-level files ... OK
* checking for left-over files ... OK
* checking index information ... OK
* checking package subdirectories ... OK
* checking R files for non-ASCII characters ... OK
* checking R files for syntax errors ... OK
* checking whether the package can be loaded ... OK
* checking whether the package can be loaded with stated dependencies ... OK
* checking whether the package can be unloaded cleanly ... OK
* checking whether the namespace can be loaded with stated dependencies ... OK
* checking whether the namespace can be unloaded cleanly ... OK
* checking dependencies in R code ... NOTE
Unexported objects imported by ':::' calls:
'BiocGenerics:::replaceSlots' 'Biostrings:::XString'
'IRanges:::.valid.CompressedList' 'IRanges:::coerceToCompressedList'
'S4Vectors:::.valid.DataFrame' 'S4Vectors:::labeledLine'
'S4Vectors:::make_zero_col_DataFrame'
'S4Vectors:::prepare_objects_to_bind'
See the note in ?`:::` about the use of this operator.
There are ::: calls to the package's namespace in its code. A package
almost never needs to use ::: for its own objects:
'.get_inosine_score'
* checking S3 generic/method consistency ... OK
* checking replacement functions ... OK
* checking foreign function calls ... OK
* checking R code for possible problems ... OK
* checking Rd files ... OK
* checking Rd metadata ... OK
* checking Rd cross-references ... OK
* checking for missing documentation entries ... OK
* checking for code/documentation mismatches ... OK
* checking Rd \usage sections ... OK
* checking Rd contents ... OK
* checking for unstated dependencies in examples ... OK
* checking contents of ‘data’ directory ... OK
* checking data for non-ASCII characters ... OK
* checking data for ASCII and uncompressed saves ... OK
* checking files in ‘vignettes’ ... OK
* checking examples ... OK
Examples with CPU (user + system) or elapsed time > 5s
user system elapsed
stats 56.410 4.219 48.166
CoverageSequenceData-class 14.884 0.791 16.710
ModInosine 12.196 0.196 12.921
ProtectedEndSequenceData-class 9.302 0.175 10.058
PileupSequenceData-class 9.058 0.188 9.799
EndSequenceData-class 9.050 0.152 9.732
* checking for unstated dependencies in ‘tests’ ... OK
* checking tests ...
Running ‘testthat.R’
OK
* checking for unstated dependencies in vignettes ... OK
* checking package vignettes in ‘inst/doc’ ... OK
* checking running R code from vignettes ... SKIPPED
* checking re-building of vignette outputs ... SKIPPED
* checking PDF version of manual ... OK
* DONE
Status: 1 NOTE
See
‘/home/biocbuild/bbs-3.13-bioc/meat/RNAmodR.Rcheck/00check.log’
for details.
RNAmodR.Rcheck/00install.out
############################################################################## ############################################################################## ### ### Running command: ### ### /home/biocbuild/bbs-3.13-bioc/R/bin/R CMD INSTALL RNAmodR ### ############################################################################## ############################################################################## * installing to library ‘/home/biocbuild/bbs-3.13-bioc/R/library’ * installing *source* package ‘RNAmodR’ ... ** using staged installation ** R ** data ** inst ** byte-compile and prepare package for lazy loading ** help *** installing help indices ** building package indices ** installing vignettes ** testing if installed package can be loaded from temporary location ** testing if installed package can be loaded from final location ** testing if installed package keeps a record of temporary installation path * DONE (RNAmodR)
RNAmodR.Rcheck/tests/testthat.Rout
R version 4.1.1 (2021-08-10) -- "Kick Things"
Copyright (C) 2021 The R Foundation for Statistical Computing
Platform: x86_64-pc-linux-gnu (64-bit)
R is free software and comes with ABSOLUTELY NO WARRANTY.
You are welcome to redistribute it under certain conditions.
Type 'license()' or 'licence()' for distribution details.
R is a collaborative project with many contributors.
Type 'contributors()' for more information and
'citation()' on how to cite R or R packages in publications.
Type 'demo()' for some demos, 'help()' for on-line help, or
'help.start()' for an HTML browser interface to help.
Type 'q()' to quit R.
> library(testthat)
> library(RNAmodR)
Loading required package: S4Vectors
Loading required package: stats4
Loading required package: BiocGenerics
Loading required package: parallel
Attaching package: 'BiocGenerics'
The following objects are masked from 'package:parallel':
clusterApply, clusterApplyLB, clusterCall, clusterEvalQ,
clusterExport, clusterMap, parApply, parCapply, parLapply,
parLapplyLB, parRapply, parSapply, parSapplyLB
The following objects are masked from 'package:stats':
IQR, mad, sd, var, xtabs
The following objects are masked from 'package:base':
Filter, Find, Map, Position, Reduce, anyDuplicated, append,
as.data.frame, basename, cbind, colnames, dirname, do.call,
duplicated, eval, evalq, get, grep, grepl, intersect, is.unsorted,
lapply, mapply, match, mget, order, paste, pmax, pmax.int, pmin,
pmin.int, rank, rbind, rownames, sapply, setdiff, sort, table,
tapply, union, unique, unsplit, which.max, which.min
Attaching package: 'S4Vectors'
The following objects are masked from 'package:base':
I, expand.grid, unname
Loading required package: IRanges
Loading required package: GenomicRanges
Loading required package: GenomeInfoDb
Loading required package: Modstrings
Loading required package: Biostrings
Loading required package: XVector
Attaching package: 'Biostrings'
The following object is masked from 'package:base':
strsplit
Attaching package: 'RNAmodR'
The following object is masked from 'package:testthat':
compare
>
> test_check("RNAmodR")
══ Skipped tests ═══════════════════════════════════════════════════════════════
• On Bioconductor (9)
[ FAIL 0 | WARN 0 | SKIP 9 | PASS 192 ]
>
> proc.time()
user system elapsed
52.857 2.979 56.801
RNAmodR.Rcheck/RNAmodR-Ex.timings
| name | user | system | elapsed | |
| CoverageSequenceData-class | 14.884 | 0.791 | 16.710 | |
| EndSequenceData-class | 9.050 | 0.152 | 9.732 | |
| ModInosine-functions | 0.751 | 0.032 | 0.782 | |
| ModInosine | 12.196 | 0.196 | 12.921 | |
| Modifier-functions | 0.268 | 0.016 | 0.284 | |
| NormEndSequenceData-class | 0.001 | 0.000 | 0.000 | |
| PileupSequenceData-class | 9.058 | 0.188 | 9.799 | |
| ProtectedEndSequenceData-class | 9.302 | 0.175 | 10.058 | |
| RNAmodR-development | 0.058 | 0.008 | 0.066 | |
| SequenceData-functions | 0.074 | 0.000 | 0.073 | |
| SequenceDataFrame-class | 0.064 | 0.000 | 0.064 | |
| SequenceDataList-class | 0.121 | 0.000 | 0.121 | |
| SequenceDataSet-class | 0.079 | 0.000 | 0.079 | |
| SequenceModDNAStringSetTrack-class | 1.682 | 0.032 | 1.713 | |
| SequenceModRNAStringSetTrack-class | 0.122 | 0.000 | 0.123 | |
| aggregate | 0.528 | 0.000 | 0.528 | |
| compareByCoord | 2.071 | 0.044 | 2.115 | |
| modify | 0.582 | 0.000 | 0.582 | |
| plotData | 2.308 | 0.024 | 2.332 | |
| plotROC | 1.443 | 0.016 | 1.460 | |
| settings | 0.096 | 0.004 | 0.100 | |
| stats | 56.410 | 4.219 | 48.166 | |
| subsetByCoord | 0.618 | 0.004 | 0.622 | |