| Back to Multiple platform build/check report for BioC 3.13 |
|
This page was generated on 2021-10-15 15:06:20 -0400 (Fri, 15 Oct 2021).
|
To the developers/maintainers of the RNAdecay package: - Please allow up to 24 hours (and sometimes 48 hours) for your latest push to git@git.bioconductor.org:packages/RNAdecay.git to reflect on this report. See How and When does the builder pull? When will my changes propagate? here for more information. - Make sure to use the following settings in order to reproduce any error or warning you see on this page. |
| Package 1599/2041 | Hostname | OS / Arch | INSTALL | BUILD | CHECK | BUILD BIN | ||||||||
| RNAdecay 1.12.0 (landing page) Reed Sorenson
| nebbiolo1 | Linux (Ubuntu 20.04.2 LTS) / x86_64 | OK | OK | OK | |||||||||
| tokay2 | Windows Server 2012 R2 Standard / x64 | OK | OK | OK | ERROR | |||||||||
| machv2 | macOS 10.14.6 Mojave / x86_64 | OK | OK | OK | OK | |||||||||
| Package: RNAdecay |
| Version: 1.12.0 |
| Command: rm -rf RNAdecay.buildbin-libdir && mkdir RNAdecay.buildbin-libdir && C:\Users\biocbuild\bbs-3.13-bioc\R\bin\R.exe CMD INSTALL --merge-multiarch --build --library=RNAdecay.buildbin-libdir RNAdecay_1.12.0.tar.gz |
| StartedAt: 2021-10-15 11:26:42 -0400 (Fri, 15 Oct 2021) |
| EndedAt: 2021-10-15 11:27:32 -0400 (Fri, 15 Oct 2021) |
| EllapsedTime: 49.9 seconds |
| RetCode: 1 |
| Status: ERROR |
| PackageFile: None |
| PackageFileSize: NA |
##############################################################################
##############################################################################
###
### Running command:
###
### rm -rf RNAdecay.buildbin-libdir && mkdir RNAdecay.buildbin-libdir && C:\Users\biocbuild\bbs-3.13-bioc\R\bin\R.exe CMD INSTALL --merge-multiarch --build --library=RNAdecay.buildbin-libdir RNAdecay_1.12.0.tar.gz
###
##############################################################################
##############################################################################
install for i386
* installing *source* package 'RNAdecay' ...
** using staged installation
** libs
running 'src/Makefile.win' ...
make: Nothing to be done for 'all'.
installing to C:/Users/biocbuild/bbs-3.13-bioc/meat/RNAdecay.buildbin-libdir/00LOCK-RNAdecay/00new/RNAdecay/libs/i386
** R
** data
*** moving datasets to lazyload DB
** inst
** byte-compile and prepare package for lazy loading
** help
*** installing help indices
converting help for package 'RNAdecay'
finding HTML links ... done
RPMs html
a_high html
aic html
cols html
comb_cv html
const_decay html
constraint_fun_list_maker html
decay_data html
decay_plot html
fit_var html
group_map html
groupings html
hl_plot html
log_lik html
mod_optimization html
models html
n_par html
plain_theme html
results html
sse_null_decaying_decay html
** building package indices
** installing vignettes
** testing if installed package can be loaded from temporary location
Error: package or namespace load failed for 'RNAdecay' in inDL(x, as.logical(local), as.logical(now), ...):
unable to load shared object 'C:/Users/biocbuild/bbs-3.13-bioc/meat/RNAdecay.buildbin-libdir/00LOCK-RNAdecay/00new/RNAdecay/libs/i386/general_Exp_1sse.dll':
LoadLibrary failure: %1 is not a valid Win32 application.
Error: loading failed
Execution halted
ERROR: loading failed
* removing 'C:/Users/biocbuild/bbs-3.13-bioc/meat/RNAdecay.buildbin-libdir/RNAdecay'