| Back to Multiple platform build/check report for BioC 3.13 |
|
This page was generated on 2021-10-15 15:06:19 -0400 (Fri, 15 Oct 2021).
|
To the developers/maintainers of the RIVER package: - Please allow up to 24 hours (and sometimes 48 hours) for your latest push to git@git.bioconductor.org:packages/RIVER.git to reflect on this report. See How and When does the builder pull? When will my changes propagate? here for more information. - Make sure to use the following settings in order to reproduce any error or warning you see on this page. |
| Package 1589/2041 | Hostname | OS / Arch | INSTALL | BUILD | CHECK | BUILD BIN | ||||||||
| RIVER 1.16.0 (landing page) Yungil Kim
| nebbiolo1 | Linux (Ubuntu 20.04.2 LTS) / x86_64 | OK | OK | OK | |||||||||
| tokay2 | Windows Server 2012 R2 Standard / x64 | OK | OK | OK | OK | |||||||||
| machv2 | macOS 10.14.6 Mojave / x86_64 | OK | OK | OK | OK | |||||||||
| Package: RIVER |
| Version: 1.16.0 |
| Command: C:\cygwin\bin\curl.exe -O http://155.52.207.165/BBS/3.13/bioc/src/contrib/RIVER_1.16.0.tar.gz && rm -rf RIVER.buildbin-libdir && mkdir RIVER.buildbin-libdir && C:\Users\biocbuild\bbs-3.13-bioc\R\bin\R.exe CMD INSTALL --merge-multiarch --build --library=RIVER.buildbin-libdir RIVER_1.16.0.tar.gz && C:\Users\biocbuild\bbs-3.13-bioc\R\bin\R.exe CMD INSTALL RIVER_1.16.0.zip && rm RIVER_1.16.0.tar.gz RIVER_1.16.0.zip |
| StartedAt: 2021-10-14 08:24:34 -0400 (Thu, 14 Oct 2021) |
| EndedAt: 2021-10-14 08:25:42 -0400 (Thu, 14 Oct 2021) |
| EllapsedTime: 68.2 seconds |
| RetCode: 0 |
| Status: OK |
##############################################################################
##############################################################################
###
### Running command:
###
### C:\cygwin\bin\curl.exe -O http://155.52.207.165/BBS/3.13/bioc/src/contrib/RIVER_1.16.0.tar.gz && rm -rf RIVER.buildbin-libdir && mkdir RIVER.buildbin-libdir && C:\Users\biocbuild\bbs-3.13-bioc\R\bin\R.exe CMD INSTALL --merge-multiarch --build --library=RIVER.buildbin-libdir RIVER_1.16.0.tar.gz && C:\Users\biocbuild\bbs-3.13-bioc\R\bin\R.exe CMD INSTALL RIVER_1.16.0.zip && rm RIVER_1.16.0.tar.gz RIVER_1.16.0.zip
###
##############################################################################
##############################################################################
% Total % Received % Xferd Average Speed Time Time Time Current
Dload Upload Total Spent Left Speed
0 0 0 0 0 0 0 0 --:--:-- --:--:-- --:--:-- 0
100 1005k 100 1005k 0 0 1409k 0 --:--:-- --:--:-- --:--:-- 1411k
install for i386
* installing *source* package 'RIVER' ...
** using staged installation
** R
** inst
** byte-compile and prepare package for lazy loading
** help
*** installing help indices
converting help for package 'RIVER'
finding HTML links ... done
RIVER html
appRIVER html
evaRIVER html
getData html
getFuncRvFeat html
getFuncRvPosteriors html
integratedEM html
mleBeta html
mleTheta html
plotPosteriors html
testPosteriors html
** building package indices
** installing vignettes
** testing if installed package can be loaded from temporary location
** testing if installed package can be loaded from final location
** testing if installed package keeps a record of temporary installation path
install for x64
* installing *source* package 'RIVER' ...
** testing if installed package can be loaded
* MD5 sums
packaged installation of 'RIVER' as RIVER_1.16.0.zip
* DONE (RIVER)
* installing to library 'C:/Users/biocbuild/bbs-3.13-bioc/R/library'
package 'RIVER' successfully unpacked and MD5 sums checked