| Back to Multiple platform build/check report for BioC 3.13 |
|
This page was generated on 2021-10-15 15:06:18 -0400 (Fri, 15 Oct 2021).
|
To the developers/maintainers of the REMP package: - Please allow up to 24 hours (and sometimes 48 hours) for your latest push to git@git.bioconductor.org:packages/REMP.git to reflect on this report. See How and When does the builder pull? When will my changes propagate? here for more information. - Make sure to use the following settings in order to reproduce any error or warning you see on this page. |
| Package 1553/2041 | Hostname | OS / Arch | INSTALL | BUILD | CHECK | BUILD BIN | ||||||||
| REMP 1.16.0 (landing page) Yinan Zheng
| nebbiolo1 | Linux (Ubuntu 20.04.2 LTS) / x86_64 | OK | OK | OK | |||||||||
| tokay2 | Windows Server 2012 R2 Standard / x64 | OK | OK | OK | OK | |||||||||
| machv2 | macOS 10.14.6 Mojave / x86_64 | OK | OK | OK | OK | |||||||||
| Package: REMP |
| Version: 1.16.0 |
| Command: C:\cygwin\bin\curl.exe -O http://155.52.207.165/BBS/3.13/bioc/src/contrib/REMP_1.16.0.tar.gz && rm -rf REMP.buildbin-libdir && mkdir REMP.buildbin-libdir && C:\Users\biocbuild\bbs-3.13-bioc\R\bin\R.exe CMD INSTALL --merge-multiarch --build --library=REMP.buildbin-libdir REMP_1.16.0.tar.gz && C:\Users\biocbuild\bbs-3.13-bioc\R\bin\R.exe CMD INSTALL REMP_1.16.0.zip && rm REMP_1.16.0.tar.gz REMP_1.16.0.zip |
| StartedAt: 2021-10-14 11:10:08 -0400 (Thu, 14 Oct 2021) |
| EndedAt: 2021-10-14 11:14:34 -0400 (Thu, 14 Oct 2021) |
| EllapsedTime: 266.2 seconds |
| RetCode: 0 |
| Status: OK |
##############################################################################
##############################################################################
###
### Running command:
###
### C:\cygwin\bin\curl.exe -O http://155.52.207.165/BBS/3.13/bioc/src/contrib/REMP_1.16.0.tar.gz && rm -rf REMP.buildbin-libdir && mkdir REMP.buildbin-libdir && C:\Users\biocbuild\bbs-3.13-bioc\R\bin\R.exe CMD INSTALL --merge-multiarch --build --library=REMP.buildbin-libdir REMP_1.16.0.tar.gz && C:\Users\biocbuild\bbs-3.13-bioc\R\bin\R.exe CMD INSTALL REMP_1.16.0.zip && rm REMP_1.16.0.tar.gz REMP_1.16.0.zip
###
##############################################################################
##############################################################################
% Total % Received % Xferd Average Speed Time Time Time Current
Dload Upload Total Spent Left Speed
0 0 0 0 0 0 0 0 --:--:-- --:--:-- --:--:-- 0
100 77906 100 77906 0 0 491k 0 --:--:-- --:--:-- --:--:-- 494k
install for i386
* installing *source* package 'REMP' ...
** using staged installation
** R
** data
*** moving datasets to lazyload DB
** inst
** byte-compile and prepare package for lazy loading
** help
*** installing help indices
converting help for package 'REMP'
finding HTML links ... done
Alu.hg19.demo html
finding level-2 HTML links ... done
Alu.hg38.demo html
GRannot html
REMP-package html
REMParcel-class html
REMProduct-class html
fetchRMSK html
fetchRefSeqGene html
findRECpG html
getBackend html
getGM12878 html
grooMethy html
initREMP html
options html
remp html
REDIRECT:topic Previous alias or file overwritten by alias: C:/Users/biocbuild/bbs-3.13-bioc/meat/REMP.buildbin-libdir/00LOCK-REMP/00new/REMP/help/remp.html
rempTemplate html
remprofile html
** building package indices
** installing vignettes
** testing if installed package can be loaded from temporary location
** testing if installed package can be loaded from final location
** testing if installed package keeps a record of temporary installation path
install for x64
* installing *source* package 'REMP' ...
** testing if installed package can be loaded
* MD5 sums
packaged installation of 'REMP' as REMP_1.16.0.zip
* DONE (REMP)
* installing to library 'C:/Users/biocbuild/bbs-3.13-bioc/R/library'
package 'REMP' successfully unpacked and MD5 sums checked