| Back to Multiple platform build/check report for BioC 3.13 |
|
This page was generated on 2021-10-15 15:06:49 -0400 (Fri, 15 Oct 2021).
|
To the developers/maintainers of the REDseq package: - Please allow up to 24 hours (and sometimes 48 hours) for your latest push to git@git.bioconductor.org:packages/REDseq.git to reflect on this report. See How and When does the builder pull? When will my changes propagate? here for more information. - Make sure to use the following settings in order to reproduce any error or warning you see on this page. |
| Package 1546/2041 | Hostname | OS / Arch | INSTALL | BUILD | CHECK | BUILD BIN | ||||||||
| REDseq 1.38.0 (landing page) Lihua Julie Zhu
| nebbiolo1 | Linux (Ubuntu 20.04.2 LTS) / x86_64 | OK | OK | OK | |||||||||
| tokay2 | Windows Server 2012 R2 Standard / x64 | OK | OK | OK | OK | |||||||||
| machv2 | macOS 10.14.6 Mojave / x86_64 | OK | OK | OK | OK | |||||||||
| Package: REDseq |
| Version: 1.38.0 |
| Command: /Library/Frameworks/R.framework/Versions/Current/Resources/bin/R CMD check --install=check:REDseq.install-out.txt --library=/Library/Frameworks/R.framework/Versions/Current/Resources/library --no-vignettes --timings REDseq_1.38.0.tar.gz |
| StartedAt: 2021-10-14 23:00:13 -0400 (Thu, 14 Oct 2021) |
| EndedAt: 2021-10-14 23:06:00 -0400 (Thu, 14 Oct 2021) |
| EllapsedTime: 346.3 seconds |
| RetCode: 0 |
| Status: OK |
| CheckDir: REDseq.Rcheck |
| Warnings: 0 |
##############################################################################
##############################################################################
###
### Running command:
###
### /Library/Frameworks/R.framework/Versions/Current/Resources/bin/R CMD check --install=check:REDseq.install-out.txt --library=/Library/Frameworks/R.framework/Versions/Current/Resources/library --no-vignettes --timings REDseq_1.38.0.tar.gz
###
##############################################################################
##############################################################################
* using log directory ‘/Users/biocbuild/bbs-3.13-bioc/meat/REDseq.Rcheck’
* using R version 4.1.1 (2021-08-10)
* using platform: x86_64-apple-darwin17.0 (64-bit)
* using session charset: UTF-8
* using option ‘--no-vignettes’
* checking for file ‘REDseq/DESCRIPTION’ ... OK
* checking extension type ... Package
* this is package ‘REDseq’ version ‘1.38.0’
* checking package namespace information ... OK
* checking package dependencies ... NOTE
Depends: includes the non-default packages:
'BiocGenerics', 'BSgenome.Celegans.UCSC.ce2', 'multtest',
'Biostrings', 'BSgenome', 'ChIPpeakAnno'
Adding so many packages to the search path is excessive and importing
selectively is preferable.
* checking if this is a source package ... OK
* checking if there is a namespace ... OK
* checking for hidden files and directories ... NOTE
Found the following hidden files and directories:
.git_fetch_output.txt
.git_merge_output.txt
These were most likely included in error. See section ‘Package
structure’ in the ‘Writing R Extensions’ manual.
* checking for portable file names ... OK
* checking for sufficient/correct file permissions ... OK
* checking whether package ‘REDseq’ can be installed ... OK
* checking installed package size ... OK
* checking package directory ... OK
* checking ‘build’ directory ... OK
* checking DESCRIPTION meta-information ... OK
* checking top-level files ... OK
* checking for left-over files ... OK
* checking index information ... OK
* checking package subdirectories ... OK
* checking R files for non-ASCII characters ... OK
* checking R files for syntax errors ... OK
* checking whether the package can be loaded ... OK
* checking whether the package can be loaded with stated dependencies ... OK
* checking whether the package can be unloaded cleanly ... OK
* checking whether the namespace can be loaded with stated dependencies ... OK
* checking whether the namespace can be unloaded cleanly ... OK
* checking dependencies in R code ... OK
* checking S3 generic/method consistency ... OK
* checking replacement functions ... OK
* checking foreign function calls ... OK
* checking R code for possible problems ... NOTE
buildREmap: no visible global function definition for 'start<-'
Undefined global functions or variables:
start<-
* checking Rd files ... OK
* checking Rd metadata ... OK
* checking Rd cross-references ... OK
* checking for missing documentation entries ... OK
* checking for code/documentation mismatches ... OK
* checking Rd \usage sections ... OK
* checking Rd contents ... OK
* checking for unstated dependencies in examples ... OK
* checking contents of ‘data’ directory ... OK
* checking data for non-ASCII characters ... OK
* checking data for ASCII and uncompressed saves ... OK
* checking sizes of PDF files under ‘inst/doc’ ... OK
* checking files in ‘vignettes’ ... OK
* checking examples ... OK
Examples with CPU (user + system) or elapsed time > 5s
user system elapsed
buildREmap 5.241 0.147 5.554
* checking for unstated dependencies in vignettes ... OK
* checking package vignettes in ‘inst/doc’ ... OK
* checking running R code from vignettes ... SKIPPED
* checking re-building of vignette outputs ... SKIPPED
* checking PDF version of manual ... OK
* DONE
Status: 3 NOTEs
See
‘/Users/biocbuild/bbs-3.13-bioc/meat/REDseq.Rcheck/00check.log’
for details.
REDseq.Rcheck/00install.out
############################################################################## ############################################################################## ### ### Running command: ### ### /Library/Frameworks/R.framework/Versions/Current/Resources/bin/R CMD INSTALL REDseq ### ############################################################################## ############################################################################## * installing to library ‘/Library/Frameworks/R.framework/Versions/4.1/Resources/library’ * installing *source* package ‘REDseq’ ... ** using staged installation ** R ** data ** inst ** byte-compile and prepare package for lazy loading No methods found in package 'IRanges' for requests: '%in%', 'rep.int' when loading 'REDseq' ** help *** installing help indices ** building package indices ** installing vignettes ** testing if installed package can be loaded from temporary location No methods found in package 'IRanges' for requests: '%in%', 'rep.int' when loading 'REDseq' ** testing if installed package can be loaded from final location No methods found in package 'IRanges' for requests: '%in%', 'rep.int' when loading 'REDseq' ** testing if installed package keeps a record of temporary installation path * DONE (REDseq)
REDseq.Rcheck/REDseq-Ex.timings
| name | user | system | elapsed | |
| REDseq-package | 0.008 | 0.002 | 0.009 | |
| assignSeq2REsite | 0.386 | 0.018 | 0.405 | |
| binom.test.REDseq | 0.010 | 0.001 | 0.010 | |
| buildREmap | 5.241 | 0.147 | 5.554 | |
| compareREDseq | 0.020 | 0.001 | 0.021 | |
| distanceHistSeq2RE | 0.033 | 0.005 | 0.038 | |
| example.REDseq | 0.001 | 0.002 | 0.003 | |
| example.assignedREDseq | 0.001 | 0.002 | 0.004 | |
| example.map | 0.001 | 0.002 | 0.003 | |
| plotCutDistribution | 0.009 | 0.004 | 0.014 | |
| searchPattern | 2.630 | 0.049 | 2.681 | |
| summarizeByRE | 0.006 | 0.004 | 0.009 | |
| summarizeBySeq | 0.005 | 0.003 | 0.008 | |
| writeHits | 0.008 | 0.001 | 0.009 | |