| Back to Multiple platform build/check report for BioC 3.13 |
|
This page was generated on 2021-10-15 15:05:49 -0400 (Fri, 15 Oct 2021).
|
To the developers/maintainers of the QUBIC package: - Please allow up to 24 hours (and sometimes 48 hours) for your latest push to git@git.bioconductor.org:packages/QUBIC.git to reflect on this report. See How and When does the builder pull? When will my changes propagate? here for more information. - Make sure to use the following settings in order to reproduce any error or warning you see on this page. |
| Package 1486/2041 | Hostname | OS / Arch | INSTALL | BUILD | CHECK | BUILD BIN | ||||||||
| QUBIC 1.20.1 (landing page) Yu Zhang
| nebbiolo1 | Linux (Ubuntu 20.04.2 LTS) / x86_64 | OK | OK | OK | |||||||||
| tokay2 | Windows Server 2012 R2 Standard / x64 | OK | OK | OK | OK | |||||||||
| machv2 | macOS 10.14.6 Mojave / x86_64 | OK | OK | OK | OK | |||||||||
| Package: QUBIC |
| Version: 1.20.1 |
| Command: /home/biocbuild/bbs-3.13-bioc/R/bin/R CMD INSTALL QUBIC |
| StartedAt: 2021-10-14 06:19:28 -0400 (Thu, 14 Oct 2021) |
| EndedAt: 2021-10-14 06:20:02 -0400 (Thu, 14 Oct 2021) |
| EllapsedTime: 33.9 seconds |
| RetCode: 0 |
| Status: OK |
##############################################################################
##############################################################################
###
### Running command:
###
### /home/biocbuild/bbs-3.13-bioc/R/bin/R CMD INSTALL QUBIC
###
##############################################################################
##############################################################################
* installing to library ‘/home/biocbuild/bbs-3.13-bioc/R/library’
* installing *source* package ‘QUBIC’ ...
** using staged installation
** libs
g++ -std=gnu++11 -I"/home/biocbuild/bbs-3.13-bioc/R/include" -DNDEBUG -I'/home/biocbuild/bbs-3.13-bioc/R/library/Rcpp/include' -I'/home/biocbuild/bbs-3.13-bioc/R/library/RcppArmadillo/include' -I/usr/local/include -fopenmp -fpic -g -O2 -Wall -c RcppExports.cpp -o RcppExports.o
g++ -std=gnu++11 -I"/home/biocbuild/bbs-3.13-bioc/R/include" -DNDEBUG -I'/home/biocbuild/bbs-3.13-bioc/R/library/Rcpp/include' -I'/home/biocbuild/bbs-3.13-bioc/R/library/RcppArmadillo/include' -I/usr/local/include -fopenmp -fpic -g -O2 -Wall -c charset.cc -o charset.o
g++ -std=gnu++11 -I"/home/biocbuild/bbs-3.13-bioc/R/include" -DNDEBUG -I'/home/biocbuild/bbs-3.13-bioc/R/library/Rcpp/include' -I'/home/biocbuild/bbs-3.13-bioc/R/library/RcppArmadillo/include' -I/usr/local/include -fopenmp -fpic -g -O2 -Wall -c cluster.cc -o cluster.o
cluster.cc: In function ‘bool internal::check_seed(const Edge*, const std::vector<Block>&, std::size_t)’:
cluster.cc:132:19: warning: comparison of integer expressions of different signedness: ‘const int’ and ‘std::size_t’ {aka ‘long unsigned int’} [-Wsign-compare]
132 | return e->score >= b3;
| ~~~~~~~~~^~~~~
g++ -std=gnu++11 -I"/home/biocbuild/bbs-3.13-bioc/R/include" -DNDEBUG -I'/home/biocbuild/bbs-3.13-bioc/R/library/Rcpp/include' -I'/home/biocbuild/bbs-3.13-bioc/R/library/RcppArmadillo/include' -I/usr/local/include -fopenmp -fpic -g -O2 -Wall -c discretize.cc -o discretize.o
g++ -std=gnu++11 -I"/home/biocbuild/bbs-3.13-bioc/R/include" -DNDEBUG -I'/home/biocbuild/bbs-3.13-bioc/R/library/Rcpp/include' -I'/home/biocbuild/bbs-3.13-bioc/R/library/RcppArmadillo/include' -I/usr/local/include -fopenmp -fpic -g -O2 -Wall -c edge_list.cc -o edge_list.o
gcc -I"/home/biocbuild/bbs-3.13-bioc/R/include" -DNDEBUG -I'/home/biocbuild/bbs-3.13-bioc/R/library/Rcpp/include' -I'/home/biocbuild/bbs-3.13-bioc/R/library/RcppArmadillo/include' -I/usr/local/include -fpic -g -O2 -Wall -c fib.c -o fib.o
g++ -std=gnu++11 -I"/home/biocbuild/bbs-3.13-bioc/R/include" -DNDEBUG -I'/home/biocbuild/bbs-3.13-bioc/R/library/Rcpp/include' -I'/home/biocbuild/bbs-3.13-bioc/R/library/RcppArmadillo/include' -I/usr/local/include -fopenmp -fpic -g -O2 -Wall -c fopen_matrix.cc -o fopen_matrix.o
g++ -std=gnu++11 -I"/home/biocbuild/bbs-3.13-bioc/R/include" -DNDEBUG -I'/home/biocbuild/bbs-3.13-bioc/R/library/Rcpp/include' -I'/home/biocbuild/bbs-3.13-bioc/R/library/RcppArmadillo/include' -I/usr/local/include -fopenmp -fpic -g -O2 -Wall -c qubic.cc -o qubic.o
g++ -std=gnu++11 -I"/home/biocbuild/bbs-3.13-bioc/R/include" -DNDEBUG -I'/home/biocbuild/bbs-3.13-bioc/R/library/Rcpp/include' -I'/home/biocbuild/bbs-3.13-bioc/R/library/RcppArmadillo/include' -I/usr/local/include -fopenmp -fpic -g -O2 -Wall -c rcpp_qubic.cpp -o rcpp_qubic.o
g++ -std=gnu++11 -I"/home/biocbuild/bbs-3.13-bioc/R/include" -DNDEBUG -I'/home/biocbuild/bbs-3.13-bioc/R/library/Rcpp/include' -I'/home/biocbuild/bbs-3.13-bioc/R/library/RcppArmadillo/include' -I/usr/local/include -fopenmp -fpic -g -O2 -Wall -c struct.cc -o struct.o
g++ -std=gnu++11 -shared -L/home/biocbuild/bbs-3.13-bioc/R/lib -L/usr/local/lib -o QUBIC.so RcppExports.o charset.o cluster.o discretize.o edge_list.o fib.o fopen_matrix.o qubic.o rcpp_qubic.o struct.o -fopenmp -L/home/biocbuild/bbs-3.13-bioc/R/lib -lR
installing to /home/biocbuild/bbs-3.13-bioc/R/library/00LOCK-QUBIC/00new/QUBIC/libs
** R
** inst
** byte-compile and prepare package for lazy loading
** help
*** installing help indices
** building package indices
** installing vignettes
** testing if installed package can be loaded from temporary location
** checking absolute paths in shared objects and dynamic libraries
** testing if installed package can be loaded from final location
** testing if installed package keeps a record of temporary installation path
* DONE (QUBIC)