| Back to Multiple platform build/check report for BioC 3.13 |
|
This page was generated on 2021-10-15 15:06:16 -0400 (Fri, 15 Oct 2021).
|
To the developers/maintainers of the PoDCall package: - Please allow up to 24 hours (and sometimes 48 hours) for your latest push to git@git.bioconductor.org:packages/PoDCall.git to reflect on this report. See How and When does the builder pull? When will my changes propagate? here for more information. - Make sure to use the following settings in order to reproduce any error or warning you see on this page. |
| Package 1409/2041 | Hostname | OS / Arch | INSTALL | BUILD | CHECK | BUILD BIN | ||||||||
| PoDCall 1.0.0 (landing page) Hans Petter Brodal
| nebbiolo1 | Linux (Ubuntu 20.04.2 LTS) / x86_64 | OK | OK | OK | |||||||||
| tokay2 | Windows Server 2012 R2 Standard / x64 | OK | OK | OK | OK | |||||||||
| machv2 | macOS 10.14.6 Mojave / x86_64 | OK | OK | OK | OK | |||||||||
| Package: PoDCall |
| Version: 1.0.0 |
| Command: C:\cygwin\bin\curl.exe -O http://155.52.207.165/BBS/3.13/bioc/src/contrib/PoDCall_1.0.0.tar.gz && rm -rf PoDCall.buildbin-libdir && mkdir PoDCall.buildbin-libdir && C:\Users\biocbuild\bbs-3.13-bioc\R\bin\R.exe CMD INSTALL --merge-multiarch --build --library=PoDCall.buildbin-libdir PoDCall_1.0.0.tar.gz && C:\Users\biocbuild\bbs-3.13-bioc\R\bin\R.exe CMD INSTALL PoDCall_1.0.0.zip && rm PoDCall_1.0.0.tar.gz PoDCall_1.0.0.zip |
| StartedAt: 2021-10-14 09:45:09 -0400 (Thu, 14 Oct 2021) |
| EndedAt: 2021-10-14 09:45:58 -0400 (Thu, 14 Oct 2021) |
| EllapsedTime: 49.1 seconds |
| RetCode: 0 |
| Status: OK |
##############################################################################
##############################################################################
###
### Running command:
###
### C:\cygwin\bin\curl.exe -O http://155.52.207.165/BBS/3.13/bioc/src/contrib/PoDCall_1.0.0.tar.gz && rm -rf PoDCall.buildbin-libdir && mkdir PoDCall.buildbin-libdir && C:\Users\biocbuild\bbs-3.13-bioc\R\bin\R.exe CMD INSTALL --merge-multiarch --build --library=PoDCall.buildbin-libdir PoDCall_1.0.0.tar.gz && C:\Users\biocbuild\bbs-3.13-bioc\R\bin\R.exe CMD INSTALL PoDCall_1.0.0.zip && rm PoDCall_1.0.0.tar.gz PoDCall_1.0.0.zip
###
##############################################################################
##############################################################################
% Total % Received % Xferd Average Speed Time Time Time Current
Dload Upload Total Spent Left Speed
0 0 0 0 0 0 0 0 --:--:-- --:--:-- --:--:-- 0
43 1663k 43 722k 0 0 2083k 0 --:--:-- --:--:-- --:--:-- 2082k
100 1663k 100 1663k 0 0 2940k 0 --:--:-- --:--:-- --:--:-- 2938k
install for i386
* installing *source* package 'PoDCall' ...
** using staged installation
** R
** data
** inst
** byte-compile and prepare package for lazy loading
** help
*** installing help indices
converting help for package 'PoDCall'
finding HTML links ... done
importAmplitudeData html
importSampleSheet html
podcallChannelPlot html
podcallDdpcr html
podcallHistogram html
podcallMultiplot html
podcallScatterplot html
podcallShiny html
podcallThresholds html
thrTable html
*** copying figures
** building package indices
** installing vignettes
** testing if installed package can be loaded from temporary location
** testing if installed package can be loaded from final location
** testing if installed package keeps a record of temporary installation path
install for x64
* installing *source* package 'PoDCall' ...
** testing if installed package can be loaded
* MD5 sums
packaged installation of 'PoDCall' as PoDCall_1.0.0.zip
* DONE (PoDCall)
* installing to library 'C:/Users/biocbuild/bbs-3.13-bioc/R/library'
package 'PoDCall' successfully unpacked and MD5 sums checked