| Back to Multiple platform build/check report for BioC 3.13 |
|
This page was generated on 2021-10-15 15:06:46 -0400 (Fri, 15 Oct 2021).
|
To the developers/maintainers of the PhyloProfile package: - Please allow up to 24 hours (and sometimes 48 hours) for your latest push to git@git.bioconductor.org:packages/PhyloProfile.git to reflect on this report. See How and When does the builder pull? When will my changes propagate? here for more information. - Make sure to use the following settings in order to reproduce any error or warning you see on this page. |
| Package 1388/2041 | Hostname | OS / Arch | INSTALL | BUILD | CHECK | BUILD BIN | ||||||||
| PhyloProfile 1.6.6 (landing page) Vinh Tran
| nebbiolo1 | Linux (Ubuntu 20.04.2 LTS) / x86_64 | OK | OK | OK | |||||||||
| tokay2 | Windows Server 2012 R2 Standard / x64 | OK | OK | OK | OK | |||||||||
| machv2 | macOS 10.14.6 Mojave / x86_64 | OK | OK | OK | OK | |||||||||
| Package: PhyloProfile |
| Version: 1.6.6 |
| Command: /Library/Frameworks/R.framework/Versions/Current/Resources/bin/R CMD check --install=check:PhyloProfile.install-out.txt --library=/Library/Frameworks/R.framework/Versions/Current/Resources/library --no-vignettes --timings PhyloProfile_1.6.6.tar.gz |
| StartedAt: 2021-10-14 22:19:27 -0400 (Thu, 14 Oct 2021) |
| EndedAt: 2021-10-14 22:22:47 -0400 (Thu, 14 Oct 2021) |
| EllapsedTime: 199.9 seconds |
| RetCode: 0 |
| Status: OK |
| CheckDir: PhyloProfile.Rcheck |
| Warnings: 0 |
############################################################################## ############################################################################## ### ### Running command: ### ### /Library/Frameworks/R.framework/Versions/Current/Resources/bin/R CMD check --install=check:PhyloProfile.install-out.txt --library=/Library/Frameworks/R.framework/Versions/Current/Resources/library --no-vignettes --timings PhyloProfile_1.6.6.tar.gz ### ############################################################################## ############################################################################## * using log directory ‘/Users/biocbuild/bbs-3.13-bioc/meat/PhyloProfile.Rcheck’ * using R version 4.1.1 (2021-08-10) * using platform: x86_64-apple-darwin17.0 (64-bit) * using session charset: UTF-8 * using option ‘--no-vignettes’ * checking for file ‘PhyloProfile/DESCRIPTION’ ... OK * this is package ‘PhyloProfile’ version ‘1.6.6’ * package encoding: UTF-8 * checking package namespace information ... OK * checking package dependencies ... OK * checking if this is a source package ... OK * checking if there is a namespace ... OK * checking for hidden files and directories ... NOTE Found the following hidden files and directories: .git_fetch_output.txt .git_merge_output.txt These were most likely included in error. See section ‘Package structure’ in the ‘Writing R Extensions’ manual. * checking for portable file names ... OK * checking for sufficient/correct file permissions ... OK * checking whether package ‘PhyloProfile’ can be installed ... OK * checking installed package size ... OK * checking package directory ... OK * checking ‘build’ directory ... OK * checking DESCRIPTION meta-information ... OK * checking top-level files ... OK * checking for left-over files ... OK * checking index information ... OK * checking package subdirectories ... OK * checking R files for non-ASCII characters ... OK * checking R files for syntax errors ... OK * checking whether the package can be loaded ... OK * checking whether the package can be loaded with stated dependencies ... OK * checking whether the package can be unloaded cleanly ... OK * checking whether the namespace can be loaded with stated dependencies ... OK * checking whether the namespace can be unloaded cleanly ... OK * checking dependencies in R code ... OK * checking S3 generic/method consistency ... OK * checking replacement functions ... OK * checking foreign function calls ... OK * checking R code for possible problems ... OK * checking Rd files ... OK * checking Rd metadata ... OK * checking Rd cross-references ... OK * checking for missing documentation entries ... OK * checking for code/documentation mismatches ... OK * checking Rd \usage sections ... OK * checking Rd contents ... OK * checking for unstated dependencies in examples ... OK * checking contents of ‘data’ directory ... OK * checking data for non-ASCII characters ... OK * checking data for ASCII and uncompressed saves ... OK * checking files in ‘vignettes’ ... OK * checking examples ... OK * checking for unstated dependencies in ‘tests’ ... OK * checking tests ... Running ‘testthat.R’ OK * checking for unstated dependencies in vignettes ... OK * checking package vignettes in ‘inst/doc’ ... OK * checking running R code from vignettes ... SKIPPED * checking re-building of vignette outputs ... SKIPPED * checking PDF version of manual ... OK * DONE Status: 1 NOTE See ‘/Users/biocbuild/bbs-3.13-bioc/meat/PhyloProfile.Rcheck/00check.log’ for details.
PhyloProfile.Rcheck/00install.out
############################################################################## ############################################################################## ### ### Running command: ### ### /Library/Frameworks/R.framework/Versions/Current/Resources/bin/R CMD INSTALL PhyloProfile ### ############################################################################## ############################################################################## * installing to library ‘/Library/Frameworks/R.framework/Versions/4.1/Resources/library’ * installing *source* package ‘PhyloProfile’ ... ** using staged installation ** R ** data ** inst ** byte-compile and prepare package for lazy loading ** help *** installing help indices ** building package indices ** installing vignettes ** testing if installed package can be loaded from temporary location ** testing if installed package can be loaded from final location ** testing if installed package keeps a record of temporary installation path * DONE (PhyloProfile)
PhyloProfile.Rcheck/tests/testthat.Rout
R version 4.1.1 (2021-08-10) -- "Kick Things"
Copyright (C) 2021 The R Foundation for Statistical Computing
Platform: x86_64-apple-darwin17.0 (64-bit)
R is free software and comes with ABSOLUTELY NO WARRANTY.
You are welcome to redistribute it under certain conditions.
Type 'license()' or 'licence()' for distribution details.
R is a collaborative project with many contributors.
Type 'contributors()' for more information and
'citation()' on how to cite R or R packages in publications.
Type 'demo()' for some demos, 'help()' for on-line help, or
'help.start()' for an HTML browser interface to help.
Type 'q()' to quit R.
> library(testthat)
> library(PhyloProfile)
>
> test_check("PhyloProfile")
[ FAIL 0 | WARN 0 | SKIP 0 | PASS 20 ]
>
> proc.time()
user system elapsed
9.632 0.577 10.195
PhyloProfile.Rcheck/PhyloProfile-Ex.timings
| name | user | system | elapsed | |
| calcPresSpec | 0.037 | 0.003 | 0.040 | |
| checkInputValidity | 0.015 | 0.001 | 0.018 | |
| checkNewick | 0.004 | 0.001 | 0.005 | |
| checkOmaID | 0.000 | 0.001 | 0.000 | |
| clusterDataDend | 0.037 | 0.002 | 0.038 | |
| compareMedianTaxonGroups | 0.046 | 0.003 | 0.049 | |
| compareTaxonGroups | 0.059 | 0.003 | 0.063 | |
| createArchiPlot | 0.716 | 0.008 | 0.724 | |
| createGeneAgePlot | 0.228 | 0.003 | 0.230 | |
| createLongMatrix | 0.038 | 0.013 | 0.052 | |
| createPercentageDistributionData | 0.557 | 0.023 | 0.579 | |
| createProfileFromOma | 0.000 | 0.001 | 0.001 | |
| createRootedTree | 0.023 | 0.002 | 0.024 | |
| createVarDistPlot | 0.182 | 0.006 | 0.187 | |
| createVariableDistributionData | 0.007 | 0.004 | 0.012 | |
| createVariableDistributionDataSubset | 0.013 | 0.002 | 0.016 | |
| dataCustomizedPlot | 0.017 | 0.003 | 0.020 | |
| dataFeatureTaxGroup | 0.022 | 0.001 | 0.024 | |
| dataMainPlot | 0.02 | 0.01 | 0.03 | |
| dataVarDistTaxGroup | 0.009 | 0.002 | 0.012 | |
| estimateGeneAge | 0.144 | 0.022 | 0.167 | |
| fastaParser | 0.070 | 0.002 | 0.072 | |
| featureDistTaxPlot | 0.192 | 0.010 | 0.201 | |
| filterProfileData | 0.205 | 0.073 | 0.279 | |
| fromInputToProfile | 0.148 | 0.028 | 0.177 | |
| geneAgePlotDf | 0.004 | 0.001 | 0.004 | |
| generateSinglePlot | 0.513 | 0.015 | 0.529 | |
| getAllDomainsOma | 0.000 | 0.000 | 0.001 | |
| getAllFastaOma | 0 | 0 | 0 | |
| getCommonAncestor | 0.068 | 0.012 | 0.080 | |
| getCoreGene | 0.165 | 0.036 | 0.202 | |
| getDataClustering | 0.017 | 0.002 | 0.019 | |
| getDataForOneOma | 0 | 0 | 0 | |
| getDendrogram | 0.068 | 0.003 | 0.071 | |
| getDistanceMatrix | 0.018 | 0.001 | 0.019 | |
| getDomainFolder | 0 | 0 | 0 | |
| getFastaFromFasInput | 0.021 | 0.001 | 0.023 | |
| getFastaFromFile | 0.015 | 0.001 | 0.016 | |
| getFastaFromFolder | 0.010 | 0.001 | 0.011 | |
| getIDsRank | 0.037 | 0.004 | 0.041 | |
| getInputTaxaID | 0.003 | 0.001 | 0.004 | |
| getInputTaxaName | 0.014 | 0.002 | 0.015 | |
| getNameList | 0.038 | 0.041 | 0.079 | |
| getOmaDataForOneOrtholog | 0 | 0 | 0 | |
| getOmaDomainFromURL | 0.000 | 0.001 | 0.000 | |
| getOmaMembers | 0.000 | 0.000 | 0.001 | |
| getQualColForVector | 0 | 0 | 0 | |
| getSelectedFastaOma | 0.000 | 0.001 | 0.000 | |
| getSelectedTaxonNames | 0.028 | 0.005 | 0.033 | |
| getTaxonomyInfo | 0.022 | 0.001 | 0.023 | |
| getTaxonomyMatrix | 0.168 | 0.133 | 0.302 | |
| getTaxonomyRanks | 0.001 | 0.000 | 0.001 | |
| gridArrangeSharedLegend | 0.647 | 0.007 | 0.654 | |
| heatmapPlotting | 0.236 | 0.009 | 0.245 | |
| highlightProfilePlot | 0.233 | 0.003 | 0.237 | |
| mainTaxonomyRank | 0.000 | 0.000 | 0.001 | |
| pairDomainPlotting | 0.000 | 0.001 | 0.001 | |
| parseDomainInput | 0.022 | 0.020 | 0.041 | |
| parseInfoProfile | 0.163 | 0.040 | 0.202 | |
| processNcbiTaxonomy | 0.121 | 0.046 | 0.190 | |
| qualitativeColours | 0 | 0 | 0 | |
| rankIndexing | 0 | 0 | 0 | |
| reduceProfile | 0.019 | 0.010 | 0.029 | |
| runPhyloProfile | 0.101 | 0.029 | 0.133 | |
| singleDomainPlotting | 0.001 | 0.001 | 0.001 | |
| sortDomains | 0.001 | 0.001 | 0.000 | |
| sortInputTaxa | 0.086 | 0.015 | 0.101 | |
| sortTaxaFromTree | 0.017 | 0.001 | 0.018 | |
| taxonomyTableCreator | 0.163 | 0.005 | 0.169 | |
| varDistTaxPlot | 1.116 | 0.011 | 1.128 | |
| wideToLong | 0.017 | 0.010 | 0.026 | |
| xmlParser | 0.027 | 0.003 | 0.032 | |